BEGIN:VCALENDAR
VERSION:2.0
PRODID:-//Northeastern University College of Engineering - ECPv6.15.18//NONSGML v1.0//EN
CALSCALE:GREGORIAN
METHOD:PUBLISH
X-WR-CALNAME:Northeastern University College of Engineering
X-ORIGINAL-URL:https://coe.northeastern.edu
X-WR-CALDESC:Events for Northeastern University College of Engineering
REFRESH-INTERVAL;VALUE=DURATION:PT1H
X-Robots-Tag:noindex
X-PUBLISHED-TTL:PT1H
BEGIN:VTIMEZONE
TZID:America/New_York
BEGIN:DAYLIGHT
TZOFFSETFROM:-0500
TZOFFSETTO:-0400
TZNAME:EDT
DTSTART:20240310T070000
END:DAYLIGHT
BEGIN:STANDARD
TZOFFSETFROM:-0400
TZOFFSETTO:-0500
TZNAME:EST
DTSTART:20241103T060000
END:STANDARD
BEGIN:DAYLIGHT
TZOFFSETFROM:-0500
TZOFFSETTO:-0400
TZNAME:EDT
DTSTART:20250309T070000
END:DAYLIGHT
BEGIN:STANDARD
TZOFFSETFROM:-0400
TZOFFSETTO:-0500
TZNAME:EST
DTSTART:20251102T060000
END:STANDARD
BEGIN:DAYLIGHT
TZOFFSETFROM:-0500
TZOFFSETTO:-0400
TZNAME:EDT
DTSTART:20260308T070000
END:DAYLIGHT
BEGIN:STANDARD
TZOFFSETFROM:-0400
TZOFFSETTO:-0500
TZNAME:EST
DTSTART:20261101T060000
END:STANDARD
END:VTIMEZONE
BEGIN:VEVENT
DTSTART;TZID=America/New_York:20251015T100000
DTEND;TZID=America/New_York:20251015T110000
DTSTAMP:20260422T123442
CREATED:20250908T134555Z
LAST-MODIFIED:20251124T145212Z
UID:53387-1760522400-1760526000@coe.northeastern.edu
SUMMARY:Crafting Posters with Visual Impact and Designing Poster Narratives:  CommLab Drop-In Hours
DESCRIPTION:Working on a poster? Stop by the CommLab Drop-In hours to brainstorm ideas\, get feedback and fine tune the visual and oral presentation of your research or project. Join any Wednesday from 10-11am in person in room 206 Egan or join virtually on Zoom. \n 
URL:https://coe.northeastern.edu/event/crafting-posters-with-visual-impact-and-designing-poster-narratives-commlab-drop-in-hours/2025-10-15/
LOCATION:206 Egan\, 360 Huntington Ave\, Boston\, MA\, 02115\, United States
GEO:42.3376753;-71.0888734
X-APPLE-STRUCTURED-LOCATION;VALUE=URI;X-ADDRESS=206 Egan 360 Huntington Ave Boston MA 02115 United States;X-APPLE-RADIUS=500;X-TITLE=360 Huntington Ave:geo:-71.0888734,42.3376753
END:VEVENT
BEGIN:VEVENT
DTSTART;TZID=America/New_York:20251015T120000
DTEND;TZID=America/New_York:20251015T160000
DTSTAMP:20260422T123442
CREATED:20250916T202513Z
LAST-MODIFIED:20250916T202513Z
UID:53653-1760529600-1760544000@coe.northeastern.edu
SUMMARY:University of Illinois at Urbana-Champaign Graduate and Professional School Fair
DESCRIPTION:Join COE Graduate Admissions at the 2025 University of Illinois at Urbana-Champaign Graduate and Professional School Fair in Urbana\, Illinois! Ask your questions about our graduate engineering programs across the U.S. and Canada during the fair on October 15th from 12pm-4pm. We look forward to meeting you there!
URL:https://coe.northeastern.edu/event/university-of-illinois-at-urbana-champaign-graduate-and-professional-school-fair/
END:VEVENT
BEGIN:VEVENT
DTSTART;TZID=America/New_York:20251015T133000
DTEND;TZID=America/New_York:20251015T143000
DTSTAMP:20260422T123442
CREATED:20250908T134401Z
LAST-MODIFIED:20251124T145251Z
UID:53318-1760535000-1760538600@coe.northeastern.edu
SUMMARY:Scientific Oral Communication : CommLab Drop-In Workshops
DESCRIPTION:The NU CommLab is hosting a weekly hybrid Scientific Oral Communication Drop-in practice for graduate students. Drop-in virtually or in-person any week to practice for your upcoming oral exams\, proposals\, thesis\, dissertation or talks. Receive and implement feedback on your verbal and non-verbal public speaking skills. Drop-in any Wednesday from 1:30-2:30 pm in 306 Egan or on Zoom. Note on September 10 and October 8 the workshop will be in 334 Curry Student Center.
URL:https://coe.northeastern.edu/event/scientific-oral-communication-commlab-drop-in-workshops-2/2025-10-15/
LOCATION:https://coe.northeastern.edu/event/scientific-oral-communication-commlab-drop-in-workshops-2/2025-10-15/
END:VEVENT
END:VCALENDAR