BEGIN:VCALENDAR
VERSION:2.0
PRODID:-//Northeastern University College of Engineering - ECPv6.15.18//NONSGML v1.0//EN
CALSCALE:GREGORIAN
METHOD:PUBLISH
X-ORIGINAL-URL:https://coe.northeastern.edu
X-WR-CALDESC:Events for Northeastern University College of Engineering
REFRESH-INTERVAL;VALUE=DURATION:PT1H
X-Robots-Tag:noindex
X-PUBLISHED-TTL:PT1H
BEGIN:VTIMEZONE
TZID:America/New_York
BEGIN:DAYLIGHT
TZOFFSETFROM:-0500
TZOFFSETTO:-0400
TZNAME:EDT
DTSTART:20240310T070000
END:DAYLIGHT
BEGIN:STANDARD
TZOFFSETFROM:-0400
TZOFFSETTO:-0500
TZNAME:EST
DTSTART:20241103T060000
END:STANDARD
BEGIN:DAYLIGHT
TZOFFSETFROM:-0500
TZOFFSETTO:-0400
TZNAME:EDT
DTSTART:20250309T070000
END:DAYLIGHT
BEGIN:STANDARD
TZOFFSETFROM:-0400
TZOFFSETTO:-0500
TZNAME:EST
DTSTART:20251102T060000
END:STANDARD
BEGIN:DAYLIGHT
TZOFFSETFROM:-0500
TZOFFSETTO:-0400
TZNAME:EDT
DTSTART:20260308T070000
END:DAYLIGHT
BEGIN:STANDARD
TZOFFSETFROM:-0400
TZOFFSETTO:-0500
TZNAME:EST
DTSTART:20261101T060000
END:STANDARD
END:VTIMEZONE
BEGIN:VEVENT
DTSTART;VALUE=DATE:20251028
DTEND;VALUE=DATE:20251102
DTSTAMP:20260423T042656
CREATED:20250916T204519Z
LAST-MODIFIED:20250916T204519Z
UID:53717-1761609600-1762041599@coe.northeastern.edu
SUMMARY:Tau Beta Pi Conference
DESCRIPTION:Join COE PhD Admissions at the 2025 Tau Beta Pi Conference in Albuquerque\, New Mexico! Ask your questions about our PhD engineering programs during the conference from October 28th-November 1st. We look forward to meeting you there!
URL:https://coe.northeastern.edu/event/tau-beta-pi-conference/
END:VEVENT
BEGIN:VEVENT
DTSTART;TZID=America/New_York:20251029T100000
DTEND;TZID=America/New_York:20251029T110000
DTSTAMP:20260423T042656
CREATED:20250908T134555Z
LAST-MODIFIED:20251124T145213Z
UID:53389-1761732000-1761735600@coe.northeastern.edu
SUMMARY:Crafting Posters with Visual Impact and Designing Poster Narratives:  CommLab Drop-In Hours
DESCRIPTION:Working on a poster? Stop by the CommLab Drop-In hours to brainstorm ideas\, get feedback and fine tune the visual and oral presentation of your research or project. Join any Wednesday from 10-11am in person in room 206 Egan or join virtually on Zoom. \n 
URL:https://coe.northeastern.edu/event/crafting-posters-with-visual-impact-and-designing-poster-narratives-commlab-drop-in-hours/2025-10-29/
LOCATION:206 Egan\, 360 Huntington Ave\, Boston\, MA\, 02115\, United States
GEO:42.3376753;-71.0888734
X-APPLE-STRUCTURED-LOCATION;VALUE=URI;X-ADDRESS=206 Egan 360 Huntington Ave Boston MA 02115 United States;X-APPLE-RADIUS=500;X-TITLE=360 Huntington Ave:geo:-71.0888734,42.3376753
END:VEVENT
BEGIN:VEVENT
DTSTART;TZID=America/New_York:20251029T120000
DTEND;TZID=America/New_York:20251029T130000
DTSTAMP:20260423T042656
CREATED:20250905T203714Z
LAST-MODIFIED:20250905T203745Z
UID:53280-1761739200-1761742800@coe.northeastern.edu
SUMMARY:Library Webinar: Accelerate your proposal development: 10 ways the library can help
DESCRIPTION:Did you know the library supports proposal development? Join us for a countdown of proposal-related questions the library can help with\, including personalized support for crafting data management plans\, improving your data visualizations and graphics\, strategies for efficient literature reviews\, and citation management. We’ll share info about the tools and people who can help you develop key proposal components and supplementary materials. Whether you’re in the early stages of developing your proposal or fine-tuning it before submission\, we’re happy to work with you. \nRegistration required.
URL:https://coe.northeastern.edu/event/library-webinar-accelerate-your-proposal-development-10-ways-the-library-can-help/
END:VEVENT
BEGIN:VEVENT
DTSTART;TZID=America/New_York:20251029T120000
DTEND;TZID=America/New_York:20251029T130000
DTSTAMP:20260423T042656
CREATED:20250916T203526Z
LAST-MODIFIED:20251003T192942Z
UID:53697-1761739200-1761742800@coe.northeastern.edu
SUMMARY:Chemical Engineering Fall Seminar Series: Zhiyong Gu
DESCRIPTION:Seminar Title: Developing Soldering Nanomaterials for Advanced Materials Joining and Bonding \nLocation: 108 Snell Engineering Center \nAbstract: Joining and bonding methods are not only necessary\, but also quite often critical in materials forming and electronic device manufacturing processes. Among various joining methods\, soldering is one of the most widely used ones\, due to its electrical conductivity and mechanical reliability\, which makes it widely used in a variety of applications such as electronics\, sensors\, transportation vehicles\, and biomedical devices. In this presentation\, I will show the synthesis and development of soldering-driven nanomaterials\, including both nanoparticles and nanowires\, for a variety of micro/nanoscale bonding and joining applications: (1) low-temperature lead-free nanosolders have been synthesized and applied for Cu-Cu joining and bonding; (2) site-selective core/shell and multi-segment nanowires have been synthesized by a combined electrodeposition and chemical reduction method\, which can be aligned and assembled by external force field such as magnetic field or electrical field\, before subsequent soldering. These nanoparticles and nanowires\, and the associated nano-soldering techniques\, have shown great promise in the assembly and construction of functional nanoelectronics and nanodevices. \n\n Dr. Zhiyong Gu is currently a Professor and Chair of the Department of Chemical Engineering at the University of Massachusetts Lowell. He received his Ph.D. from the State University of New York at Buffalo in 2004\, and worked as a Postdoctoral Fellow in the Department of Chemical and Biomolecular Engineering at the Johns Hopkins University from 2004 to 2006. In September 2006\, he joined UMass Lowell as an Assistant Professor\, was promoted to Associate Professor with Tenure in September 2012\, and then promoted to Full Professor in September 2017. He served as the Graduate Coordinator and then Associate Chair from 2012 to 2023. His research interests include synthesis of nanoparticles and nanowires\, lead-free nanosolders\, self-assembly\, nanocomposite materials\, and nanoscale joining and packaging for electronics\, sensors\, and biomedical applications. He has published 5 book chapters and over 80 peer-reviewed journal papers\, and contributed to over 200 conference presentations. He received the 3M Non-Tenured Faculty Award in 2010\, Department Teaching Excellence Award in 2011\, US EPA People\, Prosperity and the Planet (P3) Award in 2015\, and Outstanding Mentoring of Undergraduate Students Award in 2018. He is currently an Associate Editor for the Journal of Nanoparticle Research\, served as an Associate Editor for the Journal of Electronic Materials from 2015 to 2020\, and served on the Editorial Advisory Board of several other journals.
URL:https://coe.northeastern.edu/event/chemical-engineering-fall-seminar-series-zhiyong-gu/
END:VEVENT
BEGIN:VEVENT
DTSTART;TZID=America/New_York:20251029T133000
DTEND;TZID=America/New_York:20251029T143000
DTSTAMP:20260423T042656
CREATED:20250908T134401Z
LAST-MODIFIED:20251124T145252Z
UID:53320-1761744600-1761748200@coe.northeastern.edu
SUMMARY:Scientific Oral Communication : CommLab Drop-In Workshops
DESCRIPTION:The NU CommLab is hosting a weekly hybrid Scientific Oral Communication Drop-in practice for graduate students. Drop-in virtually or in-person any week to practice for your upcoming oral exams\, proposals\, thesis\, dissertation or talks. Receive and implement feedback on your verbal and non-verbal public speaking skills. Drop-in any Wednesday from 1:30-2:30 pm in 306 Egan or on Zoom. Note on September 10 and October 8 the workshop will be in 334 Curry Student Center.
URL:https://coe.northeastern.edu/event/scientific-oral-communication-commlab-drop-in-workshops-2/2025-10-29/
LOCATION:https://coe.northeastern.edu/event/scientific-oral-communication-commlab-drop-in-workshops-2/2025-10-29/
END:VEVENT
END:VCALENDAR