BEGIN:VCALENDAR
VERSION:2.0
PRODID:-//Northeastern University College of Engineering - ECPv6.15.18//NONSGML v1.0//EN
CALSCALE:GREGORIAN
METHOD:PUBLISH
X-WR-CALNAME:Northeastern University College of Engineering
X-ORIGINAL-URL:https://coe.northeastern.edu
X-WR-CALDESC:Events for Northeastern University College of Engineering
REFRESH-INTERVAL;VALUE=DURATION:PT1H
X-Robots-Tag:noindex
X-PUBLISHED-TTL:PT1H
BEGIN:VTIMEZONE
TZID:America/New_York
BEGIN:DAYLIGHT
TZOFFSETFROM:-0500
TZOFFSETTO:-0400
TZNAME:EDT
DTSTART:20240310T070000
END:DAYLIGHT
BEGIN:STANDARD
TZOFFSETFROM:-0400
TZOFFSETTO:-0500
TZNAME:EST
DTSTART:20241103T060000
END:STANDARD
BEGIN:DAYLIGHT
TZOFFSETFROM:-0500
TZOFFSETTO:-0400
TZNAME:EDT
DTSTART:20250309T070000
END:DAYLIGHT
BEGIN:STANDARD
TZOFFSETFROM:-0400
TZOFFSETTO:-0500
TZNAME:EST
DTSTART:20251102T060000
END:STANDARD
BEGIN:DAYLIGHT
TZOFFSETFROM:-0500
TZOFFSETTO:-0400
TZNAME:EDT
DTSTART:20260308T070000
END:DAYLIGHT
BEGIN:STANDARD
TZOFFSETFROM:-0400
TZOFFSETTO:-0500
TZNAME:EST
DTSTART:20261101T060000
END:STANDARD
END:VTIMEZONE
BEGIN:VTIMEZONE
TZID:Pacific/Auckland
BEGIN:STANDARD
TZOFFSETFROM:+1300
TZOFFSETTO:+1200
TZNAME:NZST
DTSTART:20240406T140000
END:STANDARD
BEGIN:DAYLIGHT
TZOFFSETFROM:+1200
TZOFFSETTO:+1300
TZNAME:NZDT
DTSTART:20240928T140000
END:DAYLIGHT
BEGIN:STANDARD
TZOFFSETFROM:+1300
TZOFFSETTO:+1200
TZNAME:NZST
DTSTART:20250405T140000
END:STANDARD
BEGIN:DAYLIGHT
TZOFFSETFROM:+1200
TZOFFSETTO:+1300
TZNAME:NZDT
DTSTART:20250927T140000
END:DAYLIGHT
BEGIN:STANDARD
TZOFFSETFROM:+1300
TZOFFSETTO:+1200
TZNAME:NZST
DTSTART:20260404T140000
END:STANDARD
BEGIN:DAYLIGHT
TZOFFSETFROM:+1200
TZOFFSETTO:+1300
TZNAME:NZDT
DTSTART:20260926T140000
END:DAYLIGHT
END:VTIMEZONE
BEGIN:VEVENT
DTSTART;TZID=America/New_York:20251105T100000
DTEND;TZID=America/New_York:20251105T110000
DTSTAMP:20260422T023007
CREATED:20250908T134555Z
LAST-MODIFIED:20251124T145213Z
UID:53390-1762336800-1762340400@coe.northeastern.edu
SUMMARY:Crafting Posters with Visual Impact and Designing Poster Narratives:  CommLab Drop-In Hours
DESCRIPTION:Working on a poster? Stop by the CommLab Drop-In hours to brainstorm ideas\, get feedback and fine tune the visual and oral presentation of your research or project. Join any Wednesday from 10-11am in person in room 206 Egan or join virtually on Zoom. \n 
URL:https://coe.northeastern.edu/event/crafting-posters-with-visual-impact-and-designing-poster-narratives-commlab-drop-in-hours/2025-11-05/
LOCATION:206 Egan\, 360 Huntington Ave\, Boston\, MA\, 02115\, United States
GEO:42.3376753;-71.0888734
X-APPLE-STRUCTURED-LOCATION;VALUE=URI;X-ADDRESS=206 Egan 360 Huntington Ave Boston MA 02115 United States;X-APPLE-RADIUS=500;X-TITLE=360 Huntington Ave:geo:-71.0888734,42.3376753
END:VEVENT
BEGIN:VEVENT
DTSTART;TZID=America/New_York:20251105T100000
DTEND;TZID=America/New_York:20251105T120000
DTSTAMP:20260422T023007
CREATED:20251016T135047Z
LAST-MODIFIED:20251016T135047Z
UID:54090-1762336800-1762344000@coe.northeastern.edu
SUMMARY:Digital Twin Models for Semiconductor Manufacturing Unit Process
DESCRIPTION:Join ECE Assistant Professor Benyamin Davaji\, head of the AIMS Lab\, as he explores how digital twin models are redefining semiconductor manufacturing. \n\nSEMI Master Class #27 will feature two thought leaders redefining the future of semiconductor process innovation — Dr. Benyamin Davaji of Northeastern University and Dr. Peter Doerschuk of Cornell University. \nDr. Davaji\, Assistant Professor of Electrical and Computer Engineering at Northeastern and head of the Autonomous Integrated Microsystems (AIMS) Lab\, merges data science\, physics\, and nanofabrication to revolutionize semiconductor manufacturing. His work on digital twin models is reshaping how we simulate\, optimize\, and scale unit processes—from lab-scale experimentation to high-volume production. \nDr. Doerschuk\, Professor of Electrical and Computer Engineering at Cornell University\, brings decades of experience in computational modeling and systems analysis. With degrees in electrical engineering from MIT and an M.D. from Harvard Medical School\, his research bridges computation and biology\, developing advanced models that drive new approaches to sensor signal processing\, pattern recognition\, and data-driven system design. \nTogether\, these speakers will explore how digital twins and computational models are transforming semiconductor process development and enabling smarter\, faster\, and more efficient manufacturing. \nIn this session\, you’ll learn:\n• How digital twins are transforming semiconductor process development\n• Real-world applications of AI and virtual metrology in printed electronics\n• Strategies for integrating computational modeling with physical systems to boost reliability and throughput \nWhether you’re an engineer\, executive\, or technologist\, this Master Class will deliver actionable insights on bridging data\, modeling\, and manufacturing. \nRegister
URL:https://coe.northeastern.edu/event/digital-twin-models-for-semiconductor-manufacturing-unit-process/
END:VEVENT
BEGIN:VEVENT
DTSTART;TZID=America/New_York:20251105T100000
DTEND;TZID=America/New_York:20251105T180000
DTSTAMP:20260422T023007
CREATED:20251028T152602Z
LAST-MODIFIED:20251028T152602Z
UID:54247-1762336800-1762365600@coe.northeastern.edu
SUMMARY:Institute for Experiential Robotics ("IER") Day
DESCRIPTION:Join us for IER Day — a full day of events\, panels\, and activities celebrating the Institute for Experiential Robotics. Explore cutting-edge research\, meet our community\, and take part in engaging discussions. \nFurther details can be found here: https://robotics.northeastern.edu/ier-day-2025/ \nPlease RSVP here: https://forms.office.com/r/HwXKhbBF1u
URL:https://coe.northeastern.edu/event/institute-for-experiential-robotics-ier-day/
LOCATION:Raytheon Amphitheater (240 Egan)\, 360 Huntington Ave\, 240 Egan\, Boston\, MA\, 02115\, United States
END:VEVENT
BEGIN:VEVENT
DTSTART;TZID=America/New_York:20251105T133000
DTEND;TZID=America/New_York:20251105T143000
DTSTAMP:20260422T023007
CREATED:20250908T134401Z
LAST-MODIFIED:20251124T145253Z
UID:53321-1762349400-1762353000@coe.northeastern.edu
SUMMARY:Scientific Oral Communication : CommLab Drop-In Workshops
DESCRIPTION:The NU CommLab is hosting a weekly hybrid Scientific Oral Communication Drop-in practice for graduate students. Drop-in virtually or in-person any week to practice for your upcoming oral exams\, proposals\, thesis\, dissertation or talks. Receive and implement feedback on your verbal and non-verbal public speaking skills. Drop-in any Wednesday from 1:30-2:30 pm in 306 Egan or on Zoom. Note on September 10 and October 8 the workshop will be in 334 Curry Student Center.
URL:https://coe.northeastern.edu/event/scientific-oral-communication-commlab-drop-in-workshops-2/2025-11-05/
LOCATION:https://coe.northeastern.edu/event/scientific-oral-communication-commlab-drop-in-workshops-2/2025-11-05/
END:VEVENT
BEGIN:VEVENT
DTSTART;TZID=Pacific/Auckland:20251105T160000
DTEND;TZID=Pacific/Auckland:20251105T180000
DTSTAMP:20260422T023007
CREATED:20251103T151248Z
LAST-MODIFIED:20251103T151248Z
UID:54315-1762358400-1762365600@coe.northeastern.edu
SUMMARY:CACS Panel Discussion 
DESCRIPTION:Join us for an exclusive career event\, in conjunction with the AIChE Annual Meeting\, featuring Anne O’Neal (President Elect of AIChE) and outstanding chemical engineers from both industry and academia. Bring your questions about career development directly to renowned professors and industry leaders and gain valuable insights into building your future. Refreshments will be provided during the panel discussion.
URL:https://coe.northeastern.edu/event/cacs-panel-discussion/
LOCATION:440 Egan\, 360 Huntington Ave\, Boston\, MA\, 02115\, United States
GEO:42.3396156;-71.0886534
X-APPLE-STRUCTURED-LOCATION;VALUE=URI;X-ADDRESS=440 Egan 360 Huntington Ave Boston MA 02115 United States;X-APPLE-RADIUS=500;X-TITLE=360 Huntington Ave:geo:-71.0886534,42.3396156
END:VEVENT
BEGIN:VEVENT
DTSTART;TZID=America/New_York:20251105T173000
DTEND;TZID=America/New_York:20251105T183000
DTSTAMP:20260422T023007
CREATED:20250923T200619Z
LAST-MODIFIED:20250923T200619Z
UID:53801-1762363800-1762367400@coe.northeastern.edu
SUMMARY:The Gordon Institute: Virtual Information Session
DESCRIPTION:Learn how you can earn a Graduate Certificate in Engineering Leadership through The Gordon Institute as a stand-alone certificate or in combination with one of 20 Master of Science degrees offered through Northeastern University College of Engineering\, Northeastern University College of Science\, or Khoury College of Computer Sciences. \nYou will have the opportunity to hear from alumni about how The Gordon Institute propelled their engineering careers\, speak with program professors about the curriculum\, and ask the director of admissions your application questions for fall 2026. \nUpcoming Information Session Dates: \n\nOctober 8\, 2025 @ 5:30 pm – 6:30 pm\nNovember 5\, 2025 @ 5:30 pm – 6:30 pm\nJanuary 14\, 2026 @ 5:30 pm – 6:30 pm\n\nThe Gordon Institute also offers one-on-one info calls with admissions representatives. If you are interested in scheduling a call\, please contact Amy Manley at a.manley@northeastern.edu. \n 
URL:https://coe.northeastern.edu/event/the-gordon-institute-virtual-information-session-2/2025-11-05/
LOCATION:Virtual
ORGANIZER;CN="Gordon Engineering Leadership program":MAILTO:gordonleadership@northeastern.edu
END:VEVENT
END:VCALENDAR