BEGIN:VCALENDAR
VERSION:2.0
PRODID:-//Northeastern University College of Engineering - ECPv6.15.18//NONSGML v1.0//EN
CALSCALE:GREGORIAN
METHOD:PUBLISH
X-WR-CALNAME:Northeastern University College of Engineering
X-ORIGINAL-URL:https://coe.northeastern.edu
X-WR-CALDESC:Events for Northeastern University College of Engineering
REFRESH-INTERVAL;VALUE=DURATION:PT1H
X-Robots-Tag:noindex
X-PUBLISHED-TTL:PT1H
BEGIN:VTIMEZONE
TZID:America/New_York
BEGIN:DAYLIGHT
TZOFFSETFROM:-0500
TZOFFSETTO:-0400
TZNAME:EDT
DTSTART:20240310T070000
END:DAYLIGHT
BEGIN:STANDARD
TZOFFSETFROM:-0400
TZOFFSETTO:-0500
TZNAME:EST
DTSTART:20241103T060000
END:STANDARD
BEGIN:DAYLIGHT
TZOFFSETFROM:-0500
TZOFFSETTO:-0400
TZNAME:EDT
DTSTART:20250309T070000
END:DAYLIGHT
BEGIN:STANDARD
TZOFFSETFROM:-0400
TZOFFSETTO:-0500
TZNAME:EST
DTSTART:20251102T060000
END:STANDARD
BEGIN:DAYLIGHT
TZOFFSETFROM:-0500
TZOFFSETTO:-0400
TZNAME:EDT
DTSTART:20260308T070000
END:DAYLIGHT
BEGIN:STANDARD
TZOFFSETFROM:-0400
TZOFFSETTO:-0500
TZNAME:EST
DTSTART:20261101T060000
END:STANDARD
END:VTIMEZONE
BEGIN:VEVENT
DTSTART;TZID=America/New_York:20251113T173000
DTEND;TZID=America/New_York:20251113T200000
DTSTAMP:20260422T023123
CREATED:20251110T144817Z
LAST-MODIFIED:20251110T144817Z
UID:54389-1763055000-1763064000@coe.northeastern.edu
SUMMARY:To Startup or Not? - Galante Program Seminar
DESCRIPTION:Join the Galante Engineering Business Program for a seminar\, To Startup or Not?\, on Thursday\, November 13\, with Dr. George Zavaliagkos — a Northeastern alum and seasoned technology leader who has navigated both startup and corporate worlds! \nDr. Zavaliagkos has built a career spanning entrepreneurship and leadership in global tech companies. With experience founding three startups and holding senior roles at Amazon Alexa\, Nuance Communications\, and Sense Labs\, Dr. Zavaliagkos has spent his career turning cutting-edge research into real-world innovation. He’ll share insights from building teams\, scaling technology\, and navigating the highs and lows of both entrepreneurship and industry leadership. \nGain practical insight into the realities of life at startups versus large companies—how they differ in innovation\, impact\, risk\, and career growth—and walk away with tools to help you decide which path best fits your goals and working style. \n📅 Thursday\, November 13 | 5:30–8:00 PM | Egan 440 | Business Formal Attire \n🔗 Register Here
URL:https://coe.northeastern.edu/event/to-startup-or-not-galante-program-seminar/
LOCATION:440 Egan\, 360 Huntington Ave\, Boston\, MA\, 02115\, United States
GEO:42.3396156;-71.0886534
X-APPLE-STRUCTURED-LOCATION;VALUE=URI;X-ADDRESS=440 Egan 360 Huntington Ave Boston MA 02115 United States;X-APPLE-RADIUS=500;X-TITLE=360 Huntington Ave:geo:-71.0886534,42.3396156
END:VEVENT
END:VCALENDAR