BEGIN:VCALENDAR
VERSION:2.0
PRODID:-//Northeastern University College of Engineering - ECPv6.15.18//NONSGML v1.0//EN
CALSCALE:GREGORIAN
METHOD:PUBLISH
X-WR-CALNAME:Northeastern University College of Engineering
X-ORIGINAL-URL:https://coe.northeastern.edu
X-WR-CALDESC:Events for Northeastern University College of Engineering
REFRESH-INTERVAL;VALUE=DURATION:PT1H
X-Robots-Tag:noindex
X-PUBLISHED-TTL:PT1H
BEGIN:VTIMEZONE
TZID:America/New_York
BEGIN:DAYLIGHT
TZOFFSETFROM:-0500
TZOFFSETTO:-0400
TZNAME:EDT
DTSTART:20250309T070000
END:DAYLIGHT
BEGIN:STANDARD
TZOFFSETFROM:-0400
TZOFFSETTO:-0500
TZNAME:EST
DTSTART:20251102T060000
END:STANDARD
BEGIN:DAYLIGHT
TZOFFSETFROM:-0500
TZOFFSETTO:-0400
TZNAME:EDT
DTSTART:20260308T070000
END:DAYLIGHT
BEGIN:STANDARD
TZOFFSETFROM:-0400
TZOFFSETTO:-0500
TZNAME:EST
DTSTART:20261101T060000
END:STANDARD
BEGIN:DAYLIGHT
TZOFFSETFROM:-0500
TZOFFSETTO:-0400
TZNAME:EDT
DTSTART:20270314T070000
END:DAYLIGHT
BEGIN:STANDARD
TZOFFSETFROM:-0400
TZOFFSETTO:-0500
TZNAME:EST
DTSTART:20271107T060000
END:STANDARD
END:VTIMEZONE
BEGIN:VEVENT
DTSTART;TZID=America/New_York:20260122T173000
DTEND;TZID=America/New_York:20260122T183000
DTSTAMP:20260422T174951
CREATED:20251205T191430Z
LAST-MODIFIED:20251205T191430Z
UID:54593-1769103000-1769106600@coe.northeastern.edu
SUMMARY:COE Global Co-op Info Session
DESCRIPTION:This is an in-person information session hosted by the College of Engineering Global Co-op Team. Location: 909 Renaissance Park \nWe will focus on searching for co-ops abroad for the Fall 2026 semester or later. \n\n\nHave you ever thought about doing co-op in another country?\nWould you like to learn more about available co-op opportunities\, or creating your own opportunities abroad?\nAre you curious about the logistics associated with a global co-op?\n\nIf you answered yes to any of these questions\, we hope you’ll attend so that we can introduce you to the search process and provide you with some important resources. \nThese info sessions are a great opportunity to connect with the COE Global Co-op Team and students who have participated in global co-op in past semesters. If you have questions or would like more information\, please find our contact information below. \nPlease register on the NUworks Calendar. \nSally Conant\, s.conant@northeastern.edu \nKristina Hubbard\, k.hubbard@northeastern.edu \nWe look forward to meeting you!
URL:https://coe.northeastern.edu/event/coe-global-co-op-info-session-13/
END:VEVENT
END:VCALENDAR