BEGIN:VCALENDAR
VERSION:2.0
PRODID:-//Northeastern University College of Engineering - ECPv6.15.18//NONSGML v1.0//EN
CALSCALE:GREGORIAN
METHOD:PUBLISH
X-WR-CALNAME:Northeastern University College of Engineering
X-ORIGINAL-URL:https://coe.northeastern.edu
X-WR-CALDESC:Events for Northeastern University College of Engineering
REFRESH-INTERVAL;VALUE=DURATION:PT1H
X-Robots-Tag:noindex
X-PUBLISHED-TTL:PT1H
BEGIN:VTIMEZONE
TZID:America/New_York
BEGIN:DAYLIGHT
TZOFFSETFROM:-0500
TZOFFSETTO:-0400
TZNAME:EDT
DTSTART:20250309T070000
END:DAYLIGHT
BEGIN:STANDARD
TZOFFSETFROM:-0400
TZOFFSETTO:-0500
TZNAME:EST
DTSTART:20251102T060000
END:STANDARD
BEGIN:DAYLIGHT
TZOFFSETFROM:-0500
TZOFFSETTO:-0400
TZNAME:EDT
DTSTART:20260308T070000
END:DAYLIGHT
BEGIN:STANDARD
TZOFFSETFROM:-0400
TZOFFSETTO:-0500
TZNAME:EST
DTSTART:20261101T060000
END:STANDARD
BEGIN:DAYLIGHT
TZOFFSETFROM:-0500
TZOFFSETTO:-0400
TZNAME:EDT
DTSTART:20270314T070000
END:DAYLIGHT
BEGIN:STANDARD
TZOFFSETFROM:-0400
TZOFFSETTO:-0500
TZNAME:EST
DTSTART:20271107T060000
END:STANDARD
END:VTIMEZONE
BEGIN:VEVENT
DTSTART;TZID=America/New_York:20260203T100000
DTEND;TZID=America/New_York:20260203T110000
DTSTAMP:20260420T115057
CREATED:20260127T153114Z
LAST-MODIFIED:20260318T203126Z
UID:55144-1770112800-1770116400@coe.northeastern.edu
SUMMARY:Crafting Data Visuals to Tell a Scientific Story: CommLab Drop-In Hours
DESCRIPTION:Looking to illustrate your data? Join our Data Visualization Drop-In sessions Tuesdays from 10-11am on Zoom to discuss strategies or receive feedback on your data visualization process.
URL:https://coe.northeastern.edu/event/crafting-data-visuals-to-tell-a-scientific-story-commlab-drop-in-hours/2026-02-03/
LOCATION:https://northeastern.zoom.us/j/99770601100?pwd=mbD3JHc7u0fjb558MDmqIHoSNBMrsS.1
END:VEVENT
BEGIN:VEVENT
DTSTART;TZID=America/New_York:20260203T110000
DTEND;TZID=America/New_York:20260203T120000
DTSTAMP:20260420T115057
CREATED:20260126T152754Z
LAST-MODIFIED:20260318T203206Z
UID:55102-1770116400-1770120000@coe.northeastern.edu
SUMMARY:CV/LinkedIn/Resume CommLab Drop-In Hours
DESCRIPTION:Graduate students\, do you need to increase your on-line presence or update your CV or Resume?  Join the CommLab’s LinkedIn\, CV\, and Resume drop-in hours any Tuesday from 11 am to 12 pm ET. This collaborative space offers valuable advice and peer feedback to enhance your online profile and professional presence. Join this drop-in workshop in person in room 334 CSC or through Zoom.
URL:https://coe.northeastern.edu/event/cv-linkedin-resume-commlab-drop-in-hours/2026-02-03/
LOCATION:https://northeastern.zoom.us/meeting/register/tJEof-quqzwiGNCi3nAuNVzIyX1jgXA03KYO
END:VEVENT
BEGIN:VEVENT
DTSTART;TZID=America/New_York:20260203T130000
DTEND;TZID=America/New_York:20260203T140000
DTSTAMP:20260420T115057
CREATED:20260126T153058Z
LAST-MODIFIED:20260126T153058Z
UID:55089-1770123600-1770127200@coe.northeastern.edu
SUMMARY:Getting Started with Zotero
DESCRIPTION:Learn how to use Zotero to increase your efficiency. Zotero is a free\, open-source citation management tool that lets you quickly create bibliographies and in-text citations in your chosen reference style. This online session will cover: how to install Zotero\, how to export references from a database to Zotero\, how to create groups to organize your research information\, how to create an online account\, and how to use Zotero with Microsoft Word and Google Docs. \nRegistration required.  \nYou will receive the Zoom link for this webinar via email one hour before the event. \nRelated LibGuide: Zotero
URL:https://coe.northeastern.edu/event/getting-started-with-zotero-3/
END:VEVENT
BEGIN:VEVENT
DTSTART;TZID=America/New_York:20260203T140000
DTEND;TZID=America/New_York:20260203T150000
DTSTAMP:20260420T115057
CREATED:20260120T152926Z
LAST-MODIFIED:20260120T152926Z
UID:54958-1770127200-1770130800@coe.northeastern.edu
SUMMARY:INSI Industry Forum Virtual Fireside Chat
DESCRIPTION:Institute for Intelligent Networked Systems Industry Forum \nDate: February 3\, 2026\nTime: 2:00–3:00 PM EST (11:00 AM–12:00 PM PST)\nFormat: Virtual Fireside Chat\nLivestream: https://youtube.com/live/4xEKEjNvz5A?feature=share \nSpeaker:\nGreg Waters\nCEO & Co-Founder\, MatrixSpace \nHost:\nTed Werth\nExecutive in Residence\, Institute for Intelligent Networked Systems\nNortheastern University \nAbout the Event\nJoin the Institute for Intelligent Networked Systems for an engaging Industry Forum fireside chat with Greg Waters\, CEO and Co-Founder of MatrixSpace. Greg will share his journey from advanced technical research to launching a successful technology company\, offering candid insights into commercialization\, entrepreneurship\, and translating innovation into real-world impact. \nDesigned for researchers working in Wireless IoT and intelligent networked systems—including faculty\, postdoctoral scholars\, PhD students\, and graduate researchers—this session will explore what it takes to move ideas from the lab to the marketplace. Attendees will gain practical perspectives on spinouts\, industry engagement\, and the challenges and opportunities of building companies around deep technology. \nWho Should Attend:\nResearchers\, students\, and innovators interested in entrepreneurship\, technology commercialization\, and industry pathways for intelligent networked systems research.
URL:https://coe.northeastern.edu/event/insi-industry-forum-virtual-fireside-chat/
LOCATION:Virtual
END:VEVENT
END:VCALENDAR