BEGIN:VCALENDAR
VERSION:2.0
PRODID:-//Northeastern University College of Engineering - ECPv6.15.18//NONSGML v1.0//EN
CALSCALE:GREGORIAN
METHOD:PUBLISH
X-WR-CALNAME:Northeastern University College of Engineering
X-ORIGINAL-URL:https://coe.northeastern.edu
X-WR-CALDESC:Events for Northeastern University College of Engineering
REFRESH-INTERVAL;VALUE=DURATION:PT1H
X-Robots-Tag:noindex
X-PUBLISHED-TTL:PT1H
BEGIN:VTIMEZONE
TZID:America/New_York
BEGIN:DAYLIGHT
TZOFFSETFROM:-0500
TZOFFSETTO:-0400
TZNAME:EDT
DTSTART:20250309T070000
END:DAYLIGHT
BEGIN:STANDARD
TZOFFSETFROM:-0400
TZOFFSETTO:-0500
TZNAME:EST
DTSTART:20251102T060000
END:STANDARD
BEGIN:DAYLIGHT
TZOFFSETFROM:-0500
TZOFFSETTO:-0400
TZNAME:EDT
DTSTART:20260308T070000
END:DAYLIGHT
BEGIN:STANDARD
TZOFFSETFROM:-0400
TZOFFSETTO:-0500
TZNAME:EST
DTSTART:20261101T060000
END:STANDARD
BEGIN:DAYLIGHT
TZOFFSETFROM:-0500
TZOFFSETTO:-0400
TZNAME:EDT
DTSTART:20270314T070000
END:DAYLIGHT
BEGIN:STANDARD
TZOFFSETFROM:-0400
TZOFFSETTO:-0500
TZNAME:EST
DTSTART:20271107T060000
END:STANDARD
END:VTIMEZONE
BEGIN:VEVENT
DTSTART;TZID=America/New_York:20260204T100000
DTEND;TZID=America/New_York:20260204T110000
DTSTAMP:20260421T052946
CREATED:20260126T201920Z
LAST-MODIFIED:20260312T182126Z
UID:55184-1770199200-1770202800@coe.northeastern.edu
SUMMARY:Intro to Quantum Seminar for the Northeastern Community
DESCRIPTION:Spring 2026\, West Village H Room 366\, Fridays 10-11am\, Weekly \nGregory A. Fiete\, Professor of Physics\, College of Science\, Northeastern University \nPurpose and Synopsis: Curious about quantum physics but not a physicist or physics major? This seminar series is your chance to learn the fundamentals of quantum physics\, quantum computing\, quantum sensing\, quantum cryptography\, and quantum communication in an informal atmosphere without the need to register for a class. The seminar\, open to all in the Northeastern community\, will begin from basics assuming no prior knowledge of quantum mechanics and build through key concepts relevant to quantum technologies. The first weeks of the seminar will feature tutorial lectures and then the seminar will host experts from across campus who will give accessible talks on their quantum research. The aim is to bring together the entire Northeastern community in a single setting for establishing multi-disciplinary ties across the university for all who have an interest in quantum. Students\, postdocs\, staff and faculty at all levels are welcome. Questions and interactive discussions during the seminar are encouraged. \nTopics Covered: Entanglement\, Measurement Disturbance of Quantum Systems\, Logic Gates\, Quantum Advantage\, No Cloning Theorem\, Quantum Teleportation\, EPR Paradox\, Spin\, Hilbert Spaces\, Basic Mathematical Structure of Quantum Mechanics\, Heisenberg Uncertainty Relations. \nSpeaker/Instructor Bio: Greg is a theoretical physicist specializing in the study of exotic quantum properties of materials. He received his PhD in physics from Harvard University and did postdoctoral work at the Kavli Institute for Theoretical Physics at UC Santa Barbara. He was a Lee A. DuBridge Prize Fellow in Theoretical Physics at Caltech. He is a recipient of the NSF CAREER Award\, the DARPA Young Faculty Award\, a DARPA Director’s Fellowship\, the Presidential Early Career Award for Scientists and Engineers (PECASE)\, a Simons Fellowship in Theoretical Physics\, and a Bessel Research Award from the Alexander von Humboldt Foundation. He is an elected Fellow of the American Physical Society. Greg is a core and founding member of the Quantum Materials and Sensing Institute (QMSI) at Northeastern University. \nSchedule of seminars
URL:https://coe.northeastern.edu/event/intro-to-quantum-seminar-for-the-northeastern-community/2026-02-04/
END:VEVENT
BEGIN:VEVENT
DTSTART;TZID=America/New_York:20260204T120000
DTEND;TZID=America/New_York:20260204T130000
DTSTAMP:20260421T052946
CREATED:20260108T155243Z
LAST-MODIFIED:20260108T155243Z
UID:54848-1770206400-1770210000@coe.northeastern.edu
SUMMARY:Bioengineering Spring Seminar Series
DESCRIPTION:BIOE 7390 – Spring 2026\nBioengineering Seminar Series Schedule\nInternal and external faculty seminar speakers\, weekly 12-1pm on Wednesdays in Richards Hall 300 \nJANUARY\n1/7 – Jonathan Weissman\, PhD\nProfessor of Biology\, Massachusetts Institute of Technology Whitehead Institute \n1/14 – Joey Davis\, PhD\nAssociate Professor Biology\, Massachusetts Institute of Technology \n1/21 – David Cronin\, MBA\n*Industry Seminar\, Industrial Advisory Board Member\nChief Executive Officer\, Cognition Corporation \n1/28 – Amir Vahabikashi\, PhD\nAssistant Professor of Bioengineering\, Northeastern University \nFEBRUARY\n2/4 – Wilson Wong\, PhD\n*Collab with CHME\nAssociate Professor of Biomedical Engineering\, Boston University \n2/11 – Christopher Evans\, PhD\nProfessor of Physical Medicine and Rehabilitation\, Mayo Clinic \n2/18 – None \n2/25 – None \nMARCH\n3/4 – None\, spring break \n3/11 – Vijay Vedula\, PhD\nAssistant Professor of Mechanical Engineering\, Columbia University \n3/18 – Ibraheem Badejo\, PhD\n*Industry Seminar\, Industrial Advisory Board Member\nSenior Director\, External Innovation\, Johnson & Johnson Innovation \n3/25 – Tao Sun\, PhD\nAssistant Professor of Bioengineering\, Northeastern University \nAPRIL\n4/1 – Marsha Rolle\, PhD\n*Collab with CHME\nDirector\, Advancement\, Massachusetts Biomedical Initiatives \n4/8 – Era Jain\, PhD\nAssistant Professor of Biomedical and Chemical Engineering\, Syracuse University \n4/15 – Meghan Rebuli\, PhD\nAssistant Professor of Pediatrics and Director of the curriculum in Toxicology and Environmental Medicine\, University of North Carolina Chapel Hill
URL:https://coe.northeastern.edu/event/bioengineering-spring-seminar-series/2026-02-04/
ORGANIZER;CN="Bioengineering":MAILTO:bioe@northeastern.edu
END:VEVENT
BEGIN:VEVENT
DTSTART;TZID=America/New_York:20260204T120000
DTEND;TZID=America/New_York:20260204T130000
DTSTAMP:20260421T052946
CREATED:20260128T162540Z
LAST-MODIFIED:20260128T162540Z
UID:53642-1770206400-1770210000@coe.northeastern.edu
SUMMARY:Chemical Engineering Spring Seminar Series: Wilson Wong
DESCRIPTION:Engineering Vaccines\, Cell and Gene Therapies Using Synthetic Biology  \nLocation: 300 Richards Hall \nAbstract: In this seminar\, I will share with you some of the work that my trainees and colleagues have done on using synthetic biology in various areas\, such as foundational circuit engineering\, cellular immunotherapy\, and vaccines. I will discuss our work on improving the specificity and safety of CART cell therapy against cancer using synthetic biology and biomaterials. I will also share our recent discovery on engineering self-amplifying RNA with reduced innate immune response and improved protein expression\, leading to a highly potent COVID-19 vaccine as demonstrated in a lethal live virus challenge in mice. \n\nDr. Wilson Wong is a Professor of Biomedical Engineering and an Allen Distinguished Investigator at Boston University. He is an expert in immune cell engineering and synthetic biology for therapeutic applications. Dr. Wong’s research has been published in numerous high-impact journals\, including Nature\, Nature Biotechnology\, Cell\, and PNAS. Dr. Wong has been recognized with multiple academic career awards\, including membership in the AIMBE\, NIH New Innovator Award\, the ACS Synthetic Biology Young Investigator Award\, the NSF CAREER Award\, and the Allen Distinguished Investigator Award. He has co-founded three companies\, with one in the clinical stage. Dr. Wong has a BS in Chemical Engineering from the University of California\, Berkeley\, and a PhD in Chemical and Biomolecular Engineering from the University of California\, Los Angeles. Dr. Wong completed his postdoctoral studies in the laboratory of Professor Wendell Lim at the University of California\, San Francisco.
URL:https://coe.northeastern.edu/event/chemical-engineering-spring-seminar-series-wilson-wong/
END:VEVENT
END:VCALENDAR