BEGIN:VCALENDAR
VERSION:2.0
PRODID:-//Northeastern University College of Engineering - ECPv6.15.18//NONSGML v1.0//EN
CALSCALE:GREGORIAN
METHOD:PUBLISH
X-WR-CALNAME:Northeastern University College of Engineering
X-ORIGINAL-URL:https://coe.northeastern.edu
X-WR-CALDESC:Events for Northeastern University College of Engineering
REFRESH-INTERVAL;VALUE=DURATION:PT1H
X-Robots-Tag:noindex
X-PUBLISHED-TTL:PT1H
BEGIN:VTIMEZONE
TZID:America/New_York
BEGIN:DAYLIGHT
TZOFFSETFROM:-0500
TZOFFSETTO:-0400
TZNAME:EDT
DTSTART:20250309T070000
END:DAYLIGHT
BEGIN:STANDARD
TZOFFSETFROM:-0400
TZOFFSETTO:-0500
TZNAME:EST
DTSTART:20251102T060000
END:STANDARD
BEGIN:DAYLIGHT
TZOFFSETFROM:-0500
TZOFFSETTO:-0400
TZNAME:EDT
DTSTART:20260308T070000
END:DAYLIGHT
BEGIN:STANDARD
TZOFFSETFROM:-0400
TZOFFSETTO:-0500
TZNAME:EST
DTSTART:20261101T060000
END:STANDARD
BEGIN:DAYLIGHT
TZOFFSETFROM:-0500
TZOFFSETTO:-0400
TZNAME:EDT
DTSTART:20270314T070000
END:DAYLIGHT
BEGIN:STANDARD
TZOFFSETFROM:-0400
TZOFFSETTO:-0500
TZNAME:EST
DTSTART:20271107T060000
END:STANDARD
END:VTIMEZONE
BEGIN:VEVENT
DTSTART;VALUE=DATE:20260209
DTEND;VALUE=DATE:20260214
DTSTAMP:20260420T023938
CREATED:20260129T190515Z
LAST-MODIFIED:20260129T190515Z
UID:55289-1770595200-1771027199@coe.northeastern.edu
SUMMARY:Love Data Week
DESCRIPTION:Love Data Week is our annual university-wide event focused on building data & AI literacy across all disciplines and roles. This year’s event runs February 9-13\, 2026\, with the theme “Where’s the Data?” \nEvent Highlights: \n\nKeynote: Ben Jones (Data Literacy LLC) presenting “Building Data & AI Literacy” on Monday\, February 9\, 1-2 PM EST\nTwo concurrent tracks of sessions daily (from approximately 10 AM – 5 PM EST)\nPresentations and workshops on a wide range of topics including data visualization\, research methods\, AI applications\, data management\, evidence-based decision making\, and much more\nContent designed for all experience levels and disciplines\nInteractive formats emphasizing active participation\nNew Data & AI Literacy in Action digital badge available for participants who attend sessions and contribute to our community of practice\n\nWhile the official theme focuses on finding and accessing data\, our 39 sessions cover the full spectrum of data & AI literacy topics relevant to faculty and staff across all departments. \nRegistration details and the full schedule
URL:https://coe.northeastern.edu/event/love-data-week/
END:VEVENT
END:VCALENDAR