BEGIN:VCALENDAR
VERSION:2.0
PRODID:-//Northeastern University College of Engineering - ECPv6.15.18//NONSGML v1.0//EN
CALSCALE:GREGORIAN
METHOD:PUBLISH
X-WR-CALNAME:Northeastern University College of Engineering
X-ORIGINAL-URL:https://coe.northeastern.edu
X-WR-CALDESC:Events for Northeastern University College of Engineering
REFRESH-INTERVAL;VALUE=DURATION:PT1H
X-Robots-Tag:noindex
X-PUBLISHED-TTL:PT1H
BEGIN:VTIMEZONE
TZID:America/New_York
BEGIN:DAYLIGHT
TZOFFSETFROM:-0500
TZOFFSETTO:-0400
TZNAME:EDT
DTSTART:20250309T070000
END:DAYLIGHT
BEGIN:STANDARD
TZOFFSETFROM:-0400
TZOFFSETTO:-0500
TZNAME:EST
DTSTART:20251102T060000
END:STANDARD
BEGIN:DAYLIGHT
TZOFFSETFROM:-0500
TZOFFSETTO:-0400
TZNAME:EDT
DTSTART:20260308T070000
END:DAYLIGHT
BEGIN:STANDARD
TZOFFSETFROM:-0400
TZOFFSETTO:-0500
TZNAME:EST
DTSTART:20261101T060000
END:STANDARD
BEGIN:DAYLIGHT
TZOFFSETFROM:-0500
TZOFFSETTO:-0400
TZNAME:EDT
DTSTART:20270314T070000
END:DAYLIGHT
BEGIN:STANDARD
TZOFFSETFROM:-0400
TZOFFSETTO:-0500
TZNAME:EST
DTSTART:20271107T060000
END:STANDARD
END:VTIMEZONE
BEGIN:VEVENT
DTSTART;TZID=America/New_York:20260330T113000
DTEND;TZID=America/New_York:20260330T123000
DTSTAMP:20260420T115052
CREATED:20260326T182534Z
LAST-MODIFIED:20260326T184433Z
UID:56044-1774870200-1774873800@coe.northeastern.edu
SUMMARY:JOINT SPECIAL COLLOQUIUM: New Degrees of Freedom for Quantum Hardware
DESCRIPTION:JOINT SPECIAL COLLOQUIUM\nCollege of Science\, College of Engineering & Quantum Materials and Sensing Institute (QMSI)\nNew Degrees of Freedom for Quantum Hardware\nDr. Haoxin Zhou\nUniversity of California\, Berkeley \nMonday\, Mar 30\, 2026; 11:30am to 12:30p.m.\nHosts: Prof. Arun Bansil & Prof. Kin Chung Fong \nVenue: Elliott Hall – Room 130C\, 147 S. Bedford St\, Burlington\, MA\nRemote: MS Teams Link\nAbstract \nRealizing the full potential of quantum information processing requires overcoming fundamental limitations in qubit coherence\, connectivity\, and scalability. One promising pathway is to harness new quantum degrees of freedom in emerging materials to build hybrid quantum hardware. Advances in condensed matter physics have revealed rich macroscopic quantum phenomena in solids\, arising from collective dynamics of electrons and lattice vibrations. Harnessing these excitations opens new opportunities for storing\, transmitting\, and manipulating quantum information. \nIn this talk\, I will explore how such phenomena emerge and how they can be integrated into quantum devices. I will first briefly illustrate how strong electronic interactions generate macroscopic quantum coherence\, for example in graphene van der Waals heterostructures. I will then present recent work revealing interface-induced piezoelectric coupling in superconducting circuits\, which introduces a new qubit decoherence channel while also enabling coherent coupling to acoustic phonons. Finally\, I will outline future directions for hybrid quantum platforms integrating phonons and other collective excitations\, and discuss how artificial intelligence may assist the control and optimization of these complex architectures.\nBiography \nHaoxin Zhou is a postdoctoral researcher at the University of California\, Berkeley\, working with Prof. Alp Sipahigil. His research lies at the intersection of circuit quantum electrodynamics and condensed matter physics\, exploring hybrid quantum systems that couple superconducting qubits to acoustic phonons. He received his Ph.D. in Physics from the University of California\, Santa Barbara\, in 2021\, where he worked with Prof. Andrea Young on correlated electronic phases in graphene Van der Waals heterostructures utilizing cryogenic electrical measurements. He received his B.S. in Physics from the University of Science and Technology of China in 2015.
URL:https://coe.northeastern.edu/event/joint-special-colloquium-new-degrees-of-freedom-for-quantum-hardware/
END:VEVENT
BEGIN:VEVENT
DTSTART;TZID=America/New_York:20260330T140000
DTEND;TZID=America/New_York:20260330T160000
DTSTAMP:20260420T115052
CREATED:20260326T135942Z
LAST-MODIFIED:20260326T135942Z
UID:56030-1774879200-1774886400@coe.northeastern.edu
SUMMARY:The Last Cookies with This Dean
DESCRIPTION:All COE students are invited to join COE Dean Gregory Abowd one last time for cookies and other treats in the first-floor lobby of the Snell Engineering Center.
URL:https://coe.northeastern.edu/event/the-last-cookies-with-this-dean/
END:VEVENT
END:VCALENDAR