BEGIN:VCALENDAR
VERSION:2.0
PRODID:-//Northeastern University College of Engineering - ECPv6.15.20//NONSGML v1.0//EN
CALSCALE:GREGORIAN
METHOD:PUBLISH
X-ORIGINAL-URL:https://coe.northeastern.edu
X-WR-CALDESC:Events for Northeastern University College of Engineering
REFRESH-INTERVAL;VALUE=DURATION:PT1H
X-Robots-Tag:noindex
X-PUBLISHED-TTL:PT1H
BEGIN:VTIMEZONE
TZID:America/New_York
BEGIN:DAYLIGHT
TZOFFSETFROM:-0500
TZOFFSETTO:-0400
TZNAME:EDT
DTSTART:20250309T070000
END:DAYLIGHT
BEGIN:STANDARD
TZOFFSETFROM:-0400
TZOFFSETTO:-0500
TZNAME:EST
DTSTART:20251102T060000
END:STANDARD
BEGIN:DAYLIGHT
TZOFFSETFROM:-0500
TZOFFSETTO:-0400
TZNAME:EDT
DTSTART:20260308T070000
END:DAYLIGHT
BEGIN:STANDARD
TZOFFSETFROM:-0400
TZOFFSETTO:-0500
TZNAME:EST
DTSTART:20261101T060000
END:STANDARD
BEGIN:DAYLIGHT
TZOFFSETFROM:-0500
TZOFFSETTO:-0400
TZNAME:EDT
DTSTART:20270314T070000
END:DAYLIGHT
BEGIN:STANDARD
TZOFFSETFROM:-0400
TZOFFSETTO:-0500
TZNAME:EST
DTSTART:20271107T060000
END:STANDARD
END:VTIMEZONE
BEGIN:VEVENT
DTSTART;TZID=America/New_York:20260402T110000
DTEND;TZID=America/New_York:20260402T120000
DTSTAMP:20260425T122011
CREATED:20260127T153157Z
LAST-MODIFIED:20260318T203057Z
UID:55139-1775127600-1775131200@coe.northeastern.edu
SUMMARY:Oral Presentations: CommLab Drop-In Workshops
DESCRIPTION:The NU CommLab is hosting a weekly hybrid Oral Presentation Drop-in practice for graduate students. Drop-in virtually or in-person any week to practice for your upcoming presentations whether it is for your oral exams\, proposals\, thesis\, dissertation or conference. Receive and implement feedback on your verbal and non-verbal public speaking skills. Drop-in any Thursday from 11-12 pm ET in 334 Curry Student Center or on Zoom.
URL:https://coe.northeastern.edu/event/oral-presentations-commlab-drop-in-workshops/2026-04-02/
LOCATION:https://northeastern.zoom.us/meeting/register/Z5yCbd9WQ_OvtJoYqYSsMA
END:VEVENT
BEGIN:VEVENT
DTSTART;TZID=America/New_York:20260402T120000
DTEND;TZID=America/New_York:20260402T140000
DTSTAMP:20260425T122011
CREATED:20260402T134711Z
LAST-MODIFIED:20260402T134711Z
UID:56135-1775131200-1775138400@coe.northeastern.edu
SUMMARY:MGEN Speaker Series: Connecting with Impact – Networking\, Communication\, and Your Professional Brand
DESCRIPTION:MGEN Speaker Series: Connecting with Impact – Networking\, Communication\, and Your Professional Brand \nYou are invited to join the MGEN Speaker Series for a workshop session featuring Elena Raileanu\, a former journalist turned HR professional with over 15 years of experience working closely with leaders\, teams\, and job seekers. \nElena brings a practical\, human-centered approach to communication and professional growth. In this session\, she will share insights on how to build meaningful connections\, communicate effectively\, and develop your professional brand. She will also discuss real-world experiences from her career and offer guidance on finding your voice in the workplace—making this a valuable opportunity for students preparing to enter or grow within their careers. \nEvent Details\n📅 Date: Thursday\, April 2nd\n⏰ Time: 12:00 PM ET\n📍 Location: Hastings 211\, Boston Campus\n🍕 Pizza will be provided! \nWe encourage you to register early and take advantage of this opportunity to learn from an experienced professional\, gain actionable insights\, and connect with your peers.
URL:https://coe.northeastern.edu/event/mgen-speaker-series-connecting-with-impact-networking-communication-and-your-professional-brand/
END:VEVENT
END:VCALENDAR