BEGIN:VCALENDAR
VERSION:2.0
PRODID:-//Northeastern University College of Engineering - ECPv6.15.18//NONSGML v1.0//EN
CALSCALE:GREGORIAN
METHOD:PUBLISH
X-WR-CALNAME:Northeastern University College of Engineering
X-ORIGINAL-URL:https://coe.northeastern.edu
X-WR-CALDESC:Events for Northeastern University College of Engineering
REFRESH-INTERVAL;VALUE=DURATION:PT1H
X-Robots-Tag:noindex
X-PUBLISHED-TTL:PT1H
BEGIN:VTIMEZONE
TZID:America/New_York
BEGIN:DAYLIGHT
TZOFFSETFROM:-0500
TZOFFSETTO:-0400
TZNAME:EDT
DTSTART:20250309T070000
END:DAYLIGHT
BEGIN:STANDARD
TZOFFSETFROM:-0400
TZOFFSETTO:-0500
TZNAME:EST
DTSTART:20251102T060000
END:STANDARD
BEGIN:DAYLIGHT
TZOFFSETFROM:-0500
TZOFFSETTO:-0400
TZNAME:EDT
DTSTART:20260308T070000
END:DAYLIGHT
BEGIN:STANDARD
TZOFFSETFROM:-0400
TZOFFSETTO:-0500
TZNAME:EST
DTSTART:20261101T060000
END:STANDARD
BEGIN:DAYLIGHT
TZOFFSETFROM:-0500
TZOFFSETTO:-0400
TZNAME:EDT
DTSTART:20270314T070000
END:DAYLIGHT
BEGIN:STANDARD
TZOFFSETFROM:-0400
TZOFFSETTO:-0500
TZNAME:EST
DTSTART:20271107T060000
END:STANDARD
END:VTIMEZONE
BEGIN:VEVENT
DTSTART;TZID=America/New_York:20260403T090000
DTEND;TZID=America/New_York:20260403T190000
DTSTAMP:20260419T175851
CREATED:20260313T195710Z
LAST-MODIFIED:20260313T195710Z
UID:55931-1775206800-1775242800@coe.northeastern.edu
SUMMARY:Video Understanding AI Hackathon at Northeastern
DESCRIPTION:Join our in-person AI Hackathon focused on video understanding using the FiftyOne open-source ecosystem and TwelveLabs’ models and APIs. \nRegister \n\nTime and Location\n\n9 AM – 4:30 PM – Raytheon Auditorium\n5-7 PM – Second Floor Suites (demos\, prizes)\n\nSchedule\n\n10:00 AM – Welcome\n10:15 AM – Find teammates\n10:30 AM – Introduction to the hackathon\n10:45 AM – Introduction to FiftyOne\n11:00 AM – Using TwelveLabs Models\n11:15 AM – Hands on with TwelveLabs + FiftyOne\n11:45 AM – Define your use case\n12:00 PM – Catered Lunch\n12:30 PM – Hacking!\n3:00 PM – First push to GitHub\n5:00 PM – Final push to GitHub & judging begins\n\nPrerequisites Checklist\n\nCheck out this GitHub repo for details\nRegister for a TwelveLabs account and get an API key\nSet up your environment: Install FiftyOne and TwelveLabs\nView example video datasets at Hugging Face Hub\nEnablement Asset in GitHub\nAdditional resources\n\nAwards\nProjects will be judged across fun\, hackathon-style categories.\n\n🏆 Grand Prize — Overall Champion\n🧹 Best Data Curation Plugin\n🚀 Most Deployable\n🤡 Least Useful (But Hilarious)
URL:https://coe.northeastern.edu/event/video-understanding-ai-hackathon-at-northeastern/
LOCATION:Raytheon Amphitheater (240 Egan)\, 360 Huntington Ave\, 240 Egan\, Boston\, MA\, 02115\, United States
END:VEVENT
BEGIN:VEVENT
DTSTART;TZID=America/New_York:20260403T113000
DTEND;TZID=America/New_York:20260403T123000
DTSTAMP:20260419T175851
CREATED:20260326T184109Z
LAST-MODIFIED:20260326T184109Z
UID:56049-1775215800-1775219400@coe.northeastern.edu
SUMMARY:JOINT SPECIAL COLLOQUIUM: AI-Optimized Advanced Packaging for Next-Generation Computing
DESCRIPTION:JOINT SPECIAL COLLOQUIUM \nCollege of Science\, College of Engineering & Quantum Materials and Sensing Institute (QMSI)\nAI-Optimized Advanced Packaging for Next-Generation Computing\nDr. Rabindra Das\nMIT Lincoln Laboratory \nFriday\, Apr 3\, 2026; 11:30am to 12:30pm\nHosts: Prof. Arun Bansil & Prof. Kin Chung Fong \nVenue: Elliott Hall – Room 130C\, 147 S. Bedford St\, Burlington\, MA\nRemote: MS Teams Link \nAbstract \nThe rapid growth of artificial intelligence (AI)\, high-performance computing (HPC)\, and data-intensive sensing systems is creating unprecedented demands for computational capability\, energy efficiency\, and system integration. Applications such as autonomous sensing platforms\, satellites\, and unmanned aerial and underwater vehicles increasingly require powerful onboard processing to analyze large volumes of data in real time. As conventional transistor scaling slows\, advanced packaging and heterogeneous integration are emerging as critical technologies for enabling next-generation computing systems. \nThis talk presents a research vision for AI-optimized advanced packaging\, where artificial intelligence techniques—particularly decision-tree-based optimization—are used to guide the design and fabrication of complex heterogeneous microsystems. AI-driven approaches enable optimization of substrate fabrication\, chiplet placement\, interconnect routing\, power delivery\, and thermal management across multi-chip systems. A central focus is the development of heterogeneous System-on-Wafer (SoW) architectures\, integrating tens to hundreds of chiplets on a single wafer substrate to achieve extraordinary computing density. A case study on superconducting wafer-scale multi-chip modules with ultra-fine-pitch micro-bump interconnects demonstrates how advanced packaging can address key challenges in scalability\, interconnect density\, and system performance for future AI\, HPC\, and quantum computing platforms. \nBiography \nRabindra N. Das\, Ph.D. is a Member of the Technical Staff in the Advanced Technology Division at MIT Lincoln Laboratory\, Lexington\, MA. Previously\, he served as a Principal Engineer at Endicott Interconnect Technologies (formerly IBM Endicott). Dr. Das has more than 23 years of experience in microelectronics packaging and heterogeneous integration\, spanning high-performance computing\, medical electronics\, and superconducting quantum hardware systems. He has authored 135+ technical publications and holds 51 patents in microelectronics packaging technologies. He has been recognized for four consecutive years (2020–2023) in Stanford University’s list of the world’s top 2% most-cited scientists.
URL:https://coe.northeastern.edu/event/joint-special-colloquium-ai-optimized-advanced-packaging-for-next-generation-computing/
END:VEVENT
BEGIN:VEVENT
DTSTART;TZID=America/New_York:20260403T120000
DTEND;TZID=America/New_York:20260403T140000
DTSTAMP:20260419T175851
CREATED:20260310T173057Z
LAST-MODIFIED:20260310T173057Z
UID:55826-1775217600-1775224800@coe.northeastern.edu
SUMMARY:Chemical Engineering Spring Capstone Poster Session
DESCRIPTION:Come join us in celebrating our students’ capstone projects! Explore our graduating seniors’ incredible posters and groundbreaking research.
URL:https://coe.northeastern.edu/event/chemical-engineering-spring-capstone-poster-session-2/
LOCATION:McLeod Suites\, 360 Huntington Ave\, 318-322 CSC\, Boston\, MA\, 02115\, United States
END:VEVENT
BEGIN:VEVENT
DTSTART;TZID=America/New_York:20260403T170000
DTEND;TZID=America/New_York:20260403T190000
DTSTAMP:20260419T175851
CREATED:20251117T144455Z
LAST-MODIFIED:20251117T144455Z
UID:54447-1775235600-1775242800@coe.northeastern.edu
SUMMARY:Chemical Engineering 2026 Annual Awards Ceremony
DESCRIPTION:This is the annual event for our community to celebrate the department\, College\, University\, and external awards and achievements given over the past year. \n**Parking is available for a fee at Gainsborough and Renaissance Park Garages. There are also meters on Columbus Ave. Lyft and Uber are also suggested. MBTA commuters can take the Orange Line to the Ruggles stop.**
URL:https://coe.northeastern.edu/event/chemical-engineering-2026-annual-awards-ceremony/
LOCATION:Alumni Center\, 716 Columbus Ave\, 6th Floor\, Boston\, MA\, 02120\, United States
GEO:42.3376775;-71.0852898
X-APPLE-STRUCTURED-LOCATION;VALUE=URI;X-ADDRESS=Alumni Center 716 Columbus Ave 6th Floor Boston MA 02120 United States;X-APPLE-RADIUS=500;X-TITLE=716 Columbus Ave\, 6th Floor:geo:-71.0852898,42.3376775
END:VEVENT
END:VCALENDAR