BEGIN:VCALENDAR
VERSION:2.0
PRODID:-//Northeastern University College of Engineering - ECPv6.15.18//NONSGML v1.0//EN
CALSCALE:GREGORIAN
METHOD:PUBLISH
X-WR-CALNAME:Northeastern University College of Engineering
X-ORIGINAL-URL:https://coe.northeastern.edu
X-WR-CALDESC:Events for Northeastern University College of Engineering
REFRESH-INTERVAL;VALUE=DURATION:PT1H
X-Robots-Tag:noindex
X-PUBLISHED-TTL:PT1H
BEGIN:VTIMEZONE
TZID:America/New_York
BEGIN:DAYLIGHT
TZOFFSETFROM:-0500
TZOFFSETTO:-0400
TZNAME:EDT
DTSTART:20250309T070000
END:DAYLIGHT
BEGIN:STANDARD
TZOFFSETFROM:-0400
TZOFFSETTO:-0500
TZNAME:EST
DTSTART:20251102T060000
END:STANDARD
BEGIN:DAYLIGHT
TZOFFSETFROM:-0500
TZOFFSETTO:-0400
TZNAME:EDT
DTSTART:20260308T070000
END:DAYLIGHT
BEGIN:STANDARD
TZOFFSETFROM:-0400
TZOFFSETTO:-0500
TZNAME:EST
DTSTART:20261101T060000
END:STANDARD
BEGIN:DAYLIGHT
TZOFFSETFROM:-0500
TZOFFSETTO:-0400
TZNAME:EDT
DTSTART:20270314T070000
END:DAYLIGHT
BEGIN:STANDARD
TZOFFSETFROM:-0400
TZOFFSETTO:-0500
TZNAME:EST
DTSTART:20271107T060000
END:STANDARD
END:VTIMEZONE
BEGIN:VEVENT
DTSTART;TZID=America/New_York:20260414T090000
DTEND;TZID=America/New_York:20260414T100000
DTSTAMP:20260420T235637
CREATED:20260406T145624Z
LAST-MODIFIED:20260406T145810Z
UID:56180-1776157200-1776160800@coe.northeastern.edu
SUMMARY:Donuts and Donations
DESCRIPTION:Make Your Mark on Giving Day — and Grab a Donut! \nToday is the day to power the future of engineering at Northeastern! Whether it’s supporting student scholarships\, groundbreaking research\, or our top-ranked co-op programs\, your gift makes a direct impact on the College of Engineering community. \nTo celebrate\, we’re hosting Donuts with the Dean! Stop by to say hello\, grab a treat\, and learn how your contribution helps our students become next-generation leaders. \nWhere to find us \n📍 Outside Snell Engineering Center (Near the entryway facing the Egan Building) \nWhen to stop by \n🍩 Morning Session | 9:00 AM – 10:00 AM \n🍩 Afternoon Session | 3:30 PM – 4:30 PM \nEvery gift\, no matter the size\, helps us reach our goals. Let’s show the world what the COE community can do when we work together.
URL:https://coe.northeastern.edu/event/donuts-and-donations/2026-04-14/
END:VEVENT
BEGIN:VEVENT
DTSTART;TZID=America/New_York:20260414T100000
DTEND;TZID=America/New_York:20260414T110000
DTSTAMP:20260420T235637
CREATED:20260127T153114Z
LAST-MODIFIED:20260318T203138Z
UID:55155-1776160800-1776164400@coe.northeastern.edu
SUMMARY:Crafting Data Visuals to Tell a Scientific Story: CommLab Drop-In Hours
DESCRIPTION:Looking to illustrate your data? Join our Data Visualization Drop-In sessions Tuesdays from 10-11am on Zoom to discuss strategies or receive feedback on your data visualization process.
URL:https://coe.northeastern.edu/event/crafting-data-visuals-to-tell-a-scientific-story-commlab-drop-in-hours/2026-04-14/
LOCATION:https://northeastern.zoom.us/j/99770601100?pwd=mbD3JHc7u0fjb558MDmqIHoSNBMrsS.1
END:VEVENT
BEGIN:VEVENT
DTSTART;TZID=America/New_York:20260414T110000
DTEND;TZID=America/New_York:20260414T120000
DTSTAMP:20260420T235637
CREATED:20260126T152754Z
LAST-MODIFIED:20260318T203219Z
UID:55113-1776164400-1776168000@coe.northeastern.edu
SUMMARY:CV/LinkedIn/Resume CommLab Drop-In Hours
DESCRIPTION:Graduate students\, do you need to increase your on-line presence or update your CV or Resume?  Join the CommLab’s LinkedIn\, CV\, and Resume drop-in hours any Tuesday from 11 am to 12 pm ET. This collaborative space offers valuable advice and peer feedback to enhance your online profile and professional presence. Join this drop-in workshop in person in room 334 CSC or through Zoom.
URL:https://coe.northeastern.edu/event/cv-linkedin-resume-commlab-drop-in-hours/2026-04-14/
LOCATION:https://northeastern.zoom.us/meeting/register/tJEof-quqzwiGNCi3nAuNVzIyX1jgXA03KYO
END:VEVENT
END:VCALENDAR