BEGIN:VCALENDAR
VERSION:2.0
PRODID:-//Northeastern University College of Engineering - ECPv6.15.18//NONSGML v1.0//EN
CALSCALE:GREGORIAN
METHOD:PUBLISH
X-WR-CALNAME:Northeastern University College of Engineering
X-ORIGINAL-URL:https://coe.northeastern.edu
X-WR-CALDESC:Events for Northeastern University College of Engineering
REFRESH-INTERVAL;VALUE=DURATION:PT1H
X-Robots-Tag:noindex
X-PUBLISHED-TTL:PT1H
BEGIN:VTIMEZONE
TZID:America/New_York
BEGIN:DAYLIGHT
TZOFFSETFROM:-0500
TZOFFSETTO:-0400
TZNAME:EDT
DTSTART:20190310T070000
END:DAYLIGHT
BEGIN:STANDARD
TZOFFSETFROM:-0400
TZOFFSETTO:-0500
TZNAME:EST
DTSTART:20191103T060000
END:STANDARD
BEGIN:DAYLIGHT
TZOFFSETFROM:-0500
TZOFFSETTO:-0400
TZNAME:EDT
DTSTART:20200308T070000
END:DAYLIGHT
BEGIN:STANDARD
TZOFFSETFROM:-0400
TZOFFSETTO:-0500
TZNAME:EST
DTSTART:20201101T060000
END:STANDARD
BEGIN:DAYLIGHT
TZOFFSETFROM:-0500
TZOFFSETTO:-0400
TZNAME:EDT
DTSTART:20210314T070000
END:DAYLIGHT
BEGIN:STANDARD
TZOFFSETFROM:-0400
TZOFFSETTO:-0500
TZNAME:EST
DTSTART:20211107T060000
END:STANDARD
END:VTIMEZONE
BEGIN:VEVENT
DTSTART;VALUE=DATE:20200203
DTEND;VALUE=DATE:20200306
DTSTAMP:20260419T141213
CREATED:20200129T144506Z
LAST-MODIFIED:20200129T144506Z
UID:19430-1580688000-1583452799@coe.northeastern.edu
SUMMARY:Call for submissions for Research: Art or Science? Exhibition!
DESCRIPTION:Submit an image of your research to the third annual Research: Art or Science? Exhibition for a unique opportunity to have your work displayed on campus and win a cash prize! Visit Art or Science? for more information and to submit.
URL:https://coe.northeastern.edu/event/call-for-submissions-for-research-art-or-science-exhibition/
END:VEVENT
BEGIN:VEVENT
DTSTART;TZID=America/New_York:20200310T113000
DTEND;TZID=America/New_York:20200310T120000
DTSTAMP:20260419T141213
CREATED:20200228T202848Z
LAST-MODIFIED:20200228T202848Z
UID:19972-1583839800-1583841600@coe.northeastern.edu
SUMMARY:3D Printing Form 2
DESCRIPTION:This workshop is an introduction to the Form 2 3D printer. Learn how to start\, wash\, and cure a print job \nSign up using this link! \nView the Sherman Center Calendar for more events!
URL:https://coe.northeastern.edu/event/3d-printing-form-2-9/
LOCATION:010 Hayden Hall\, 010 Hayden Hall\, 360 Huntington Ave\, Boston\, MA\, 02115\, United States
ORGANIZER;CN="Michael J. and Ann Sherman Center for Engineering Entrepreneurship Education":MAILTO:sherman@northeastern.edu
GEO:42.3394629;-71.0885286
X-APPLE-STRUCTURED-LOCATION;VALUE=URI;X-ADDRESS=010 Hayden Hall 010 Hayden Hall 360 Huntington Ave Boston MA 02115 United States;X-APPLE-RADIUS=500;X-TITLE=010 Hayden Hall\, 360 Huntington Ave:geo:-71.0885286,42.3394629
END:VEVENT
BEGIN:VEVENT
DTSTART;TZID=America/New_York:20200310T153000
DTEND;TZID=America/New_York:20200310T160000
DTSTAMP:20260419T141213
CREATED:20200228T202929Z
LAST-MODIFIED:20200228T202929Z
UID:19974-1583854200-1583856000@coe.northeastern.edu
SUMMARY:3D Printing Prusa
DESCRIPTION:This workshop is an introduction to the Prusa 3D printer. Learn how to load filament\, start a print job\, and remove prints from the print bed \nSign up using this link! \nView the Sherman Center Calendar for more events!
URL:https://coe.northeastern.edu/event/3d-printing-prusa-9/
LOCATION:010 Hayden Hall\, 010 Hayden Hall\, 360 Huntington Ave\, Boston\, MA\, 02115\, United States
ORGANIZER;CN="Michael J. and Ann Sherman Center for Engineering Entrepreneurship Education":MAILTO:sherman@northeastern.edu
GEO:42.3394629;-71.0885286
X-APPLE-STRUCTURED-LOCATION;VALUE=URI;X-ADDRESS=010 Hayden Hall 010 Hayden Hall 360 Huntington Ave Boston MA 02115 United States;X-APPLE-RADIUS=500;X-TITLE=010 Hayden Hall\, 360 Huntington Ave:geo:-71.0885286,42.3394629
END:VEVENT
BEGIN:VEVENT
DTSTART;TZID=America/New_York:20200311T103000
DTEND;TZID=America/New_York:20200311T110000
DTSTAMP:20260419T141213
CREATED:20200228T203005Z
LAST-MODIFIED:20200228T203005Z
UID:19976-1583922600-1583924400@coe.northeastern.edu
SUMMARY:Basic Soldering
DESCRIPTION:This workshop is an introduction to soldering. Learn how to solder two wires together and apply heat-shrink tubing using a Weller soldering station and an SMD Rework station \nSign up using this link! \nView the Sherman Center Calendar for more events!
URL:https://coe.northeastern.edu/event/basic-soldering-9/
LOCATION:010 Hayden Hall\, 010 Hayden Hall\, 360 Huntington Ave\, Boston\, MA\, 02115\, United States
ORGANIZER;CN="Michael J. and Ann Sherman Center for Engineering Entrepreneurship Education":MAILTO:sherman@northeastern.edu
GEO:42.3394629;-71.0885286
X-APPLE-STRUCTURED-LOCATION;VALUE=URI;X-ADDRESS=010 Hayden Hall 010 Hayden Hall 360 Huntington Ave Boston MA 02115 United States;X-APPLE-RADIUS=500;X-TITLE=010 Hayden Hall\, 360 Huntington Ave:geo:-71.0885286,42.3394629
END:VEVENT
BEGIN:VEVENT
DTSTART;TZID=America/New_York:20200311T130000
DTEND;TZID=America/New_York:20200311T133000
DTSTAMP:20260419T141213
CREATED:20200228T203036Z
LAST-MODIFIED:20200228T203036Z
UID:19978-1583931600-1583933400@coe.northeastern.edu
SUMMARY:Vacuum Degassing Chamber
DESCRIPTION:This workshop is an introduction to the vacuum degassing chamber. Learn how to operate the vacuum pump and hold the chamber at a particular pressure \nSign up using this link! \nView the Sherman Center Calendar for more events!
URL:https://coe.northeastern.edu/event/vacuum-degassing-chamber-5/
LOCATION:010 Hayden Hall\, 010 Hayden Hall\, 360 Huntington Ave\, Boston\, MA\, 02115\, United States
ORGANIZER;CN="Michael J. and Ann Sherman Center for Engineering Entrepreneurship Education":MAILTO:sherman@northeastern.edu
GEO:42.3394629;-71.0885286
X-APPLE-STRUCTURED-LOCATION;VALUE=URI;X-ADDRESS=010 Hayden Hall 010 Hayden Hall 360 Huntington Ave Boston MA 02115 United States;X-APPLE-RADIUS=500;X-TITLE=010 Hayden Hall\, 360 Huntington Ave:geo:-71.0885286,42.3394629
END:VEVENT
BEGIN:VEVENT
DTSTART;TZID=America/New_York:20200312T103000
DTEND;TZID=America/New_York:20200312T110000
DTSTAMP:20260419T141213
CREATED:20200228T203106Z
LAST-MODIFIED:20200228T203106Z
UID:19980-1584009000-1584010800@coe.northeastern.edu
SUMMARY:Power Tools
DESCRIPTION:This workshop is an introduction to the hand drill\, impact driver\, and dremel rotary tool. Learn how to drill pilot holes\, drive screws\, and sand wood \nSign up using this link! \nView the Sherman Center Calendar for more events!
URL:https://coe.northeastern.edu/event/power-tools-9/
LOCATION:010 Hayden Hall\, 010 Hayden Hall\, 360 Huntington Ave\, Boston\, MA\, 02115\, United States
ORGANIZER;CN="Michael J. and Ann Sherman Center for Engineering Entrepreneurship Education":MAILTO:sherman@northeastern.edu
GEO:42.3394629;-71.0885286
X-APPLE-STRUCTURED-LOCATION;VALUE=URI;X-ADDRESS=010 Hayden Hall 010 Hayden Hall 360 Huntington Ave Boston MA 02115 United States;X-APPLE-RADIUS=500;X-TITLE=010 Hayden Hall\, 360 Huntington Ave:geo:-71.0885286,42.3394629
END:VEVENT
BEGIN:VEVENT
DTSTART;TZID=America/New_York:20200312T130000
DTEND;TZID=America/New_York:20200312T133000
DTSTAMP:20260419T141213
CREATED:20200228T203133Z
LAST-MODIFIED:20200228T203133Z
UID:19982-1584018000-1584019800@coe.northeastern.edu
SUMMARY:Desktop CNC Mill
DESCRIPTION:This workshop is an introduction to the desktop CNC mill \nSign up using this link! \nView the Sherman Center Calendar for more events! \n 
URL:https://coe.northeastern.edu/event/desktop-cnc-mill-5/
LOCATION:010 Hayden Hall\, 010 Hayden Hall\, 360 Huntington Ave\, Boston\, MA\, 02115\, United States
ORGANIZER;CN="Michael J. and Ann Sherman Center for Engineering Entrepreneurship Education":MAILTO:sherman@northeastern.edu
GEO:42.3394629;-71.0885286
X-APPLE-STRUCTURED-LOCATION;VALUE=URI;X-ADDRESS=010 Hayden Hall 010 Hayden Hall 360 Huntington Ave Boston MA 02115 United States;X-APPLE-RADIUS=500;X-TITLE=010 Hayden Hall\, 360 Huntington Ave:geo:-71.0885286,42.3394629
END:VEVENT
BEGIN:VEVENT
DTSTART;TZID=America/New_York:20200312T160000
DTEND;TZID=America/New_York:20200312T180000
DTSTAMP:20260419T141213
CREATED:20200309T135245Z
LAST-MODIFIED:20200309T140840Z
UID:20016-1584028800-1584036000@coe.northeastern.edu
SUMMARY:INFORMS Workshop: Introduction to Tableau
DESCRIPTION:Curious about how to start with the data visualization tool Tableau? Come and join INFORMS data visualization workshop on March 12\, Thursday\, 4:00 – 6:00 PM\, Curry 333.
URL:https://coe.northeastern.edu/event/informs-workshop-introduction-to-tableau/
LOCATION:Curry Student Center\, 360 Huntington Ave.\, Boston\, MA\, 02115\, United States
ORGANIZER;CN="Institute for Operations Research and the Management Sciences (INFORMS)":MAILTO:informsnu@gmail.com
GEO:42.3394629;-71.0885286
X-APPLE-STRUCTURED-LOCATION;VALUE=URI;X-ADDRESS=Curry Student Center 360 Huntington Ave. Boston MA 02115 United States;X-APPLE-RADIUS=500;X-TITLE=360 Huntington Ave.:geo:-71.0885286,42.3394629
END:VEVENT
BEGIN:VEVENT
DTSTART;TZID=America/New_York:20200313T113000
DTEND;TZID=America/New_York:20200313T120000
DTSTAMP:20260419T141213
CREATED:20200228T203200Z
LAST-MODIFIED:20200228T203200Z
UID:19984-1584099000-1584100800@coe.northeastern.edu
SUMMARY:Advanced Hand Tools
DESCRIPTION:This workshop is an introduction to the arbor press\, tap and die kit\, and ultrasonic cutter. Learn how to use each tool effectively \nSign up using this link! \nView the Sherman Center Calendar for more events!
URL:https://coe.northeastern.edu/event/advanced-hand-tools-9/
LOCATION:010 Hayden Hall\, 010 Hayden Hall\, 360 Huntington Ave\, Boston\, MA\, 02115\, United States
ORGANIZER;CN="Michael J. and Ann Sherman Center for Engineering Entrepreneurship Education":MAILTO:sherman@northeastern.edu
GEO:42.3394629;-71.0885286
X-APPLE-STRUCTURED-LOCATION;VALUE=URI;X-ADDRESS=010 Hayden Hall 010 Hayden Hall 360 Huntington Ave Boston MA 02115 United States;X-APPLE-RADIUS=500;X-TITLE=010 Hayden Hall\, 360 Huntington Ave:geo:-71.0885286,42.3394629
END:VEVENT
BEGIN:VEVENT
DTSTART;TZID=America/New_York:20200313T130000
DTEND;TZID=America/New_York:20200313T133000
DTSTAMP:20260419T141213
CREATED:20200204T200857Z
LAST-MODIFIED:20200204T200857Z
UID:19636-1584104400-1584106200@coe.northeastern.edu
SUMMARY:Team Leadership Step-by-Step: Motivate Your Team
DESCRIPTION:20 minute lessons at 1 pm (almost) every Friday\, open to all! \nQuestions? Contact Ted at ted.johnson@northeastern.edu \nView the Sherman Center Calendar for more events!
URL:https://coe.northeastern.edu/event/team-leadership-step-by-step-motivate-your-team/
LOCATION:008C Hayden Hall\, 008C Hayden Hall\, 360 Huntington Ave\, Boston\, MA\, 02115\, United States
ORGANIZER;CN="Michael J. and Ann Sherman Center for Engineering Entrepreneurship Education":MAILTO:sherman@northeastern.edu
GEO:42.3394629;-71.0885286
X-APPLE-STRUCTURED-LOCATION;VALUE=URI;X-ADDRESS=008C Hayden Hall 008C Hayden Hall 360 Huntington Ave Boston MA 02115 United States;X-APPLE-RADIUS=500;X-TITLE=008C Hayden Hall\, 360 Huntington Ave:geo:-71.0885286,42.3394629
END:VEVENT
BEGIN:VEVENT
DTSTART;TZID=America/New_York:20200327T100000
DTEND;TZID=America/New_York:20200327T110000
DTSTAMP:20260419T141213
CREATED:20200325T193753Z
LAST-MODIFIED:20240227T203022Z
UID:20250-1585303200-1585306800@coe.northeastern.edu
SUMMARY:Information Systems\, Computer Systems Engineering and Data Architecture and Management Webinar
DESCRIPTION:Consider attending the below webinar to meet the program director and learn more about Co-Op at Northeastern! These webinars will feature a talk by the graduate Program Director\, Dr. Kal Bugrara and Maricla Pirozzi\, Director of Co-op. We welcome all who are interested in applying to Information Systems\, Data Architecture Management\, and Computer Systems Engineering to join! \nWebinar Details \nTopic: Meet The Program Director + Learn About Co-Op\nDate: Friday\, March 27\nTime: 10:00-11:00 AM (EST) \nAgenda \n\nWelcome by Dr. Bugrara\nParameters for Admission\nHow to pursue a paid 4-8 month industry Co-Op as part of your degree plan\n\nRegistration link: https://zoom.us/webinar/register/WN_MYWLjt20TAu2l8y3SfvWxw \nWe look forward to seeing you there!
URL:https://coe.northeastern.edu/event/information-systems-computer-systems-engineerng-and-data-architecture-and-management-webinar/
ORGANIZER;CN="Graduate School of Engineering":MAILTO:coe-gradadmissions@northeastern.edu
END:VEVENT
END:VCALENDAR