BEGIN:VCALENDAR
VERSION:2.0
PRODID:-//Northeastern University College of Engineering - ECPv6.15.20//NONSGML v1.0//EN
CALSCALE:GREGORIAN
METHOD:PUBLISH
X-WR-CALNAME:Northeastern University College of Engineering
X-ORIGINAL-URL:https://coe.northeastern.edu
X-WR-CALDESC:Events for Northeastern University College of Engineering
REFRESH-INTERVAL;VALUE=DURATION:PT1H
X-Robots-Tag:noindex
X-PUBLISHED-TTL:PT1H
BEGIN:VTIMEZONE
TZID:America/New_York
BEGIN:DAYLIGHT
TZOFFSETFROM:-0500
TZOFFSETTO:-0400
TZNAME:EDT
DTSTART:20240310T070000
END:DAYLIGHT
BEGIN:STANDARD
TZOFFSETFROM:-0400
TZOFFSETTO:-0500
TZNAME:EST
DTSTART:20241103T060000
END:STANDARD
BEGIN:DAYLIGHT
TZOFFSETFROM:-0500
TZOFFSETTO:-0400
TZNAME:EDT
DTSTART:20250309T070000
END:DAYLIGHT
BEGIN:STANDARD
TZOFFSETFROM:-0400
TZOFFSETTO:-0500
TZNAME:EST
DTSTART:20251102T060000
END:STANDARD
BEGIN:DAYLIGHT
TZOFFSETFROM:-0500
TZOFFSETTO:-0400
TZNAME:EDT
DTSTART:20260308T070000
END:DAYLIGHT
BEGIN:STANDARD
TZOFFSETFROM:-0400
TZOFFSETTO:-0500
TZNAME:EST
DTSTART:20261101T060000
END:STANDARD
END:VTIMEZONE
BEGIN:VEVENT
DTSTART;TZID=America/New_York:20250501T120000
DTEND;TZID=America/New_York:20250501T130000
DTSTAMP:20260423T144728
CREATED:20250106T144830Z
LAST-MODIFIED:20250106T144830Z
UID:48472-1746100800-1746104400@coe.northeastern.edu
SUMMARY:LinkedIn\, CV\, Resume: CommLab Drop-In Workshops
DESCRIPTION:Join the CommLab’s empowering LinkedIn\, CV\, and Resume Drop-In Workshops any Thursday from 12 pm to 1 pm ET. This collaborative space offers valuable advice and peer feedback to enhance your online profile and professional presence. Join this workshop series through Zoom.
URL:https://coe.northeastern.edu/event/linkedin-cv-resume-commlab-drop-in-workshops-3/2025-05-01/
END:VEVENT
BEGIN:VEVENT
DTSTART;TZID=America/New_York:20250504T130000
DTEND;TZID=America/New_York:20250504T150000
DTSTAMP:20260423T144728
CREATED:20250424T135557Z
LAST-MODIFIED:20260302T190956Z
UID:50585-1746363600-1746370800@coe.northeastern.edu
SUMMARY:2025 MGEN Awards Ceremony
DESCRIPTION:Join us as we celebrate the outstanding achievements and dedicated contributions of our students in the MGEN unit. This event will include: \n\nStudent Awards & Recognition\nNetworking & Community Gathering\nLight Refreshments\n\nRSVP \n 
URL:https://coe.northeastern.edu/event/2025-ise-awards-ceremony/
LOCATION:CSC Ballroom\, 360 Huntington Ave\, 2nd fl CSC\, Boston\, MA\, 02115\, United States
END:VEVENT
BEGIN:VEVENT
DTSTART;VALUE=DATE:20250506
DTEND;VALUE=DATE:20250508
DTSTAMP:20260423T144728
CREATED:20250127T214315Z
LAST-MODIFIED:20250127T214315Z
UID:48967-1746489600-1746662399@coe.northeastern.edu
SUMMARY:Women in Tech USA
DESCRIPTION:Join the Graduate Admissions team at the Women in Tech USA conference in National Harbor\, MD. Connect with us throughout the event to learn more about our graduate engineering programs offered across the globe\, especially our Arlington\, VA campus!
URL:https://coe.northeastern.edu/event/women-in-tech-usa/
ORGANIZER;CN="Graduate School of Engineering":MAILTO:coe-gradadmissions@northeastern.edu
END:VEVENT
BEGIN:VEVENT
DTSTART;TZID=America/New_York:20250506T100000
DTEND;TZID=America/New_York:20250506T120000
DTSTAMP:20260423T144728
CREATED:20250106T144443Z
LAST-MODIFIED:20250106T144443Z
UID:48187-1746525600-1746532800@coe.northeastern.edu
SUMMARY:Graduate Student Virtual Drop-In Proposal Writing Hours
DESCRIPTION:Graduate students\, are you looking for support in writing your dissertation or research proposal?  Join the CommLab virtual drop-in writing hours any Tuesday between 10 am -12 pm ET and stay for a short time or the whole two hours.  A CommLab Fellow will be available to help you set writing goals and provide feedback on your writing.  We will be meeting weekly on Zoom.
URL:https://coe.northeastern.edu/event/graduate-student-virtual-drop-in-proposal-writing-hours/2025-05-06/
END:VEVENT
BEGIN:VEVENT
DTSTART;TZID=America/New_York:20250512T163000
DTEND;TZID=America/New_York:20250512T180000
DTSTAMP:20260423T144728
CREATED:20250207T184252Z
LAST-MODIFIED:20250730T200912Z
UID:49310-1747067400-1747072800@coe.northeastern.edu
SUMMARY:Women in Engineering Book Club
DESCRIPTION:Join the Women in Engineering Book Club! \nWhen: 2nd of Monday of every month at 4:30pm \nWhere: Snell Library’s Research & Teaching Hub (SL 215) \nWhat we are reading: Women in Engineering Book Club – Book List
URL:https://coe.northeastern.edu/event/women-in-engineering-book-club/2025-05-12/
END:VEVENT
BEGIN:VEVENT
DTSTART;VALUE=DATE:20250513
DTEND;VALUE=DATE:20250516
DTSTAMP:20260423T144728
CREATED:20250127T214218Z
LAST-MODIFIED:20250127T214218Z
UID:48972-1747094400-1747353599@coe.northeastern.edu
SUMMARY:ODSC East 2025 - Open Data Science Conference
DESCRIPTION:Join the Graduate Admissions team at ODSC East in Boston\, MA to learn about our graduate engineering programs.
URL:https://coe.northeastern.edu/event/odsc-east-2025-open-data-science-conference/
ORGANIZER;CN="Graduate School of Engineering":MAILTO:coe-gradadmissions@northeastern.edu
END:VEVENT
BEGIN:VEVENT
DTSTART;TZID=America/New_York:20250513T130000
DTEND;TZID=America/New_York:20250513T140000
DTSTAMP:20260423T144728
CREATED:20250506T191733Z
LAST-MODIFIED:20250506T191733Z
UID:50755-1747141200-1747144800@coe.northeastern.edu
SUMMARY:Chat with Samantha Johnson: A Northeastern alum changing lives through robotics
DESCRIPTION:Samantha Johnson\, E’20\, MS’21\, returns to Northeastern to share her journey from student to social impact innovator. She’ll discuss the Tatum T1\, a first-of-its-kind robotic hand designed to communicate in tactile American Sign Language for the DeafBlind community. \nThe conversation will highlight how accessible technology\, research\, and entrepreneurship intersect—and how Northeastern experiences helped shape her path. \nThis webinar is open to all. Live captions will be provided. \nSpeakers \n\nFujita\, Akira\nDigital Accessibility SpecialistNortheastern University\nSamantha Johnson\n\nRegister
URL:https://coe.northeastern.edu/event/chat-with-samantha-johnson-a-northeastern-alum-changing-lives-through-robotics/
END:VEVENT
BEGIN:VEVENT
DTSTART;TZID=America/New_York:20250514T130000
DTEND;TZID=America/New_York:20250514T140000
DTSTAMP:20260423T144728
CREATED:20250506T190741Z
LAST-MODIFIED:20250506T190741Z
UID:50753-1747227600-1747231200@coe.northeastern.edu
SUMMARY:An Automatic System to Detect Equivalence Between Iterative Algorithms
DESCRIPTION:Institute for Experiential AI Speaker: Laurent Lessard \nLarge-scale optimization problems in machine learning\, signal processing\, multi-agent systems\, and imaging have fueled ongoing interest in iterative optimization algorithms. New optimization algorithms are regularly proposed in order to capture more complicated models\, reduce computational burdens\, or obtain stronger performance and convergence guarantees. But how can we be sure a recently proposed algorithm is novel? Algorithms can be written in different equivalent ways that are not always obvious\, and with optimization being increasingly prevalent across different applications\, popular algorithms are routinely “re-discovered”. In this talk\, we present a framework for reasoning about equivalence of iterative algorithms. Our framework is based on concepts from control theory and linear systems theory and can identify equivalence for a variety of algorithm classes: (a) single-oracle algorithms such as gradient-based methods\, (b) multi-oracle algorithms such as distributed optimization algorithms\, primal-dual methods\, and operator-splitting methods\, and (c) algorithms that use different but related oracles\, such as subdifferentials\, proximal operators\, and Fenchel conjugates. Our work is a promising step towards an integrated and principled methodology for analyzing and designing control systems that use optimization algorithms “in the loop”. \nLocation: Teams \nRegister
URL:https://coe.northeastern.edu/event/an-automatic-system-to-detect-equivalence-between-iterative-algorithms/
END:VEVENT
BEGIN:VEVENT
DTSTART;TZID=America/New_York:20250516T090000
DTEND;TZID=America/New_York:20250516T180000
DTSTAMP:20260423T144728
CREATED:20250403T200554Z
LAST-MODIFIED:20250407T144203Z
UID:50326-1747386000-1747418400@coe.northeastern.edu
SUMMARY:IEEE-Sensors-In-Spotlight
DESCRIPTION:IEEE-Sensors-In-Spotlight is a unique one-day networking event introducing emerging applications that will inspire technological developments in years to come. The event will take place on Friday\, May 16\, 2025\, at the Interdisciplinary Science and Engineering Complex\, 805 Columbus Ave.\, Boston\, MA from 9:00am-6:00pm EST. Sensors in Spotlight is where sensor technologies take the central stage. The program includes keynote speaker presentations\, panel discussions\, poster and live demo session\, and plenty of networking opportunities. The event will inform and inspire creation of a technological eco-system in support of BIG VISIONS. The committee encourages all students\, both undergraduate and graduate\, under the College of Engineering to submit their abstract and present their posters during the conference. The best poster award will receive a $250 prize. The deadline to submit your poster is on Wednesday\, April 30\, 2025. Please submit your poster by visiting Call for Posters | SenSiS 2025 – Boston\, Massachusetts.
URL:https://coe.northeastern.edu/event/ieee-sensors-in-spotlight/
LOCATION:102 ISEC\, 360 Huntington Ave\, 102 ISEC\, Boston\, MA\, 02115\, United States
GEO:42.3377335;-71.0869121
X-APPLE-STRUCTURED-LOCATION;VALUE=URI;X-ADDRESS=102 ISEC 360 Huntington Ave 102 ISEC Boston MA 02115 United States;X-APPLE-RADIUS=500;X-TITLE=360 Huntington Ave\, 102 ISEC:geo:-71.0869121,42.3377335
END:VEVENT
BEGIN:VEVENT
DTSTART;TZID=America/New_York:20250517T100000
DTEND;TZID=America/New_York:20250517T140000
DTSTAMP:20260423T144728
CREATED:20250414T133822Z
LAST-MODIFIED:20250414T133822Z
UID:50450-1747476000-1747490400@coe.northeastern.edu
SUMMARY:COE in Latin America (Brazil)
DESCRIPTION:You are cordially invited to Northeastern University’s Global Study Expo in Brazil. \nThis in-person event is your opportunity to: \n\nConnect with Northeastern representatives from a variety of our colleges and campuses\, and get personalized help with your application.\nLearn more about Northeastern’s degree programs and admissions requirements.\nDiscover various scholarship opportunities.\nHear about the benefits of our global campus network\, with locations in the U.S.\, the U.K.\, and Canada.\nListen to alumni discuss their academic and career experiences.\nExplore co-ops and other experience-based learning opportunities.\n\nThis is your chance to meet in person with staff\, alumni\, and other representatives and find answers to all your questions. \nLooking forward to seeing you there! \nEvent Details: \n\nBrazil:\n\nSaturday\, May 17\, 2025\n10 a.m. to 2 p.m. BRT\nVenue: Tivoli Mofarrej São Paulo Hotel
URL:https://coe.northeastern.edu/event/coe-in-latin-america-brazil/
END:VEVENT
BEGIN:VEVENT
DTSTART;TZID=America/New_York:20250527T090000
DTEND;TZID=America/New_York:20250527T110000
DTSTAMP:20260423T144728
CREATED:20250529T202413Z
LAST-MODIFIED:20250529T202413Z
UID:51017-1748336400-1748343600@coe.northeastern.edu
SUMMARY:Graduate Student Writing:  CommLab Drop-In Writing Hours
DESCRIPTION:Graduate students\, are you looking for a time for focused research writing?  Join the CommLab drop-in writing hours any Tuesday between 9 -11 am ET.  Drop in any Tuesday and stay for a short time or two hours.  A CommLab Fellow will be available to provide feedback on your writing.  We will be meeting virtually on Teams.
URL:https://coe.northeastern.edu/event/graduate-student-writing-commlab-drop-in-writing-hours/2025-05-27/
END:VEVENT
BEGIN:VEVENT
DTSTART;TZID=America/New_York:20250527T100000
DTEND;TZID=America/New_York:20250527T120000
DTSTAMP:20260423T144728
CREATED:20250529T202128Z
LAST-MODIFIED:20250529T202128Z
UID:51056-1748340000-1748347200@coe.northeastern.edu
SUMMARY:Graduate Student Proposal/Fellowship Writing Hours: CommLab Drop-In Hours
DESCRIPTION:Graduate students\, are you looking for support in writing your research or fellowship proposal?  Join the CommLab virtual drop-in writing hours any Tuesday between 10 am -12 pm ET and stay for a short time or the whole two hours.  A CommLab Fellow will be available to help you set writing goals and provide feedback on your writing.  Join this drop-in workshop through Zoom.
URL:https://coe.northeastern.edu/event/graduate-student-proposal-fellowship-writing-hours-commlab-drop-in-hours/2025-05-27/
END:VEVENT
BEGIN:VEVENT
DTSTART;TZID=America/New_York:20250528T130000
DTEND;TZID=America/New_York:20250528T140000
DTSTAMP:20260423T144728
CREATED:20250529T201707Z
LAST-MODIFIED:20250529T201707Z
UID:51074-1748437200-1748440800@coe.northeastern.edu
SUMMARY:Scientific Oral Communication : CommLab Drop-In Workshops
DESCRIPTION:The NU CommLab is hosting a weekly hybrid Scientific Oral Communication Drop-in practice for graduate students. Drop-in virtually or in-person any week to practice for your upcoming oral exams\, proposals\, thesis\, dissertation or talks. Receive and implement feedback on your verbal and non-verbal public speaking skills. Meet any Wednesday from 1-2pm in 306 Egan or on Zoom. Note on June 4th the workshop will be in 206 Egan.
URL:https://coe.northeastern.edu/event/scientific-oral-communication-commlab-drop-in-workshops/2025-05-28/
END:VEVENT
END:VCALENDAR