BEGIN:VCALENDAR
VERSION:2.0
PRODID:-//Northeastern University College of Engineering - ECPv6.15.20//NONSGML v1.0//EN
CALSCALE:GREGORIAN
METHOD:PUBLISH
X-WR-CALNAME:Northeastern University College of Engineering
X-ORIGINAL-URL:https://coe.northeastern.edu
X-WR-CALDESC:Events for Northeastern University College of Engineering
REFRESH-INTERVAL;VALUE=DURATION:PT1H
X-Robots-Tag:noindex
X-PUBLISHED-TTL:PT1H
BEGIN:VTIMEZONE
TZID:America/New_York
BEGIN:DAYLIGHT
TZOFFSETFROM:-0500
TZOFFSETTO:-0400
TZNAME:EDT
DTSTART:20240310T070000
END:DAYLIGHT
BEGIN:STANDARD
TZOFFSETFROM:-0400
TZOFFSETTO:-0500
TZNAME:EST
DTSTART:20241103T060000
END:STANDARD
BEGIN:DAYLIGHT
TZOFFSETFROM:-0500
TZOFFSETTO:-0400
TZNAME:EDT
DTSTART:20250309T070000
END:DAYLIGHT
BEGIN:STANDARD
TZOFFSETFROM:-0400
TZOFFSETTO:-0500
TZNAME:EST
DTSTART:20251102T060000
END:STANDARD
BEGIN:DAYLIGHT
TZOFFSETFROM:-0500
TZOFFSETTO:-0400
TZNAME:EDT
DTSTART:20260308T070000
END:DAYLIGHT
BEGIN:STANDARD
TZOFFSETFROM:-0400
TZOFFSETTO:-0500
TZNAME:EST
DTSTART:20261101T060000
END:STANDARD
END:VTIMEZONE
BEGIN:VEVENT
DTSTART;TZID=America/New_York:20250709T130000
DTEND;TZID=America/New_York:20250709T140000
DTSTAMP:20260423T114154
CREATED:20250529T201710Z
LAST-MODIFIED:20250529T201710Z
UID:51080-1752066000-1752069600@coe.northeastern.edu
SUMMARY:Scientific Oral Communication : CommLab Drop-In Workshops
DESCRIPTION:The NU CommLab is hosting a weekly hybrid Scientific Oral Communication Drop-in practice for graduate students. Drop-in virtually or in-person any week to practice for your upcoming oral exams\, proposals\, thesis\, dissertation or talks. Receive and implement feedback on your verbal and non-verbal public speaking skills. Meet any Wednesday from 1-2pm in 306 Egan or on Zoom. Note on June 4th the workshop will be in 206 Egan.
URL:https://coe.northeastern.edu/event/scientific-oral-communication-commlab-drop-in-workshops/2025-07-09/
END:VEVENT
BEGIN:VEVENT
DTSTART;TZID=America/New_York:20250708T110000
DTEND;TZID=America/New_York:20250708T120000
DTSTAMP:20260423T114154
CREATED:20250529T202325Z
LAST-MODIFIED:20250529T202325Z
UID:52660-1751972400-1751976000@coe.northeastern.edu
SUMMARY:LinkedIn\, CV\, Resume: CommLab Drop-In Hours
DESCRIPTION:Graduate students\, do you need to increase your on-line presence or update your CV or Resume?  Join the CommLab’s LinkedIn\, CV\, and Resume drop-in workshops every other Tuesday from 11 pm to 12 pm ET. This collaborative space offers valuable advice and peer feedback to enhance your online profile and professional presence. Join this drop-in workshop through Zoom.
URL:https://coe.northeastern.edu/event/linkedin-cv-resume-commlab-drop-in-hours/2025-07-08/
END:VEVENT
BEGIN:VEVENT
DTSTART;TZID=America/New_York:20250708T100000
DTEND;TZID=America/New_York:20250708T120000
DTSTAMP:20260423T114154
CREATED:20250529T202131Z
LAST-MODIFIED:20250529T202131Z
UID:51062-1751968800-1751976000@coe.northeastern.edu
SUMMARY:Graduate Student Proposal/Fellowship Writing Hours: CommLab Drop-In Hours
DESCRIPTION:Graduate students\, are you looking for support in writing your research or fellowship proposal?  Join the CommLab virtual drop-in writing hours any Tuesday between 10 am -12 pm ET and stay for a short time or the whole two hours.  A CommLab Fellow will be available to help you set writing goals and provide feedback on your writing.  Join this drop-in workshop through Zoom.
URL:https://coe.northeastern.edu/event/graduate-student-proposal-fellowship-writing-hours-commlab-drop-in-hours/2025-07-08/
END:VEVENT
BEGIN:VEVENT
DTSTART;TZID=America/New_York:20250708T090000
DTEND;TZID=America/New_York:20250708T110000
DTSTAMP:20260423T114154
CREATED:20250529T202415Z
LAST-MODIFIED:20250529T202415Z
UID:51023-1751965200-1751972400@coe.northeastern.edu
SUMMARY:Graduate Student Writing:  CommLab Drop-In Writing Hours
DESCRIPTION:Graduate students\, are you looking for a time for focused research writing?  Join the CommLab drop-in writing hours any Tuesday between 9 -11 am ET.  Drop in any Tuesday and stay for a short time or two hours.  A CommLab Fellow will be available to provide feedback on your writing.  We will be meeting virtually on Teams.
URL:https://coe.northeastern.edu/event/graduate-student-writing-commlab-drop-in-writing-hours/2025-07-08/
END:VEVENT
BEGIN:VEVENT
DTSTART;TZID=America/New_York:20250702T130000
DTEND;TZID=America/New_York:20250702T140000
DTSTAMP:20260423T114154
CREATED:20250529T201709Z
LAST-MODIFIED:20250529T201709Z
UID:51079-1751461200-1751464800@coe.northeastern.edu
SUMMARY:Scientific Oral Communication : CommLab Drop-In Workshops
DESCRIPTION:The NU CommLab is hosting a weekly hybrid Scientific Oral Communication Drop-in practice for graduate students. Drop-in virtually or in-person any week to practice for your upcoming oral exams\, proposals\, thesis\, dissertation or talks. Receive and implement feedback on your verbal and non-verbal public speaking skills. Meet any Wednesday from 1-2pm in 306 Egan or on Zoom. Note on June 4th the workshop will be in 206 Egan.
URL:https://coe.northeastern.edu/event/scientific-oral-communication-commlab-drop-in-workshops/2025-07-02/
END:VEVENT
BEGIN:VEVENT
DTSTART;TZID=America/New_York:20250701T110000
DTEND;TZID=America/New_York:20250701T120000
DTSTAMP:20260423T114154
CREATED:20250529T202325Z
LAST-MODIFIED:20250715T141413Z
UID:51204-1751367600-1751371200@coe.northeastern.edu
SUMMARY:LinkedIn\, CV\, Resume: CommLab Drop-In Hours
DESCRIPTION:Graduate students\, do you need to increase your on-line presence or update your CV or Resume?  Join the CommLab’s LinkedIn\, CV\, and Resume drop-in workshops every other Tuesday from 11 pm to 12 pm ET. This collaborative space offers valuable advice and peer feedback to enhance your online profile and professional presence. Join this drop-in workshop through Zoom.
URL:https://coe.northeastern.edu/event/linkedin-cv-resume-commlab-drop-in-hours/2025-07-01/
END:VEVENT
BEGIN:VEVENT
DTSTART;TZID=America/New_York:20250701T100000
DTEND;TZID=America/New_York:20250701T120000
DTSTAMP:20260423T114154
CREATED:20250529T202130Z
LAST-MODIFIED:20250529T202130Z
UID:51061-1751364000-1751371200@coe.northeastern.edu
SUMMARY:Graduate Student Proposal/Fellowship Writing Hours: CommLab Drop-In Hours
DESCRIPTION:Graduate students\, are you looking for support in writing your research or fellowship proposal?  Join the CommLab virtual drop-in writing hours any Tuesday between 10 am -12 pm ET and stay for a short time or the whole two hours.  A CommLab Fellow will be available to help you set writing goals and provide feedback on your writing.  Join this drop-in workshop through Zoom.
URL:https://coe.northeastern.edu/event/graduate-student-proposal-fellowship-writing-hours-commlab-drop-in-hours/2025-07-01/
END:VEVENT
BEGIN:VEVENT
DTSTART;TZID=America/New_York:20250701T090000
DTEND;TZID=America/New_York:20250701T110000
DTSTAMP:20260423T114154
CREATED:20250529T202415Z
LAST-MODIFIED:20250529T202415Z
UID:51022-1751360400-1751367600@coe.northeastern.edu
SUMMARY:Graduate Student Writing:  CommLab Drop-In Writing Hours
DESCRIPTION:Graduate students\, are you looking for a time for focused research writing?  Join the CommLab drop-in writing hours any Tuesday between 9 -11 am ET.  Drop in any Tuesday and stay for a short time or two hours.  A CommLab Fellow will be available to provide feedback on your writing.  We will be meeting virtually on Teams.
URL:https://coe.northeastern.edu/event/graduate-student-writing-commlab-drop-in-writing-hours/2025-07-01/
END:VEVENT
BEGIN:VEVENT
DTSTART;TZID=America/New_York:20250625T130000
DTEND;TZID=America/New_York:20250625T140000
DTSTAMP:20260423T114154
CREATED:20250529T201709Z
LAST-MODIFIED:20250529T201709Z
UID:51078-1750856400-1750860000@coe.northeastern.edu
SUMMARY:Scientific Oral Communication : CommLab Drop-In Workshops
DESCRIPTION:The NU CommLab is hosting a weekly hybrid Scientific Oral Communication Drop-in practice for graduate students. Drop-in virtually or in-person any week to practice for your upcoming oral exams\, proposals\, thesis\, dissertation or talks. Receive and implement feedback on your verbal and non-verbal public speaking skills. Meet any Wednesday from 1-2pm in 306 Egan or on Zoom. Note on June 4th the workshop will be in 206 Egan.
URL:https://coe.northeastern.edu/event/scientific-oral-communication-commlab-drop-in-workshops/2025-06-25/
END:VEVENT
BEGIN:VEVENT
DTSTART;TZID=America/New_York:20250624T110000
DTEND;TZID=America/New_York:20250624T120000
DTSTAMP:20260423T114154
CREATED:20250529T202325Z
LAST-MODIFIED:20250529T202325Z
UID:52659-1750762800-1750766400@coe.northeastern.edu
SUMMARY:LinkedIn\, CV\, Resume: CommLab Drop-In Hours
DESCRIPTION:Graduate students\, do you need to increase your on-line presence or update your CV or Resume?  Join the CommLab’s LinkedIn\, CV\, and Resume drop-in workshops every other Tuesday from 11 pm to 12 pm ET. This collaborative space offers valuable advice and peer feedback to enhance your online profile and professional presence. Join this drop-in workshop through Zoom.
URL:https://coe.northeastern.edu/event/linkedin-cv-resume-commlab-drop-in-hours/2025-06-24/
END:VEVENT
BEGIN:VEVENT
DTSTART;TZID=America/New_York:20250624T100000
DTEND;TZID=America/New_York:20250624T120000
DTSTAMP:20260423T114154
CREATED:20250529T202129Z
LAST-MODIFIED:20250529T202129Z
UID:51060-1750759200-1750766400@coe.northeastern.edu
SUMMARY:Graduate Student Proposal/Fellowship Writing Hours: CommLab Drop-In Hours
DESCRIPTION:Graduate students\, are you looking for support in writing your research or fellowship proposal?  Join the CommLab virtual drop-in writing hours any Tuesday between 10 am -12 pm ET and stay for a short time or the whole two hours.  A CommLab Fellow will be available to help you set writing goals and provide feedback on your writing.  Join this drop-in workshop through Zoom.
URL:https://coe.northeastern.edu/event/graduate-student-proposal-fellowship-writing-hours-commlab-drop-in-hours/2025-06-24/
END:VEVENT
BEGIN:VEVENT
DTSTART;TZID=America/New_York:20250624T090000
DTEND;TZID=America/New_York:20250624T110000
DTSTAMP:20260423T114154
CREATED:20250529T202415Z
LAST-MODIFIED:20250529T202415Z
UID:51021-1750755600-1750762800@coe.northeastern.edu
SUMMARY:Graduate Student Writing:  CommLab Drop-In Writing Hours
DESCRIPTION:Graduate students\, are you looking for a time for focused research writing?  Join the CommLab drop-in writing hours any Tuesday between 9 -11 am ET.  Drop in any Tuesday and stay for a short time or two hours.  A CommLab Fellow will be available to provide feedback on your writing.  We will be meeting virtually on Teams.
URL:https://coe.northeastern.edu/event/graduate-student-writing-commlab-drop-in-writing-hours/2025-06-24/
END:VEVENT
BEGIN:VEVENT
DTSTART;TZID=America/New_York:20250618T130000
DTEND;TZID=America/New_York:20250618T140000
DTSTAMP:20260423T114154
CREATED:20250529T201708Z
LAST-MODIFIED:20250529T201708Z
UID:51077-1750251600-1750255200@coe.northeastern.edu
SUMMARY:Scientific Oral Communication : CommLab Drop-In Workshops
DESCRIPTION:The NU CommLab is hosting a weekly hybrid Scientific Oral Communication Drop-in practice for graduate students. Drop-in virtually or in-person any week to practice for your upcoming oral exams\, proposals\, thesis\, dissertation or talks. Receive and implement feedback on your verbal and non-verbal public speaking skills. Meet any Wednesday from 1-2pm in 306 Egan or on Zoom. Note on June 4th the workshop will be in 206 Egan.
URL:https://coe.northeastern.edu/event/scientific-oral-communication-commlab-drop-in-workshops/2025-06-18/
END:VEVENT
BEGIN:VEVENT
DTSTART;TZID=America/New_York:20250617T110000
DTEND;TZID=America/New_York:20250617T120000
DTSTAMP:20260423T114154
CREATED:20250529T202325Z
LAST-MODIFIED:20250715T141412Z
UID:51203-1750158000-1750161600@coe.northeastern.edu
SUMMARY:LinkedIn\, CV\, Resume: CommLab Drop-In Hours
DESCRIPTION:Graduate students\, do you need to increase your on-line presence or update your CV or Resume?  Join the CommLab’s LinkedIn\, CV\, and Resume drop-in workshops every other Tuesday from 11 pm to 12 pm ET. This collaborative space offers valuable advice and peer feedback to enhance your online profile and professional presence. Join this drop-in workshop through Zoom.
URL:https://coe.northeastern.edu/event/linkedin-cv-resume-commlab-drop-in-hours/2025-06-17/
END:VEVENT
BEGIN:VEVENT
DTSTART;TZID=America/New_York:20250617T100000
DTEND;TZID=America/New_York:20250617T120000
DTSTAMP:20260423T114154
CREATED:20250529T202129Z
LAST-MODIFIED:20250529T202129Z
UID:51059-1750154400-1750161600@coe.northeastern.edu
SUMMARY:Graduate Student Proposal/Fellowship Writing Hours: CommLab Drop-In Hours
DESCRIPTION:Graduate students\, are you looking for support in writing your research or fellowship proposal?  Join the CommLab virtual drop-in writing hours any Tuesday between 10 am -12 pm ET and stay for a short time or the whole two hours.  A CommLab Fellow will be available to help you set writing goals and provide feedback on your writing.  Join this drop-in workshop through Zoom.
URL:https://coe.northeastern.edu/event/graduate-student-proposal-fellowship-writing-hours-commlab-drop-in-hours/2025-06-17/
END:VEVENT
BEGIN:VEVENT
DTSTART;TZID=America/New_York:20250617T090000
DTEND;TZID=America/New_York:20250617T110000
DTSTAMP:20260423T114154
CREATED:20250529T202414Z
LAST-MODIFIED:20250529T202414Z
UID:51020-1750150800-1750158000@coe.northeastern.edu
SUMMARY:Graduate Student Writing:  CommLab Drop-In Writing Hours
DESCRIPTION:Graduate students\, are you looking for a time for focused research writing?  Join the CommLab drop-in writing hours any Tuesday between 9 -11 am ET.  Drop in any Tuesday and stay for a short time or two hours.  A CommLab Fellow will be available to provide feedback on your writing.  We will be meeting virtually on Teams.
URL:https://coe.northeastern.edu/event/graduate-student-writing-commlab-drop-in-writing-hours/2025-06-17/
END:VEVENT
BEGIN:VEVENT
DTSTART;TZID=America/New_York:20250612T150000
DTEND;TZID=America/New_York:20250612T160000
DTSTAMP:20260423T114154
CREATED:20250529T201946Z
LAST-MODIFIED:20250529T201946Z
UID:51072-1749740400-1749744000@coe.northeastern.edu
SUMMARY:Poster Design and Presentation: CommLab Drop-In Workshops
DESCRIPTION:Working on a poster? Stop by this two-part CommLab hybrid workshop!  Part 1 will focus on brainstorming ideas\, getting feedback and fine tuning the visual presentation of your research and Part 2 will enable you to practice your poster oral presentation and get feedback. Thursday June 5 and 12 from 3-4pm EST in room 206 Egan or join virtually on Zoom.  Want more feedback?  Join the on-line Zoom feedback sessions on Tuesdays\, June\, 3\, 10 and 17 from 1-2pm ET.
URL:https://coe.northeastern.edu/event/poster-design-and-presentation-commlab-drop-in-workshops-2/2025-06-12/
LOCATION:206 Egan\, 360 Huntington Ave\, Boston\, MA\, 02115\, United States
GEO:42.3376753;-71.0888734
X-APPLE-STRUCTURED-LOCATION;VALUE=URI;X-ADDRESS=206 Egan 360 Huntington Ave Boston MA 02115 United States;X-APPLE-RADIUS=500;X-TITLE=360 Huntington Ave:geo:-71.0888734,42.3376753
END:VEVENT
BEGIN:VEVENT
DTSTART;TZID=America/New_York:20250611T130000
DTEND;TZID=America/New_York:20250611T140000
DTSTAMP:20260423T114154
CREATED:20250529T201708Z
LAST-MODIFIED:20250529T201708Z
UID:51076-1749646800-1749650400@coe.northeastern.edu
SUMMARY:Scientific Oral Communication : CommLab Drop-In Workshops
DESCRIPTION:The NU CommLab is hosting a weekly hybrid Scientific Oral Communication Drop-in practice for graduate students. Drop-in virtually or in-person any week to practice for your upcoming oral exams\, proposals\, thesis\, dissertation or talks. Receive and implement feedback on your verbal and non-verbal public speaking skills. Meet any Wednesday from 1-2pm in 306 Egan or on Zoom. Note on June 4th the workshop will be in 206 Egan.
URL:https://coe.northeastern.edu/event/scientific-oral-communication-commlab-drop-in-workshops/2025-06-11/
END:VEVENT
BEGIN:VEVENT
DTSTART;TZID=America/New_York:20250610T110000
DTEND;TZID=America/New_York:20250610T120000
DTSTAMP:20260423T114154
CREATED:20250529T202325Z
LAST-MODIFIED:20250529T202325Z
UID:52658-1749553200-1749556800@coe.northeastern.edu
SUMMARY:LinkedIn\, CV\, Resume: CommLab Drop-In Hours
DESCRIPTION:Graduate students\, do you need to increase your on-line presence or update your CV or Resume?  Join the CommLab’s LinkedIn\, CV\, and Resume drop-in workshops every other Tuesday from 11 pm to 12 pm ET. This collaborative space offers valuable advice and peer feedback to enhance your online profile and professional presence. Join this drop-in workshop through Zoom.
URL:https://coe.northeastern.edu/event/linkedin-cv-resume-commlab-drop-in-hours/2025-06-10/
END:VEVENT
BEGIN:VEVENT
DTSTART;TZID=America/New_York:20250610T100000
DTEND;TZID=America/New_York:20250610T120000
DTSTAMP:20260423T114154
CREATED:20250529T202129Z
LAST-MODIFIED:20250529T202129Z
UID:51058-1749549600-1749556800@coe.northeastern.edu
SUMMARY:Graduate Student Proposal/Fellowship Writing Hours: CommLab Drop-In Hours
DESCRIPTION:Graduate students\, are you looking for support in writing your research or fellowship proposal?  Join the CommLab virtual drop-in writing hours any Tuesday between 10 am -12 pm ET and stay for a short time or the whole two hours.  A CommLab Fellow will be available to help you set writing goals and provide feedback on your writing.  Join this drop-in workshop through Zoom.
URL:https://coe.northeastern.edu/event/graduate-student-proposal-fellowship-writing-hours-commlab-drop-in-hours/2025-06-10/
END:VEVENT
BEGIN:VEVENT
DTSTART;TZID=America/New_York:20250610T090000
DTEND;TZID=America/New_York:20250610T110000
DTSTAMP:20260423T114154
CREATED:20250529T202414Z
LAST-MODIFIED:20250529T202414Z
UID:51019-1749546000-1749553200@coe.northeastern.edu
SUMMARY:Graduate Student Writing:  CommLab Drop-In Writing Hours
DESCRIPTION:Graduate students\, are you looking for a time for focused research writing?  Join the CommLab drop-in writing hours any Tuesday between 9 -11 am ET.  Drop in any Tuesday and stay for a short time or two hours.  A CommLab Fellow will be available to provide feedback on your writing.  We will be meeting virtually on Teams.
URL:https://coe.northeastern.edu/event/graduate-student-writing-commlab-drop-in-writing-hours/2025-06-10/
END:VEVENT
BEGIN:VEVENT
DTSTART;TZID=America/New_York:20250605T150000
DTEND;TZID=America/New_York:20250605T160000
DTSTAMP:20260423T114154
CREATED:20250529T201946Z
LAST-MODIFIED:20250529T201946Z
UID:51071-1749135600-1749139200@coe.northeastern.edu
SUMMARY:Poster Design and Presentation: CommLab Drop-In Workshops
DESCRIPTION:Working on a poster? Stop by this two-part CommLab hybrid workshop!  Part 1 will focus on brainstorming ideas\, getting feedback and fine tuning the visual presentation of your research and Part 2 will enable you to practice your poster oral presentation and get feedback. Thursday June 5 and 12 from 3-4pm EST in room 206 Egan or join virtually on Zoom.  Want more feedback?  Join the on-line Zoom feedback sessions on Tuesdays\, June\, 3\, 10 and 17 from 1-2pm ET.
URL:https://coe.northeastern.edu/event/poster-design-and-presentation-commlab-drop-in-workshops-2/2025-06-05/
LOCATION:206 Egan\, 360 Huntington Ave\, Boston\, MA\, 02115\, United States
GEO:42.3376753;-71.0888734
X-APPLE-STRUCTURED-LOCATION;VALUE=URI;X-ADDRESS=206 Egan 360 Huntington Ave Boston MA 02115 United States;X-APPLE-RADIUS=500;X-TITLE=360 Huntington Ave:geo:-71.0888734,42.3376753
END:VEVENT
BEGIN:VEVENT
DTSTART;TZID=America/New_York:20250604T130000
DTEND;TZID=America/New_York:20250604T140000
DTSTAMP:20260423T114154
CREATED:20250529T201707Z
LAST-MODIFIED:20250529T201707Z
UID:51075-1749042000-1749045600@coe.northeastern.edu
SUMMARY:Scientific Oral Communication : CommLab Drop-In Workshops
DESCRIPTION:The NU CommLab is hosting a weekly hybrid Scientific Oral Communication Drop-in practice for graduate students. Drop-in virtually or in-person any week to practice for your upcoming oral exams\, proposals\, thesis\, dissertation or talks. Receive and implement feedback on your verbal and non-verbal public speaking skills. Meet any Wednesday from 1-2pm in 306 Egan or on Zoom. Note on June 4th the workshop will be in 206 Egan.
URL:https://coe.northeastern.edu/event/scientific-oral-communication-commlab-drop-in-workshops/2025-06-04/
END:VEVENT
BEGIN:VEVENT
DTSTART;TZID=America/New_York:20250603T110000
DTEND;TZID=America/New_York:20250603T120000
DTSTAMP:20260423T114154
CREATED:20250529T202325Z
LAST-MODIFIED:20250715T141410Z
UID:51032-1748948400-1748952000@coe.northeastern.edu
SUMMARY:LinkedIn\, CV\, Resume: CommLab Drop-In Hours
DESCRIPTION:Graduate students\, do you need to increase your on-line presence or update your CV or Resume?  Join the CommLab’s LinkedIn\, CV\, and Resume drop-in workshops every other Tuesday from 11 pm to 12 pm ET. This collaborative space offers valuable advice and peer feedback to enhance your online profile and professional presence. Join this drop-in workshop through Zoom.
URL:https://coe.northeastern.edu/event/linkedin-cv-resume-commlab-drop-in-hours/2025-06-03/
END:VEVENT
BEGIN:VEVENT
DTSTART;TZID=America/New_York:20250603T100000
DTEND;TZID=America/New_York:20250603T120000
DTSTAMP:20260423T114154
CREATED:20250529T202128Z
LAST-MODIFIED:20250529T202128Z
UID:51057-1748944800-1748952000@coe.northeastern.edu
SUMMARY:Graduate Student Proposal/Fellowship Writing Hours: CommLab Drop-In Hours
DESCRIPTION:Graduate students\, are you looking for support in writing your research or fellowship proposal?  Join the CommLab virtual drop-in writing hours any Tuesday between 10 am -12 pm ET and stay for a short time or the whole two hours.  A CommLab Fellow will be available to help you set writing goals and provide feedback on your writing.  Join this drop-in workshop through Zoom.
URL:https://coe.northeastern.edu/event/graduate-student-proposal-fellowship-writing-hours-commlab-drop-in-hours/2025-06-03/
END:VEVENT
BEGIN:VEVENT
DTSTART;TZID=America/New_York:20250603T090000
DTEND;TZID=America/New_York:20250603T110000
DTSTAMP:20260423T114154
CREATED:20250529T202413Z
LAST-MODIFIED:20250529T202413Z
UID:51018-1748941200-1748948400@coe.northeastern.edu
SUMMARY:Graduate Student Writing:  CommLab Drop-In Writing Hours
DESCRIPTION:Graduate students\, are you looking for a time for focused research writing?  Join the CommLab drop-in writing hours any Tuesday between 9 -11 am ET.  Drop in any Tuesday and stay for a short time or two hours.  A CommLab Fellow will be available to provide feedback on your writing.  We will be meeting virtually on Teams.
URL:https://coe.northeastern.edu/event/graduate-student-writing-commlab-drop-in-writing-hours/2025-06-03/
END:VEVENT
BEGIN:VEVENT
DTSTART;TZID=America/New_York:20250528T130000
DTEND;TZID=America/New_York:20250528T140000
DTSTAMP:20260423T114154
CREATED:20250529T201707Z
LAST-MODIFIED:20250529T201707Z
UID:51074-1748437200-1748440800@coe.northeastern.edu
SUMMARY:Scientific Oral Communication : CommLab Drop-In Workshops
DESCRIPTION:The NU CommLab is hosting a weekly hybrid Scientific Oral Communication Drop-in practice for graduate students. Drop-in virtually or in-person any week to practice for your upcoming oral exams\, proposals\, thesis\, dissertation or talks. Receive and implement feedback on your verbal and non-verbal public speaking skills. Meet any Wednesday from 1-2pm in 306 Egan or on Zoom. Note on June 4th the workshop will be in 206 Egan.
URL:https://coe.northeastern.edu/event/scientific-oral-communication-commlab-drop-in-workshops/2025-05-28/
END:VEVENT
BEGIN:VEVENT
DTSTART;TZID=America/New_York:20250527T100000
DTEND;TZID=America/New_York:20250527T120000
DTSTAMP:20260423T114154
CREATED:20250529T202128Z
LAST-MODIFIED:20250529T202128Z
UID:51056-1748340000-1748347200@coe.northeastern.edu
SUMMARY:Graduate Student Proposal/Fellowship Writing Hours: CommLab Drop-In Hours
DESCRIPTION:Graduate students\, are you looking for support in writing your research or fellowship proposal?  Join the CommLab virtual drop-in writing hours any Tuesday between 10 am -12 pm ET and stay for a short time or the whole two hours.  A CommLab Fellow will be available to help you set writing goals and provide feedback on your writing.  Join this drop-in workshop through Zoom.
URL:https://coe.northeastern.edu/event/graduate-student-proposal-fellowship-writing-hours-commlab-drop-in-hours/2025-05-27/
END:VEVENT
BEGIN:VEVENT
DTSTART;TZID=America/New_York:20250527T090000
DTEND;TZID=America/New_York:20250527T110000
DTSTAMP:20260423T114154
CREATED:20250529T202413Z
LAST-MODIFIED:20250529T202413Z
UID:51017-1748336400-1748343600@coe.northeastern.edu
SUMMARY:Graduate Student Writing:  CommLab Drop-In Writing Hours
DESCRIPTION:Graduate students\, are you looking for a time for focused research writing?  Join the CommLab drop-in writing hours any Tuesday between 9 -11 am ET.  Drop in any Tuesday and stay for a short time or two hours.  A CommLab Fellow will be available to provide feedback on your writing.  We will be meeting virtually on Teams.
URL:https://coe.northeastern.edu/event/graduate-student-writing-commlab-drop-in-writing-hours/2025-05-27/
END:VEVENT
BEGIN:VEVENT
DTSTART;TZID=America/New_York:20250506T100000
DTEND;TZID=America/New_York:20250506T120000
DTSTAMP:20260423T114154
CREATED:20250106T144443Z
LAST-MODIFIED:20250106T144443Z
UID:48187-1746525600-1746532800@coe.northeastern.edu
SUMMARY:Graduate Student Virtual Drop-In Proposal Writing Hours
DESCRIPTION:Graduate students\, are you looking for support in writing your dissertation or research proposal?  Join the CommLab virtual drop-in writing hours any Tuesday between 10 am -12 pm ET and stay for a short time or the whole two hours.  A CommLab Fellow will be available to help you set writing goals and provide feedback on your writing.  We will be meeting weekly on Zoom.
URL:https://coe.northeastern.edu/event/graduate-student-virtual-drop-in-proposal-writing-hours/2025-05-06/
END:VEVENT
END:VCALENDAR