BEGIN:VCALENDAR
VERSION:2.0
PRODID:-//Northeastern University College of Engineering - ECPv6.15.20//NONSGML v1.0//EN
CALSCALE:GREGORIAN
METHOD:PUBLISH
X-WR-CALNAME:Northeastern University College of Engineering
X-ORIGINAL-URL:https://coe.northeastern.edu
X-WR-CALDESC:Events for Northeastern University College of Engineering
REFRESH-INTERVAL;VALUE=DURATION:PT1H
X-Robots-Tag:noindex
X-PUBLISHED-TTL:PT1H
BEGIN:VTIMEZONE
TZID:America/New_York
BEGIN:DAYLIGHT
TZOFFSETFROM:-0500
TZOFFSETTO:-0400
TZNAME:EDT
DTSTART:20240310T070000
END:DAYLIGHT
BEGIN:STANDARD
TZOFFSETFROM:-0400
TZOFFSETTO:-0500
TZNAME:EST
DTSTART:20241103T060000
END:STANDARD
BEGIN:DAYLIGHT
TZOFFSETFROM:-0500
TZOFFSETTO:-0400
TZNAME:EDT
DTSTART:20250309T070000
END:DAYLIGHT
BEGIN:STANDARD
TZOFFSETFROM:-0400
TZOFFSETTO:-0500
TZNAME:EST
DTSTART:20251102T060000
END:STANDARD
BEGIN:DAYLIGHT
TZOFFSETFROM:-0500
TZOFFSETTO:-0400
TZNAME:EDT
DTSTART:20260308T070000
END:DAYLIGHT
BEGIN:STANDARD
TZOFFSETFROM:-0400
TZOFFSETTO:-0500
TZNAME:EST
DTSTART:20261101T060000
END:STANDARD
END:VTIMEZONE
BEGIN:VEVENT
DTSTART;TZID=America/New_York:20251216T110000
DTEND;TZID=America/New_York:20251216T120000
DTSTAMP:20260423T155543
CREATED:20250908T134517Z
LAST-MODIFIED:20250908T134517Z
UID:53356-1765882800-1765886400@coe.northeastern.edu
SUMMARY:LinkedIn\, CV\, Resume: CommLab Drop-In Hours
DESCRIPTION:Graduate students\, do you need to increase your on-line presence or update your CV or Resume?  Join the CommLab’s LinkedIn\, CV\, and Resume drop-in workshops any Tuesday from 11 pm to 12 pm ET. This collaborative space offers valuable advice and peer feedback to enhance your online profile and professional presence. Join this drop-in workshop through Zoom.
URL:https://coe.northeastern.edu/event/linkedin-cv-resume-commlab-drop-in-hours-2/2025-12-16/
LOCATION:https://coe.northeastern.edu/event/linkedin-cv-resume-commlab-drop-in-hours-2/2025-12-16/
END:VEVENT
BEGIN:VEVENT
DTSTART;TZID=America/New_York:20251216T090000
DTEND;TZID=America/New_York:20251216T110000
DTSTAMP:20260423T155543
CREATED:20250908T134713Z
LAST-MODIFIED:20250908T134713Z
UID:53434-1765875600-1765882800@coe.northeastern.edu
SUMMARY:Graduate Student Writing: CommLab Drop-In Writing Hours
DESCRIPTION:Graduate students\, are you looking for a time for focused research writing?  Join the CommLab drop-in writing hours on any Tuesday between 9 -11 am ET.  Drop in on any Tuesday and stay for a short time or two hours.  A CommLab Fellow will be available to provide feedback on your writing.  We will be meeting virtually on Zoom.
URL:https://coe.northeastern.edu/event/graduate-student-writing-commlab-drop-in-writing-hours-2/2025-12-16/
LOCATION:https://northeastern.zoom.us/j/95748947707?pwd=ajJMUYNZ9I0u8hoe5z5dyuPpBQWenI.1
END:VEVENT
BEGIN:VEVENT
DTSTART;TZID=America/New_York:20251210T133000
DTEND;TZID=America/New_York:20251210T143000
DTSTAMP:20260423T155543
CREATED:20250908T134401Z
LAST-MODIFIED:20251124T145301Z
UID:53327-1765373400-1765377000@coe.northeastern.edu
SUMMARY:Scientific Oral Communication : CommLab Drop-In Workshops
DESCRIPTION:The NU CommLab is hosting a weekly hybrid Scientific Oral Communication Drop-in practice for graduate students. Drop-in virtually or in-person any week to practice for your upcoming oral exams\, proposals\, thesis\, dissertation or talks. Receive and implement feedback on your verbal and non-verbal public speaking skills. Drop-in any Wednesday from 1:30-2:30 pm in 306 Egan or on Zoom. Note on September 10 and October 8 the workshop will be in 334 Curry Student Center.
URL:https://coe.northeastern.edu/event/scientific-oral-communication-commlab-drop-in-workshops-2/2025-12-10/
LOCATION:https://coe.northeastern.edu/event/scientific-oral-communication-commlab-drop-in-workshops-2/2025-12-10/
END:VEVENT
BEGIN:VEVENT
DTSTART;TZID=America/New_York:20251210T100000
DTEND;TZID=America/New_York:20251210T110000
DTSTAMP:20260423T155543
CREATED:20250908T134555Z
LAST-MODIFIED:20251124T145221Z
UID:53396-1765360800-1765364400@coe.northeastern.edu
SUMMARY:Crafting Posters with Visual Impact and Designing Poster Narratives:  CommLab Drop-In Hours
DESCRIPTION:Working on a poster? Stop by the CommLab Drop-In hours to brainstorm ideas\, get feedback and fine tune the visual and oral presentation of your research or project. Join any Wednesday from 10-11am in person in room 206 Egan or join virtually on Zoom. \n 
URL:https://coe.northeastern.edu/event/crafting-posters-with-visual-impact-and-designing-poster-narratives-commlab-drop-in-hours/2025-12-10/
LOCATION:206 Egan\, 360 Huntington Ave\, Boston\, MA\, 02115\, United States
GEO:42.3376753;-71.0888734
X-APPLE-STRUCTURED-LOCATION;VALUE=URI;X-ADDRESS=206 Egan 360 Huntington Ave Boston MA 02115 United States;X-APPLE-RADIUS=500;X-TITLE=360 Huntington Ave:geo:-71.0888734,42.3376753
END:VEVENT
BEGIN:VEVENT
DTSTART;TZID=America/New_York:20251209T110000
DTEND;TZID=America/New_York:20251209T120000
DTSTAMP:20260423T155543
CREATED:20250908T134517Z
LAST-MODIFIED:20250908T134517Z
UID:53355-1765278000-1765281600@coe.northeastern.edu
SUMMARY:LinkedIn\, CV\, Resume: CommLab Drop-In Hours
DESCRIPTION:Graduate students\, do you need to increase your on-line presence or update your CV or Resume?  Join the CommLab’s LinkedIn\, CV\, and Resume drop-in workshops any Tuesday from 11 pm to 12 pm ET. This collaborative space offers valuable advice and peer feedback to enhance your online profile and professional presence. Join this drop-in workshop through Zoom.
URL:https://coe.northeastern.edu/event/linkedin-cv-resume-commlab-drop-in-hours-2/2025-12-09/
LOCATION:https://coe.northeastern.edu/event/linkedin-cv-resume-commlab-drop-in-hours-2/2025-12-09/
END:VEVENT
BEGIN:VEVENT
DTSTART;TZID=America/New_York:20251209T090000
DTEND;TZID=America/New_York:20251209T110000
DTSTAMP:20260423T155543
CREATED:20250908T134713Z
LAST-MODIFIED:20250908T134713Z
UID:53433-1765270800-1765278000@coe.northeastern.edu
SUMMARY:Graduate Student Writing: CommLab Drop-In Writing Hours
DESCRIPTION:Graduate students\, are you looking for a time for focused research writing?  Join the CommLab drop-in writing hours on any Tuesday between 9 -11 am ET.  Drop in on any Tuesday and stay for a short time or two hours.  A CommLab Fellow will be available to provide feedback on your writing.  We will be meeting virtually on Zoom.
URL:https://coe.northeastern.edu/event/graduate-student-writing-commlab-drop-in-writing-hours-2/2025-12-09/
LOCATION:https://northeastern.zoom.us/j/95748947707?pwd=ajJMUYNZ9I0u8hoe5z5dyuPpBQWenI.1
END:VEVENT
BEGIN:VEVENT
DTSTART;TZID=America/New_York:20251203T133000
DTEND;TZID=America/New_York:20251203T143000
DTSTAMP:20260423T155543
CREATED:20250908T134401Z
LAST-MODIFIED:20251124T145301Z
UID:53326-1764768600-1764772200@coe.northeastern.edu
SUMMARY:Scientific Oral Communication : CommLab Drop-In Workshops
DESCRIPTION:The NU CommLab is hosting a weekly hybrid Scientific Oral Communication Drop-in practice for graduate students. Drop-in virtually or in-person any week to practice for your upcoming oral exams\, proposals\, thesis\, dissertation or talks. Receive and implement feedback on your verbal and non-verbal public speaking skills. Drop-in any Wednesday from 1:30-2:30 pm in 306 Egan or on Zoom. Note on September 10 and October 8 the workshop will be in 334 Curry Student Center.
URL:https://coe.northeastern.edu/event/scientific-oral-communication-commlab-drop-in-workshops-2/2025-12-03/
LOCATION:https://coe.northeastern.edu/event/scientific-oral-communication-commlab-drop-in-workshops-2/2025-12-03/
END:VEVENT
BEGIN:VEVENT
DTSTART;TZID=America/New_York:20251203T100000
DTEND;TZID=America/New_York:20251203T110000
DTSTAMP:20260423T155543
CREATED:20250908T134555Z
LAST-MODIFIED:20251124T145220Z
UID:53395-1764756000-1764759600@coe.northeastern.edu
SUMMARY:Crafting Posters with Visual Impact and Designing Poster Narratives:  CommLab Drop-In Hours
DESCRIPTION:Working on a poster? Stop by the CommLab Drop-In hours to brainstorm ideas\, get feedback and fine tune the visual and oral presentation of your research or project. Join any Wednesday from 10-11am in person in room 206 Egan or join virtually on Zoom. \n 
URL:https://coe.northeastern.edu/event/crafting-posters-with-visual-impact-and-designing-poster-narratives-commlab-drop-in-hours/2025-12-03/
LOCATION:206 Egan\, 360 Huntington Ave\, Boston\, MA\, 02115\, United States
GEO:42.3376753;-71.0888734
X-APPLE-STRUCTURED-LOCATION;VALUE=URI;X-ADDRESS=206 Egan 360 Huntington Ave Boston MA 02115 United States;X-APPLE-RADIUS=500;X-TITLE=360 Huntington Ave:geo:-71.0888734,42.3376753
END:VEVENT
BEGIN:VEVENT
DTSTART;TZID=America/New_York:20251202T110000
DTEND;TZID=America/New_York:20251202T120000
DTSTAMP:20260423T155543
CREATED:20250908T134516Z
LAST-MODIFIED:20250908T134516Z
UID:53354-1764673200-1764676800@coe.northeastern.edu
SUMMARY:LinkedIn\, CV\, Resume: CommLab Drop-In Hours
DESCRIPTION:Graduate students\, do you need to increase your on-line presence or update your CV or Resume?  Join the CommLab’s LinkedIn\, CV\, and Resume drop-in workshops any Tuesday from 11 pm to 12 pm ET. This collaborative space offers valuable advice and peer feedback to enhance your online profile and professional presence. Join this drop-in workshop through Zoom.
URL:https://coe.northeastern.edu/event/linkedin-cv-resume-commlab-drop-in-hours-2/2025-12-02/
LOCATION:https://coe.northeastern.edu/event/linkedin-cv-resume-commlab-drop-in-hours-2/2025-12-02/
END:VEVENT
BEGIN:VEVENT
DTSTART;TZID=America/New_York:20251202T090000
DTEND;TZID=America/New_York:20251202T110000
DTSTAMP:20260423T155543
CREATED:20250908T134713Z
LAST-MODIFIED:20250908T134713Z
UID:53432-1764666000-1764673200@coe.northeastern.edu
SUMMARY:Graduate Student Writing: CommLab Drop-In Writing Hours
DESCRIPTION:Graduate students\, are you looking for a time for focused research writing?  Join the CommLab drop-in writing hours on any Tuesday between 9 -11 am ET.  Drop in on any Tuesday and stay for a short time or two hours.  A CommLab Fellow will be available to provide feedback on your writing.  We will be meeting virtually on Zoom.
URL:https://coe.northeastern.edu/event/graduate-student-writing-commlab-drop-in-writing-hours-2/2025-12-02/
LOCATION:https://northeastern.zoom.us/j/95748947707?pwd=ajJMUYNZ9I0u8hoe5z5dyuPpBQWenI.1
END:VEVENT
BEGIN:VEVENT
DTSTART;TZID=America/New_York:20251125T110000
DTEND;TZID=America/New_York:20251125T120000
DTSTAMP:20260423T155543
CREATED:20250908T134516Z
LAST-MODIFIED:20250908T134516Z
UID:53353-1764068400-1764072000@coe.northeastern.edu
SUMMARY:LinkedIn\, CV\, Resume: CommLab Drop-In Hours
DESCRIPTION:Graduate students\, do you need to increase your on-line presence or update your CV or Resume?  Join the CommLab’s LinkedIn\, CV\, and Resume drop-in workshops any Tuesday from 11 pm to 12 pm ET. This collaborative space offers valuable advice and peer feedback to enhance your online profile and professional presence. Join this drop-in workshop through Zoom.
URL:https://coe.northeastern.edu/event/linkedin-cv-resume-commlab-drop-in-hours-2/2025-11-25/
LOCATION:https://coe.northeastern.edu/event/linkedin-cv-resume-commlab-drop-in-hours-2/2025-11-25/
END:VEVENT
BEGIN:VEVENT
DTSTART;TZID=America/New_York:20251125T090000
DTEND;TZID=America/New_York:20251125T110000
DTSTAMP:20260423T155543
CREATED:20250908T134713Z
LAST-MODIFIED:20250908T134713Z
UID:53431-1764061200-1764068400@coe.northeastern.edu
SUMMARY:Graduate Student Writing: CommLab Drop-In Writing Hours
DESCRIPTION:Graduate students\, are you looking for a time for focused research writing?  Join the CommLab drop-in writing hours on any Tuesday between 9 -11 am ET.  Drop in on any Tuesday and stay for a short time or two hours.  A CommLab Fellow will be available to provide feedback on your writing.  We will be meeting virtually on Zoom.
URL:https://coe.northeastern.edu/event/graduate-student-writing-commlab-drop-in-writing-hours-2/2025-11-25/
LOCATION:https://northeastern.zoom.us/j/95748947707?pwd=ajJMUYNZ9I0u8hoe5z5dyuPpBQWenI.1
END:VEVENT
BEGIN:VEVENT
DTSTART;TZID=America/New_York:20251119T133000
DTEND;TZID=America/New_York:20251119T143000
DTSTAMP:20260423T155543
CREATED:20250908T134401Z
LAST-MODIFIED:20251124T145300Z
UID:53323-1763559000-1763562600@coe.northeastern.edu
SUMMARY:Scientific Oral Communication : CommLab Drop-In Workshops
DESCRIPTION:The NU CommLab is hosting a weekly hybrid Scientific Oral Communication Drop-in practice for graduate students. Drop-in virtually or in-person any week to practice for your upcoming oral exams\, proposals\, thesis\, dissertation or talks. Receive and implement feedback on your verbal and non-verbal public speaking skills. Drop-in any Wednesday from 1:30-2:30 pm in 306 Egan or on Zoom. Note on September 10 and October 8 the workshop will be in 334 Curry Student Center.
URL:https://coe.northeastern.edu/event/scientific-oral-communication-commlab-drop-in-workshops-2/2025-11-19/
LOCATION:https://coe.northeastern.edu/event/scientific-oral-communication-commlab-drop-in-workshops-2/2025-11-19/
END:VEVENT
BEGIN:VEVENT
DTSTART;TZID=America/New_York:20251119T100000
DTEND;TZID=America/New_York:20251119T110000
DTSTAMP:20260423T155543
CREATED:20250908T134555Z
LAST-MODIFIED:20251124T145214Z
UID:53392-1763546400-1763550000@coe.northeastern.edu
SUMMARY:Crafting Posters with Visual Impact and Designing Poster Narratives:  CommLab Drop-In Hours
DESCRIPTION:Working on a poster? Stop by the CommLab Drop-In hours to brainstorm ideas\, get feedback and fine tune the visual and oral presentation of your research or project. Join any Wednesday from 10-11am in person in room 206 Egan or join virtually on Zoom. \n 
URL:https://coe.northeastern.edu/event/crafting-posters-with-visual-impact-and-designing-poster-narratives-commlab-drop-in-hours/2025-11-19/
LOCATION:206 Egan\, 360 Huntington Ave\, Boston\, MA\, 02115\, United States
GEO:42.3376753;-71.0888734
X-APPLE-STRUCTURED-LOCATION;VALUE=URI;X-ADDRESS=206 Egan 360 Huntington Ave Boston MA 02115 United States;X-APPLE-RADIUS=500;X-TITLE=360 Huntington Ave:geo:-71.0888734,42.3376753
END:VEVENT
BEGIN:VEVENT
DTSTART;TZID=America/New_York:20251118T110000
DTEND;TZID=America/New_York:20251118T120000
DTSTAMP:20260423T155543
CREATED:20250908T134509Z
LAST-MODIFIED:20250908T134509Z
UID:53352-1763463600-1763467200@coe.northeastern.edu
SUMMARY:LinkedIn\, CV\, Resume: CommLab Drop-In Hours
DESCRIPTION:Graduate students\, do you need to increase your on-line presence or update your CV or Resume?  Join the CommLab’s LinkedIn\, CV\, and Resume drop-in workshops any Tuesday from 11 pm to 12 pm ET. This collaborative space offers valuable advice and peer feedback to enhance your online profile and professional presence. Join this drop-in workshop through Zoom.
URL:https://coe.northeastern.edu/event/linkedin-cv-resume-commlab-drop-in-hours-2/2025-11-18/
LOCATION:https://coe.northeastern.edu/event/linkedin-cv-resume-commlab-drop-in-hours-2/2025-11-18/
END:VEVENT
BEGIN:VEVENT
DTSTART;TZID=America/New_York:20251118T090000
DTEND;TZID=America/New_York:20251118T110000
DTSTAMP:20260423T155543
CREATED:20250908T134713Z
LAST-MODIFIED:20250908T134713Z
UID:53429-1763456400-1763463600@coe.northeastern.edu
SUMMARY:Graduate Student Writing: CommLab Drop-In Writing Hours
DESCRIPTION:Graduate students\, are you looking for a time for focused research writing?  Join the CommLab drop-in writing hours on any Tuesday between 9 -11 am ET.  Drop in on any Tuesday and stay for a short time or two hours.  A CommLab Fellow will be available to provide feedback on your writing.  We will be meeting virtually on Zoom.
URL:https://coe.northeastern.edu/event/graduate-student-writing-commlab-drop-in-writing-hours-2/2025-11-18/
LOCATION:https://northeastern.zoom.us/j/95748947707?pwd=ajJMUYNZ9I0u8hoe5z5dyuPpBQWenI.1
END:VEVENT
BEGIN:VEVENT
DTSTART;TZID=America/New_York:20251112T133000
DTEND;TZID=America/New_York:20251112T143000
DTSTAMP:20260423T155543
CREATED:20250908T134401Z
LAST-MODIFIED:20251124T145253Z
UID:53322-1762954200-1762957800@coe.northeastern.edu
SUMMARY:Scientific Oral Communication : CommLab Drop-In Workshops
DESCRIPTION:The NU CommLab is hosting a weekly hybrid Scientific Oral Communication Drop-in practice for graduate students. Drop-in virtually or in-person any week to practice for your upcoming oral exams\, proposals\, thesis\, dissertation or talks. Receive and implement feedback on your verbal and non-verbal public speaking skills. Drop-in any Wednesday from 1:30-2:30 pm in 306 Egan or on Zoom. Note on September 10 and October 8 the workshop will be in 334 Curry Student Center.
URL:https://coe.northeastern.edu/event/scientific-oral-communication-commlab-drop-in-workshops-2/2025-11-12/
LOCATION:https://coe.northeastern.edu/event/scientific-oral-communication-commlab-drop-in-workshops-2/2025-11-12/
END:VEVENT
BEGIN:VEVENT
DTSTART;TZID=America/New_York:20251112T100000
DTEND;TZID=America/New_York:20251112T110000
DTSTAMP:20260423T155543
CREATED:20250908T134555Z
LAST-MODIFIED:20251124T145214Z
UID:53391-1762941600-1762945200@coe.northeastern.edu
SUMMARY:Crafting Posters with Visual Impact and Designing Poster Narratives:  CommLab Drop-In Hours
DESCRIPTION:Working on a poster? Stop by the CommLab Drop-In hours to brainstorm ideas\, get feedback and fine tune the visual and oral presentation of your research or project. Join any Wednesday from 10-11am in person in room 206 Egan or join virtually on Zoom. \n 
URL:https://coe.northeastern.edu/event/crafting-posters-with-visual-impact-and-designing-poster-narratives-commlab-drop-in-hours/2025-11-12/
LOCATION:206 Egan\, 360 Huntington Ave\, Boston\, MA\, 02115\, United States
GEO:42.3376753;-71.0888734
X-APPLE-STRUCTURED-LOCATION;VALUE=URI;X-ADDRESS=206 Egan 360 Huntington Ave Boston MA 02115 United States;X-APPLE-RADIUS=500;X-TITLE=360 Huntington Ave:geo:-71.0888734,42.3376753
END:VEVENT
BEGIN:VEVENT
DTSTART;TZID=America/New_York:20251111T110000
DTEND;TZID=America/New_York:20251111T120000
DTSTAMP:20260423T155543
CREATED:20250908T134508Z
LAST-MODIFIED:20250908T134508Z
UID:53351-1762858800-1762862400@coe.northeastern.edu
SUMMARY:LinkedIn\, CV\, Resume: CommLab Drop-In Hours
DESCRIPTION:Graduate students\, do you need to increase your on-line presence or update your CV or Resume?  Join the CommLab’s LinkedIn\, CV\, and Resume drop-in workshops any Tuesday from 11 pm to 12 pm ET. This collaborative space offers valuable advice and peer feedback to enhance your online profile and professional presence. Join this drop-in workshop through Zoom.
URL:https://coe.northeastern.edu/event/linkedin-cv-resume-commlab-drop-in-hours-2/2025-11-11/
LOCATION:https://coe.northeastern.edu/event/linkedin-cv-resume-commlab-drop-in-hours-2/2025-11-11/
END:VEVENT
BEGIN:VEVENT
DTSTART;TZID=America/New_York:20251111T090000
DTEND;TZID=America/New_York:20251111T110000
DTSTAMP:20260423T155543
CREATED:20250908T134713Z
LAST-MODIFIED:20250908T134713Z
UID:53428-1762851600-1762858800@coe.northeastern.edu
SUMMARY:Graduate Student Writing: CommLab Drop-In Writing Hours
DESCRIPTION:Graduate students\, are you looking for a time for focused research writing?  Join the CommLab drop-in writing hours on any Tuesday between 9 -11 am ET.  Drop in on any Tuesday and stay for a short time or two hours.  A CommLab Fellow will be available to provide feedback on your writing.  We will be meeting virtually on Zoom.
URL:https://coe.northeastern.edu/event/graduate-student-writing-commlab-drop-in-writing-hours-2/2025-11-11/
LOCATION:https://northeastern.zoom.us/j/95748947707?pwd=ajJMUYNZ9I0u8hoe5z5dyuPpBQWenI.1
END:VEVENT
BEGIN:VEVENT
DTSTART;TZID=America/New_York:20251105T133000
DTEND;TZID=America/New_York:20251105T143000
DTSTAMP:20260423T155543
CREATED:20250908T134401Z
LAST-MODIFIED:20251124T145253Z
UID:53321-1762349400-1762353000@coe.northeastern.edu
SUMMARY:Scientific Oral Communication : CommLab Drop-In Workshops
DESCRIPTION:The NU CommLab is hosting a weekly hybrid Scientific Oral Communication Drop-in practice for graduate students. Drop-in virtually or in-person any week to practice for your upcoming oral exams\, proposals\, thesis\, dissertation or talks. Receive and implement feedback on your verbal and non-verbal public speaking skills. Drop-in any Wednesday from 1:30-2:30 pm in 306 Egan or on Zoom. Note on September 10 and October 8 the workshop will be in 334 Curry Student Center.
URL:https://coe.northeastern.edu/event/scientific-oral-communication-commlab-drop-in-workshops-2/2025-11-05/
LOCATION:https://coe.northeastern.edu/event/scientific-oral-communication-commlab-drop-in-workshops-2/2025-11-05/
END:VEVENT
BEGIN:VEVENT
DTSTART;TZID=America/New_York:20251105T100000
DTEND;TZID=America/New_York:20251105T110000
DTSTAMP:20260423T155543
CREATED:20250908T134555Z
LAST-MODIFIED:20251124T145213Z
UID:53390-1762336800-1762340400@coe.northeastern.edu
SUMMARY:Crafting Posters with Visual Impact and Designing Poster Narratives:  CommLab Drop-In Hours
DESCRIPTION:Working on a poster? Stop by the CommLab Drop-In hours to brainstorm ideas\, get feedback and fine tune the visual and oral presentation of your research or project. Join any Wednesday from 10-11am in person in room 206 Egan or join virtually on Zoom. \n 
URL:https://coe.northeastern.edu/event/crafting-posters-with-visual-impact-and-designing-poster-narratives-commlab-drop-in-hours/2025-11-05/
LOCATION:206 Egan\, 360 Huntington Ave\, Boston\, MA\, 02115\, United States
GEO:42.3376753;-71.0888734
X-APPLE-STRUCTURED-LOCATION;VALUE=URI;X-ADDRESS=206 Egan 360 Huntington Ave Boston MA 02115 United States;X-APPLE-RADIUS=500;X-TITLE=360 Huntington Ave:geo:-71.0888734,42.3376753
END:VEVENT
BEGIN:VEVENT
DTSTART;TZID=America/New_York:20251104T110000
DTEND;TZID=America/New_York:20251104T120000
DTSTAMP:20260423T155543
CREATED:20250908T134507Z
LAST-MODIFIED:20250908T134507Z
UID:53350-1762254000-1762257600@coe.northeastern.edu
SUMMARY:LinkedIn\, CV\, Resume: CommLab Drop-In Hours
DESCRIPTION:Graduate students\, do you need to increase your on-line presence or update your CV or Resume?  Join the CommLab’s LinkedIn\, CV\, and Resume drop-in workshops any Tuesday from 11 pm to 12 pm ET. This collaborative space offers valuable advice and peer feedback to enhance your online profile and professional presence. Join this drop-in workshop through Zoom.
URL:https://coe.northeastern.edu/event/linkedin-cv-resume-commlab-drop-in-hours-2/2025-11-04/
LOCATION:https://coe.northeastern.edu/event/linkedin-cv-resume-commlab-drop-in-hours-2/2025-11-04/
END:VEVENT
BEGIN:VEVENT
DTSTART;TZID=America/New_York:20251104T090000
DTEND;TZID=America/New_York:20251104T110000
DTSTAMP:20260423T155543
CREATED:20250908T134713Z
LAST-MODIFIED:20250908T134713Z
UID:53427-1762246800-1762254000@coe.northeastern.edu
SUMMARY:Graduate Student Writing: CommLab Drop-In Writing Hours
DESCRIPTION:Graduate students\, are you looking for a time for focused research writing?  Join the CommLab drop-in writing hours on any Tuesday between 9 -11 am ET.  Drop in on any Tuesday and stay for a short time or two hours.  A CommLab Fellow will be available to provide feedback on your writing.  We will be meeting virtually on Zoom.
URL:https://coe.northeastern.edu/event/graduate-student-writing-commlab-drop-in-writing-hours-2/2025-11-04/
LOCATION:https://northeastern.zoom.us/j/95748947707?pwd=ajJMUYNZ9I0u8hoe5z5dyuPpBQWenI.1
END:VEVENT
BEGIN:VEVENT
DTSTART;TZID=America/New_York:20251029T133000
DTEND;TZID=America/New_York:20251029T143000
DTSTAMP:20260423T155543
CREATED:20250908T134401Z
LAST-MODIFIED:20251124T145252Z
UID:53320-1761744600-1761748200@coe.northeastern.edu
SUMMARY:Scientific Oral Communication : CommLab Drop-In Workshops
DESCRIPTION:The NU CommLab is hosting a weekly hybrid Scientific Oral Communication Drop-in practice for graduate students. Drop-in virtually or in-person any week to practice for your upcoming oral exams\, proposals\, thesis\, dissertation or talks. Receive and implement feedback on your verbal and non-verbal public speaking skills. Drop-in any Wednesday from 1:30-2:30 pm in 306 Egan or on Zoom. Note on September 10 and October 8 the workshop will be in 334 Curry Student Center.
URL:https://coe.northeastern.edu/event/scientific-oral-communication-commlab-drop-in-workshops-2/2025-10-29/
LOCATION:https://coe.northeastern.edu/event/scientific-oral-communication-commlab-drop-in-workshops-2/2025-10-29/
END:VEVENT
BEGIN:VEVENT
DTSTART;TZID=America/New_York:20251029T100000
DTEND;TZID=America/New_York:20251029T110000
DTSTAMP:20260423T155543
CREATED:20250908T134555Z
LAST-MODIFIED:20251124T145213Z
UID:53389-1761732000-1761735600@coe.northeastern.edu
SUMMARY:Crafting Posters with Visual Impact and Designing Poster Narratives:  CommLab Drop-In Hours
DESCRIPTION:Working on a poster? Stop by the CommLab Drop-In hours to brainstorm ideas\, get feedback and fine tune the visual and oral presentation of your research or project. Join any Wednesday from 10-11am in person in room 206 Egan or join virtually on Zoom. \n 
URL:https://coe.northeastern.edu/event/crafting-posters-with-visual-impact-and-designing-poster-narratives-commlab-drop-in-hours/2025-10-29/
LOCATION:206 Egan\, 360 Huntington Ave\, Boston\, MA\, 02115\, United States
GEO:42.3376753;-71.0888734
X-APPLE-STRUCTURED-LOCATION;VALUE=URI;X-ADDRESS=206 Egan 360 Huntington Ave Boston MA 02115 United States;X-APPLE-RADIUS=500;X-TITLE=360 Huntington Ave:geo:-71.0888734,42.3376753
END:VEVENT
BEGIN:VEVENT
DTSTART;TZID=America/New_York:20251028T110000
DTEND;TZID=America/New_York:20251028T120000
DTSTAMP:20260423T155543
CREATED:20250908T134507Z
LAST-MODIFIED:20250908T134507Z
UID:53349-1761649200-1761652800@coe.northeastern.edu
SUMMARY:LinkedIn\, CV\, Resume: CommLab Drop-In Hours
DESCRIPTION:Graduate students\, do you need to increase your on-line presence or update your CV or Resume?  Join the CommLab’s LinkedIn\, CV\, and Resume drop-in workshops any Tuesday from 11 pm to 12 pm ET. This collaborative space offers valuable advice and peer feedback to enhance your online profile and professional presence. Join this drop-in workshop through Zoom.
URL:https://coe.northeastern.edu/event/linkedin-cv-resume-commlab-drop-in-hours-2/2025-10-28/
LOCATION:https://coe.northeastern.edu/event/linkedin-cv-resume-commlab-drop-in-hours-2/2025-10-28/
END:VEVENT
BEGIN:VEVENT
DTSTART;TZID=America/New_York:20251028T090000
DTEND;TZID=America/New_York:20251028T110000
DTSTAMP:20260423T155543
CREATED:20250908T134713Z
LAST-MODIFIED:20250908T134713Z
UID:53426-1761642000-1761649200@coe.northeastern.edu
SUMMARY:Graduate Student Writing: CommLab Drop-In Writing Hours
DESCRIPTION:Graduate students\, are you looking for a time for focused research writing?  Join the CommLab drop-in writing hours on any Tuesday between 9 -11 am ET.  Drop in on any Tuesday and stay for a short time or two hours.  A CommLab Fellow will be available to provide feedback on your writing.  We will be meeting virtually on Zoom.
URL:https://coe.northeastern.edu/event/graduate-student-writing-commlab-drop-in-writing-hours-2/2025-10-28/
LOCATION:https://northeastern.zoom.us/j/95748947707?pwd=ajJMUYNZ9I0u8hoe5z5dyuPpBQWenI.1
END:VEVENT
BEGIN:VEVENT
DTSTART;TZID=America/New_York:20251023T150000
DTEND;TZID=America/New_York:20251023T160000
DTSTAMP:20260423T155543
CREATED:20250529T202208Z
LAST-MODIFIED:20250529T202208Z
UID:53418-1761231600-1761235200@coe.northeastern.edu
SUMMARY:Graduate Student Fellowship Writing Club
DESCRIPTION:Join the COE CommLab\, NETSI\, and the College of Science sponsored weekly graduate student fellowship writing club for support in writing your fellowship application!  The fellowship writing club meets virtually on Thursdays from 3-4 pm from September – October.  We will offer you an opportunity to ask questions to faculty\, staff and students who have reviewed\, mentored or applied and received fellowships.  We will provide fellowship writing tips and guidance as well as offer writing and draft review sessions.  Join this drop-in workshop through Zoom.
URL:https://coe.northeastern.edu/event/graduate-student-fellowship-writing-club-2/2025-10-23/
END:VEVENT
BEGIN:VEVENT
DTSTART;TZID=America/New_York:20251022T133000
DTEND;TZID=America/New_York:20251022T143000
DTSTAMP:20260423T155543
CREATED:20250908T134401Z
LAST-MODIFIED:20251124T145252Z
UID:53319-1761139800-1761143400@coe.northeastern.edu
SUMMARY:Scientific Oral Communication : CommLab Drop-In Workshops
DESCRIPTION:The NU CommLab is hosting a weekly hybrid Scientific Oral Communication Drop-in practice for graduate students. Drop-in virtually or in-person any week to practice for your upcoming oral exams\, proposals\, thesis\, dissertation or talks. Receive and implement feedback on your verbal and non-verbal public speaking skills. Drop-in any Wednesday from 1:30-2:30 pm in 306 Egan or on Zoom. Note on September 10 and October 8 the workshop will be in 334 Curry Student Center.
URL:https://coe.northeastern.edu/event/scientific-oral-communication-commlab-drop-in-workshops-2/2025-10-22/
LOCATION:https://coe.northeastern.edu/event/scientific-oral-communication-commlab-drop-in-workshops-2/2025-10-22/
END:VEVENT
END:VCALENDAR