BEGIN:VCALENDAR
VERSION:2.0
PRODID:-//Northeastern University College of Engineering - ECPv6.15.18//NONSGML v1.0//EN
CALSCALE:GREGORIAN
METHOD:PUBLISH
X-WR-CALNAME:Northeastern University College of Engineering
X-ORIGINAL-URL:https://coe.northeastern.edu
X-WR-CALDESC:Events for Northeastern University College of Engineering
REFRESH-INTERVAL;VALUE=DURATION:PT1H
X-Robots-Tag:noindex
X-PUBLISHED-TTL:PT1H
BEGIN:VTIMEZONE
TZID:America/New_York
BEGIN:DAYLIGHT
TZOFFSETFROM:-0500
TZOFFSETTO:-0400
TZNAME:EDT
DTSTART:20240310T070000
END:DAYLIGHT
BEGIN:STANDARD
TZOFFSETFROM:-0400
TZOFFSETTO:-0500
TZNAME:EST
DTSTART:20241103T060000
END:STANDARD
BEGIN:DAYLIGHT
TZOFFSETFROM:-0500
TZOFFSETTO:-0400
TZNAME:EDT
DTSTART:20250309T070000
END:DAYLIGHT
BEGIN:STANDARD
TZOFFSETFROM:-0400
TZOFFSETTO:-0500
TZNAME:EST
DTSTART:20251102T060000
END:STANDARD
BEGIN:DAYLIGHT
TZOFFSETFROM:-0500
TZOFFSETTO:-0400
TZNAME:EDT
DTSTART:20260308T070000
END:DAYLIGHT
BEGIN:STANDARD
TZOFFSETFROM:-0400
TZOFFSETTO:-0500
TZNAME:EST
DTSTART:20261101T060000
END:STANDARD
END:VTIMEZONE
BEGIN:VEVENT
DTSTART;TZID=America/New_York:20251022T100000
DTEND;TZID=America/New_York:20251022T110000
DTSTAMP:20260422T215248
CREATED:20250908T134555Z
LAST-MODIFIED:20251124T145212Z
UID:53388-1761127200-1761130800@coe.northeastern.edu
SUMMARY:Crafting Posters with Visual Impact and Designing Poster Narratives:  CommLab Drop-In Hours
DESCRIPTION:Working on a poster? Stop by the CommLab Drop-In hours to brainstorm ideas\, get feedback and fine tune the visual and oral presentation of your research or project. Join any Wednesday from 10-11am in person in room 206 Egan or join virtually on Zoom. \n 
URL:https://coe.northeastern.edu/event/crafting-posters-with-visual-impact-and-designing-poster-narratives-commlab-drop-in-hours/2025-10-22/
LOCATION:206 Egan\, 360 Huntington Ave\, Boston\, MA\, 02115\, United States
GEO:42.3376753;-71.0888734
X-APPLE-STRUCTURED-LOCATION;VALUE=URI;X-ADDRESS=206 Egan 360 Huntington Ave Boston MA 02115 United States;X-APPLE-RADIUS=500;X-TITLE=360 Huntington Ave:geo:-71.0888734,42.3376753
END:VEVENT
BEGIN:VEVENT
DTSTART;TZID=America/New_York:20251021T110000
DTEND;TZID=America/New_York:20251021T120000
DTSTAMP:20260422T215248
CREATED:20250908T134506Z
LAST-MODIFIED:20250908T134506Z
UID:53348-1761044400-1761048000@coe.northeastern.edu
SUMMARY:LinkedIn\, CV\, Resume: CommLab Drop-In Hours
DESCRIPTION:Graduate students\, do you need to increase your on-line presence or update your CV or Resume?  Join the CommLab’s LinkedIn\, CV\, and Resume drop-in workshops any Tuesday from 11 pm to 12 pm ET. This collaborative space offers valuable advice and peer feedback to enhance your online profile and professional presence. Join this drop-in workshop through Zoom.
URL:https://coe.northeastern.edu/event/linkedin-cv-resume-commlab-drop-in-hours-2/2025-10-21/
LOCATION:https://coe.northeastern.edu/event/linkedin-cv-resume-commlab-drop-in-hours-2/2025-10-21/
END:VEVENT
BEGIN:VEVENT
DTSTART;TZID=America/New_York:20251021T090000
DTEND;TZID=America/New_York:20251021T110000
DTSTAMP:20260422T215248
CREATED:20250908T134713Z
LAST-MODIFIED:20250908T134713Z
UID:53425-1761037200-1761044400@coe.northeastern.edu
SUMMARY:Graduate Student Writing: CommLab Drop-In Writing Hours
DESCRIPTION:Graduate students\, are you looking for a time for focused research writing?  Join the CommLab drop-in writing hours on any Tuesday between 9 -11 am ET.  Drop in on any Tuesday and stay for a short time or two hours.  A CommLab Fellow will be available to provide feedback on your writing.  We will be meeting virtually on Zoom.
URL:https://coe.northeastern.edu/event/graduate-student-writing-commlab-drop-in-writing-hours-2/2025-10-21/
LOCATION:https://northeastern.zoom.us/j/95748947707?pwd=ajJMUYNZ9I0u8hoe5z5dyuPpBQWenI.1
END:VEVENT
BEGIN:VEVENT
DTSTART;TZID=America/New_York:20251016T150000
DTEND;TZID=America/New_York:20251016T160000
DTSTAMP:20260422T215248
CREATED:20250529T202208Z
LAST-MODIFIED:20250529T202208Z
UID:53417-1760626800-1760630400@coe.northeastern.edu
SUMMARY:Graduate Student Fellowship Writing Club
DESCRIPTION:Join the COE CommLab\, NETSI\, and the College of Science sponsored weekly graduate student fellowship writing club for support in writing your fellowship application!  The fellowship writing club meets virtually on Thursdays from 3-4 pm from September – October.  We will offer you an opportunity to ask questions to faculty\, staff and students who have reviewed\, mentored or applied and received fellowships.  We will provide fellowship writing tips and guidance as well as offer writing and draft review sessions.  Join this drop-in workshop through Zoom.
URL:https://coe.northeastern.edu/event/graduate-student-fellowship-writing-club-2/2025-10-16/
END:VEVENT
BEGIN:VEVENT
DTSTART;TZID=America/New_York:20251015T133000
DTEND;TZID=America/New_York:20251015T143000
DTSTAMP:20260422T215248
CREATED:20250908T134401Z
LAST-MODIFIED:20251124T145251Z
UID:53318-1760535000-1760538600@coe.northeastern.edu
SUMMARY:Scientific Oral Communication : CommLab Drop-In Workshops
DESCRIPTION:The NU CommLab is hosting a weekly hybrid Scientific Oral Communication Drop-in practice for graduate students. Drop-in virtually or in-person any week to practice for your upcoming oral exams\, proposals\, thesis\, dissertation or talks. Receive and implement feedback on your verbal and non-verbal public speaking skills. Drop-in any Wednesday from 1:30-2:30 pm in 306 Egan or on Zoom. Note on September 10 and October 8 the workshop will be in 334 Curry Student Center.
URL:https://coe.northeastern.edu/event/scientific-oral-communication-commlab-drop-in-workshops-2/2025-10-15/
LOCATION:https://coe.northeastern.edu/event/scientific-oral-communication-commlab-drop-in-workshops-2/2025-10-15/
END:VEVENT
BEGIN:VEVENT
DTSTART;TZID=America/New_York:20251015T100000
DTEND;TZID=America/New_York:20251015T110000
DTSTAMP:20260422T215248
CREATED:20250908T134555Z
LAST-MODIFIED:20251124T145212Z
UID:53387-1760522400-1760526000@coe.northeastern.edu
SUMMARY:Crafting Posters with Visual Impact and Designing Poster Narratives:  CommLab Drop-In Hours
DESCRIPTION:Working on a poster? Stop by the CommLab Drop-In hours to brainstorm ideas\, get feedback and fine tune the visual and oral presentation of your research or project. Join any Wednesday from 10-11am in person in room 206 Egan or join virtually on Zoom. \n 
URL:https://coe.northeastern.edu/event/crafting-posters-with-visual-impact-and-designing-poster-narratives-commlab-drop-in-hours/2025-10-15/
LOCATION:206 Egan\, 360 Huntington Ave\, Boston\, MA\, 02115\, United States
GEO:42.3376753;-71.0888734
X-APPLE-STRUCTURED-LOCATION;VALUE=URI;X-ADDRESS=206 Egan 360 Huntington Ave Boston MA 02115 United States;X-APPLE-RADIUS=500;X-TITLE=360 Huntington Ave:geo:-71.0888734,42.3376753
END:VEVENT
BEGIN:VEVENT
DTSTART;TZID=America/New_York:20251014T110000
DTEND;TZID=America/New_York:20251014T120000
DTSTAMP:20260422T215248
CREATED:20250908T134506Z
LAST-MODIFIED:20250908T134506Z
UID:53347-1760439600-1760443200@coe.northeastern.edu
SUMMARY:LinkedIn\, CV\, Resume: CommLab Drop-In Hours
DESCRIPTION:Graduate students\, do you need to increase your on-line presence or update your CV or Resume?  Join the CommLab’s LinkedIn\, CV\, and Resume drop-in workshops any Tuesday from 11 pm to 12 pm ET. This collaborative space offers valuable advice and peer feedback to enhance your online profile and professional presence. Join this drop-in workshop through Zoom.
URL:https://coe.northeastern.edu/event/linkedin-cv-resume-commlab-drop-in-hours-2/2025-10-14/
LOCATION:https://coe.northeastern.edu/event/linkedin-cv-resume-commlab-drop-in-hours-2/2025-10-14/
END:VEVENT
BEGIN:VEVENT
DTSTART;TZID=America/New_York:20251014T090000
DTEND;TZID=America/New_York:20251014T110000
DTSTAMP:20260422T215248
CREATED:20250908T134713Z
LAST-MODIFIED:20250908T134713Z
UID:53424-1760432400-1760439600@coe.northeastern.edu
SUMMARY:Graduate Student Writing: CommLab Drop-In Writing Hours
DESCRIPTION:Graduate students\, are you looking for a time for focused research writing?  Join the CommLab drop-in writing hours on any Tuesday between 9 -11 am ET.  Drop in on any Tuesday and stay for a short time or two hours.  A CommLab Fellow will be available to provide feedback on your writing.  We will be meeting virtually on Zoom.
URL:https://coe.northeastern.edu/event/graduate-student-writing-commlab-drop-in-writing-hours-2/2025-10-14/
LOCATION:https://northeastern.zoom.us/j/95748947707?pwd=ajJMUYNZ9I0u8hoe5z5dyuPpBQWenI.1
END:VEVENT
BEGIN:VEVENT
DTSTART;TZID=America/New_York:20251009T150000
DTEND;TZID=America/New_York:20251009T160000
DTSTAMP:20260422T215248
CREATED:20250529T202208Z
LAST-MODIFIED:20250529T202208Z
UID:53416-1760022000-1760025600@coe.northeastern.edu
SUMMARY:Graduate Student Fellowship Writing Club
DESCRIPTION:Join the COE CommLab\, NETSI\, and the College of Science sponsored weekly graduate student fellowship writing club for support in writing your fellowship application!  The fellowship writing club meets virtually on Thursdays from 3-4 pm from September – October.  We will offer you an opportunity to ask questions to faculty\, staff and students who have reviewed\, mentored or applied and received fellowships.  We will provide fellowship writing tips and guidance as well as offer writing and draft review sessions.  Join this drop-in workshop through Zoom.
URL:https://coe.northeastern.edu/event/graduate-student-fellowship-writing-club-2/2025-10-09/
END:VEVENT
BEGIN:VEVENT
DTSTART;TZID=America/New_York:20251008T133000
DTEND;TZID=America/New_York:20251008T143000
DTSTAMP:20260422T215248
CREATED:20250908T134401Z
LAST-MODIFIED:20251124T145251Z
UID:53317-1759930200-1759933800@coe.northeastern.edu
SUMMARY:Scientific Oral Communication : CommLab Drop-In Workshops
DESCRIPTION:The NU CommLab is hosting a weekly hybrid Scientific Oral Communication Drop-in practice for graduate students. Drop-in virtually or in-person any week to practice for your upcoming oral exams\, proposals\, thesis\, dissertation or talks. Receive and implement feedback on your verbal and non-verbal public speaking skills. Drop-in any Wednesday from 1:30-2:30 pm in 306 Egan or on Zoom. Note on September 10 and October 8 the workshop will be in 334 Curry Student Center.
URL:https://coe.northeastern.edu/event/scientific-oral-communication-commlab-drop-in-workshops-2/2025-10-08/
LOCATION:https://coe.northeastern.edu/event/scientific-oral-communication-commlab-drop-in-workshops-2/2025-10-08/
END:VEVENT
BEGIN:VEVENT
DTSTART;TZID=America/New_York:20251008T100000
DTEND;TZID=America/New_York:20251008T110000
DTSTAMP:20260422T215248
CREATED:20250908T134555Z
LAST-MODIFIED:20251124T145211Z
UID:53386-1759917600-1759921200@coe.northeastern.edu
SUMMARY:Crafting Posters with Visual Impact and Designing Poster Narratives:  CommLab Drop-In Hours
DESCRIPTION:Working on a poster? Stop by the CommLab Drop-In hours to brainstorm ideas\, get feedback and fine tune the visual and oral presentation of your research or project. Join any Wednesday from 10-11am in person in room 206 Egan or join virtually on Zoom. \n 
URL:https://coe.northeastern.edu/event/crafting-posters-with-visual-impact-and-designing-poster-narratives-commlab-drop-in-hours/2025-10-08/
LOCATION:206 Egan\, 360 Huntington Ave\, Boston\, MA\, 02115\, United States
GEO:42.3376753;-71.0888734
X-APPLE-STRUCTURED-LOCATION;VALUE=URI;X-ADDRESS=206 Egan 360 Huntington Ave Boston MA 02115 United States;X-APPLE-RADIUS=500;X-TITLE=360 Huntington Ave:geo:-71.0888734,42.3376753
END:VEVENT
BEGIN:VEVENT
DTSTART;TZID=America/New_York:20251007T110000
DTEND;TZID=America/New_York:20251007T120000
DTSTAMP:20260422T215248
CREATED:20250908T134505Z
LAST-MODIFIED:20250908T134505Z
UID:53346-1759834800-1759838400@coe.northeastern.edu
SUMMARY:LinkedIn\, CV\, Resume: CommLab Drop-In Hours
DESCRIPTION:Graduate students\, do you need to increase your on-line presence or update your CV or Resume?  Join the CommLab’s LinkedIn\, CV\, and Resume drop-in workshops any Tuesday from 11 pm to 12 pm ET. This collaborative space offers valuable advice and peer feedback to enhance your online profile and professional presence. Join this drop-in workshop through Zoom.
URL:https://coe.northeastern.edu/event/linkedin-cv-resume-commlab-drop-in-hours-2/2025-10-07/
LOCATION:https://coe.northeastern.edu/event/linkedin-cv-resume-commlab-drop-in-hours-2/2025-10-07/
END:VEVENT
BEGIN:VEVENT
DTSTART;TZID=America/New_York:20251007T090000
DTEND;TZID=America/New_York:20251007T110000
DTSTAMP:20260422T215248
CREATED:20250908T134713Z
LAST-MODIFIED:20250908T134713Z
UID:53423-1759827600-1759834800@coe.northeastern.edu
SUMMARY:Graduate Student Writing: CommLab Drop-In Writing Hours
DESCRIPTION:Graduate students\, are you looking for a time for focused research writing?  Join the CommLab drop-in writing hours on any Tuesday between 9 -11 am ET.  Drop in on any Tuesday and stay for a short time or two hours.  A CommLab Fellow will be available to provide feedback on your writing.  We will be meeting virtually on Zoom.
URL:https://coe.northeastern.edu/event/graduate-student-writing-commlab-drop-in-writing-hours-2/2025-10-07/
LOCATION:https://northeastern.zoom.us/j/95748947707?pwd=ajJMUYNZ9I0u8hoe5z5dyuPpBQWenI.1
END:VEVENT
BEGIN:VEVENT
DTSTART;TZID=America/New_York:20251002T150000
DTEND;TZID=America/New_York:20251002T160000
DTSTAMP:20260422T215248
CREATED:20250529T202208Z
LAST-MODIFIED:20250529T202208Z
UID:53415-1759417200-1759420800@coe.northeastern.edu
SUMMARY:Graduate Student Fellowship Writing Club
DESCRIPTION:Join the COE CommLab\, NETSI\, and the College of Science sponsored weekly graduate student fellowship writing club for support in writing your fellowship application!  The fellowship writing club meets virtually on Thursdays from 3-4 pm from September – October.  We will offer you an opportunity to ask questions to faculty\, staff and students who have reviewed\, mentored or applied and received fellowships.  We will provide fellowship writing tips and guidance as well as offer writing and draft review sessions.  Join this drop-in workshop through Zoom.
URL:https://coe.northeastern.edu/event/graduate-student-fellowship-writing-club-2/2025-10-02/
END:VEVENT
BEGIN:VEVENT
DTSTART;TZID=America/New_York:20251001T133000
DTEND;TZID=America/New_York:20251001T143000
DTSTAMP:20260422T215248
CREATED:20250908T134401Z
LAST-MODIFIED:20251124T145250Z
UID:53316-1759325400-1759329000@coe.northeastern.edu
SUMMARY:Scientific Oral Communication : CommLab Drop-In Workshops
DESCRIPTION:The NU CommLab is hosting a weekly hybrid Scientific Oral Communication Drop-in practice for graduate students. Drop-in virtually or in-person any week to practice for your upcoming oral exams\, proposals\, thesis\, dissertation or talks. Receive and implement feedback on your verbal and non-verbal public speaking skills. Drop-in any Wednesday from 1:30-2:30 pm in 306 Egan or on Zoom. Note on September 10 and October 8 the workshop will be in 334 Curry Student Center.
URL:https://coe.northeastern.edu/event/scientific-oral-communication-commlab-drop-in-workshops-2/2025-10-01/
LOCATION:https://coe.northeastern.edu/event/scientific-oral-communication-commlab-drop-in-workshops-2/2025-10-01/
END:VEVENT
BEGIN:VEVENT
DTSTART;TZID=America/New_York:20251001T100000
DTEND;TZID=America/New_York:20251001T110000
DTSTAMP:20260422T215248
CREATED:20250908T134555Z
LAST-MODIFIED:20251124T145211Z
UID:53385-1759312800-1759316400@coe.northeastern.edu
SUMMARY:Crafting Posters with Visual Impact and Designing Poster Narratives:  CommLab Drop-In Hours
DESCRIPTION:Working on a poster? Stop by the CommLab Drop-In hours to brainstorm ideas\, get feedback and fine tune the visual and oral presentation of your research or project. Join any Wednesday from 10-11am in person in room 206 Egan or join virtually on Zoom. \n 
URL:https://coe.northeastern.edu/event/crafting-posters-with-visual-impact-and-designing-poster-narratives-commlab-drop-in-hours/2025-10-01/
LOCATION:206 Egan\, 360 Huntington Ave\, Boston\, MA\, 02115\, United States
GEO:42.3376753;-71.0888734
X-APPLE-STRUCTURED-LOCATION;VALUE=URI;X-ADDRESS=206 Egan 360 Huntington Ave Boston MA 02115 United States;X-APPLE-RADIUS=500;X-TITLE=360 Huntington Ave:geo:-71.0888734,42.3376753
END:VEVENT
BEGIN:VEVENT
DTSTART;TZID=America/New_York:20250930T110000
DTEND;TZID=America/New_York:20250930T120000
DTSTAMP:20260422T215248
CREATED:20250908T134504Z
LAST-MODIFIED:20250908T134504Z
UID:53345-1759230000-1759233600@coe.northeastern.edu
SUMMARY:LinkedIn\, CV\, Resume: CommLab Drop-In Hours
DESCRIPTION:Graduate students\, do you need to increase your on-line presence or update your CV or Resume?  Join the CommLab’s LinkedIn\, CV\, and Resume drop-in workshops any Tuesday from 11 pm to 12 pm ET. This collaborative space offers valuable advice and peer feedback to enhance your online profile and professional presence. Join this drop-in workshop through Zoom.
URL:https://coe.northeastern.edu/event/linkedin-cv-resume-commlab-drop-in-hours-2/2025-09-30/
LOCATION:https://coe.northeastern.edu/event/linkedin-cv-resume-commlab-drop-in-hours-2/2025-09-30/
END:VEVENT
BEGIN:VEVENT
DTSTART;TZID=America/New_York:20250930T090000
DTEND;TZID=America/New_York:20250930T110000
DTSTAMP:20260422T215248
CREATED:20250908T134713Z
LAST-MODIFIED:20250908T134713Z
UID:53422-1759222800-1759230000@coe.northeastern.edu
SUMMARY:Graduate Student Writing: CommLab Drop-In Writing Hours
DESCRIPTION:Graduate students\, are you looking for a time for focused research writing?  Join the CommLab drop-in writing hours on any Tuesday between 9 -11 am ET.  Drop in on any Tuesday and stay for a short time or two hours.  A CommLab Fellow will be available to provide feedback on your writing.  We will be meeting virtually on Zoom.
URL:https://coe.northeastern.edu/event/graduate-student-writing-commlab-drop-in-writing-hours-2/2025-09-30/
LOCATION:https://northeastern.zoom.us/j/95748947707?pwd=ajJMUYNZ9I0u8hoe5z5dyuPpBQWenI.1
END:VEVENT
BEGIN:VEVENT
DTSTART;TZID=America/New_York:20250925T150000
DTEND;TZID=America/New_York:20250925T160000
DTSTAMP:20260422T215248
CREATED:20250529T202208Z
LAST-MODIFIED:20250529T202208Z
UID:53414-1758812400-1758816000@coe.northeastern.edu
SUMMARY:Graduate Student Fellowship Writing Club
DESCRIPTION:Join the COE CommLab\, NETSI\, and the College of Science sponsored weekly graduate student fellowship writing club for support in writing your fellowship application!  The fellowship writing club meets virtually on Thursdays from 3-4 pm from September – October.  We will offer you an opportunity to ask questions to faculty\, staff and students who have reviewed\, mentored or applied and received fellowships.  We will provide fellowship writing tips and guidance as well as offer writing and draft review sessions.  Join this drop-in workshop through Zoom.
URL:https://coe.northeastern.edu/event/graduate-student-fellowship-writing-club-2/2025-09-25/
END:VEVENT
BEGIN:VEVENT
DTSTART;TZID=America/New_York:20250924T133000
DTEND;TZID=America/New_York:20250924T143000
DTSTAMP:20260422T215248
CREATED:20250908T134401Z
LAST-MODIFIED:20251124T145250Z
UID:53315-1758720600-1758724200@coe.northeastern.edu
SUMMARY:Scientific Oral Communication : CommLab Drop-In Workshops
DESCRIPTION:The NU CommLab is hosting a weekly hybrid Scientific Oral Communication Drop-in practice for graduate students. Drop-in virtually or in-person any week to practice for your upcoming oral exams\, proposals\, thesis\, dissertation or talks. Receive and implement feedback on your verbal and non-verbal public speaking skills. Drop-in any Wednesday from 1:30-2:30 pm in 306 Egan or on Zoom. Note on September 10 and October 8 the workshop will be in 334 Curry Student Center.
URL:https://coe.northeastern.edu/event/scientific-oral-communication-commlab-drop-in-workshops-2/2025-09-24/
LOCATION:https://coe.northeastern.edu/event/scientific-oral-communication-commlab-drop-in-workshops-2/2025-09-24/
END:VEVENT
BEGIN:VEVENT
DTSTART;TZID=America/New_York:20250924T100000
DTEND;TZID=America/New_York:20250924T110000
DTSTAMP:20260422T215248
CREATED:20250908T134555Z
LAST-MODIFIED:20251124T145210Z
UID:53384-1758708000-1758711600@coe.northeastern.edu
SUMMARY:Crafting Posters with Visual Impact and Designing Poster Narratives:  CommLab Drop-In Hours
DESCRIPTION:Working on a poster? Stop by the CommLab Drop-In hours to brainstorm ideas\, get feedback and fine tune the visual and oral presentation of your research or project. Join any Wednesday from 10-11am in person in room 206 Egan or join virtually on Zoom. \n 
URL:https://coe.northeastern.edu/event/crafting-posters-with-visual-impact-and-designing-poster-narratives-commlab-drop-in-hours/2025-09-24/
LOCATION:206 Egan\, 360 Huntington Ave\, Boston\, MA\, 02115\, United States
GEO:42.3376753;-71.0888734
X-APPLE-STRUCTURED-LOCATION;VALUE=URI;X-ADDRESS=206 Egan 360 Huntington Ave Boston MA 02115 United States;X-APPLE-RADIUS=500;X-TITLE=360 Huntington Ave:geo:-71.0888734,42.3376753
END:VEVENT
BEGIN:VEVENT
DTSTART;TZID=America/New_York:20250923T110000
DTEND;TZID=America/New_York:20250923T120000
DTSTAMP:20260422T215248
CREATED:20250908T134504Z
LAST-MODIFIED:20250908T134504Z
UID:53344-1758625200-1758628800@coe.northeastern.edu
SUMMARY:LinkedIn\, CV\, Resume: CommLab Drop-In Hours
DESCRIPTION:Graduate students\, do you need to increase your on-line presence or update your CV or Resume?  Join the CommLab’s LinkedIn\, CV\, and Resume drop-in workshops any Tuesday from 11 pm to 12 pm ET. This collaborative space offers valuable advice and peer feedback to enhance your online profile and professional presence. Join this drop-in workshop through Zoom.
URL:https://coe.northeastern.edu/event/linkedin-cv-resume-commlab-drop-in-hours-2/2025-09-23/
LOCATION:https://coe.northeastern.edu/event/linkedin-cv-resume-commlab-drop-in-hours-2/2025-09-23/
END:VEVENT
BEGIN:VEVENT
DTSTART;TZID=America/New_York:20250923T090000
DTEND;TZID=America/New_York:20250923T110000
DTSTAMP:20260422T215248
CREATED:20250908T134713Z
LAST-MODIFIED:20250908T134713Z
UID:53421-1758618000-1758625200@coe.northeastern.edu
SUMMARY:Graduate Student Writing: CommLab Drop-In Writing Hours
DESCRIPTION:Graduate students\, are you looking for a time for focused research writing?  Join the CommLab drop-in writing hours on any Tuesday between 9 -11 am ET.  Drop in on any Tuesday and stay for a short time or two hours.  A CommLab Fellow will be available to provide feedback on your writing.  We will be meeting virtually on Zoom.
URL:https://coe.northeastern.edu/event/graduate-student-writing-commlab-drop-in-writing-hours-2/2025-09-23/
LOCATION:https://northeastern.zoom.us/j/95748947707?pwd=ajJMUYNZ9I0u8hoe5z5dyuPpBQWenI.1
END:VEVENT
BEGIN:VEVENT
DTSTART;TZID=America/New_York:20250918T150000
DTEND;TZID=America/New_York:20250918T160000
DTSTAMP:20260422T215248
CREATED:20250529T202208Z
LAST-MODIFIED:20250529T202208Z
UID:53413-1758207600-1758211200@coe.northeastern.edu
SUMMARY:Graduate Student Fellowship Writing Club
DESCRIPTION:Join the COE CommLab\, NETSI\, and the College of Science sponsored weekly graduate student fellowship writing club for support in writing your fellowship application!  The fellowship writing club meets virtually on Thursdays from 3-4 pm from September – October.  We will offer you an opportunity to ask questions to faculty\, staff and students who have reviewed\, mentored or applied and received fellowships.  We will provide fellowship writing tips and guidance as well as offer writing and draft review sessions.  Join this drop-in workshop through Zoom.
URL:https://coe.northeastern.edu/event/graduate-student-fellowship-writing-club-2/2025-09-18/
END:VEVENT
BEGIN:VEVENT
DTSTART;TZID=America/New_York:20250917T133000
DTEND;TZID=America/New_York:20250917T143000
DTSTAMP:20260422T215248
CREATED:20250908T134401Z
LAST-MODIFIED:20251124T145249Z
UID:53314-1758115800-1758119400@coe.northeastern.edu
SUMMARY:Scientific Oral Communication : CommLab Drop-In Workshops
DESCRIPTION:The NU CommLab is hosting a weekly hybrid Scientific Oral Communication Drop-in practice for graduate students. Drop-in virtually or in-person any week to practice for your upcoming oral exams\, proposals\, thesis\, dissertation or talks. Receive and implement feedback on your verbal and non-verbal public speaking skills. Drop-in any Wednesday from 1:30-2:30 pm in 306 Egan or on Zoom. Note on September 10 and October 8 the workshop will be in 334 Curry Student Center.
URL:https://coe.northeastern.edu/event/scientific-oral-communication-commlab-drop-in-workshops-2/2025-09-17/
LOCATION:https://coe.northeastern.edu/event/scientific-oral-communication-commlab-drop-in-workshops-2/2025-09-17/
END:VEVENT
BEGIN:VEVENT
DTSTART;TZID=America/New_York:20250917T100000
DTEND;TZID=America/New_York:20250917T110000
DTSTAMP:20260422T215248
CREATED:20250908T134555Z
LAST-MODIFIED:20251124T145209Z
UID:53383-1758103200-1758106800@coe.northeastern.edu
SUMMARY:Crafting Posters with Visual Impact and Designing Poster Narratives:  CommLab Drop-In Hours
DESCRIPTION:Working on a poster? Stop by the CommLab Drop-In hours to brainstorm ideas\, get feedback and fine tune the visual and oral presentation of your research or project. Join any Wednesday from 10-11am in person in room 206 Egan or join virtually on Zoom. \n 
URL:https://coe.northeastern.edu/event/crafting-posters-with-visual-impact-and-designing-poster-narratives-commlab-drop-in-hours/2025-09-17/
LOCATION:206 Egan\, 360 Huntington Ave\, Boston\, MA\, 02115\, United States
GEO:42.3376753;-71.0888734
X-APPLE-STRUCTURED-LOCATION;VALUE=URI;X-ADDRESS=206 Egan 360 Huntington Ave Boston MA 02115 United States;X-APPLE-RADIUS=500;X-TITLE=360 Huntington Ave:geo:-71.0888734,42.3376753
END:VEVENT
BEGIN:VEVENT
DTSTART;TZID=America/New_York:20250916T110000
DTEND;TZID=America/New_York:20250916T120000
DTSTAMP:20260422T215248
CREATED:20250908T134503Z
LAST-MODIFIED:20250908T134503Z
UID:53343-1758020400-1758024000@coe.northeastern.edu
SUMMARY:LinkedIn\, CV\, Resume: CommLab Drop-In Hours
DESCRIPTION:Graduate students\, do you need to increase your on-line presence or update your CV or Resume?  Join the CommLab’s LinkedIn\, CV\, and Resume drop-in workshops any Tuesday from 11 pm to 12 pm ET. This collaborative space offers valuable advice and peer feedback to enhance your online profile and professional presence. Join this drop-in workshop through Zoom.
URL:https://coe.northeastern.edu/event/linkedin-cv-resume-commlab-drop-in-hours-2/2025-09-16/
LOCATION:https://coe.northeastern.edu/event/linkedin-cv-resume-commlab-drop-in-hours-2/2025-09-16/
END:VEVENT
BEGIN:VEVENT
DTSTART;TZID=America/New_York:20250916T090000
DTEND;TZID=America/New_York:20250916T110000
DTSTAMP:20260422T215248
CREATED:20250908T134713Z
LAST-MODIFIED:20250908T134713Z
UID:53420-1758013200-1758020400@coe.northeastern.edu
SUMMARY:Graduate Student Writing: CommLab Drop-In Writing Hours
DESCRIPTION:Graduate students\, are you looking for a time for focused research writing?  Join the CommLab drop-in writing hours on any Tuesday between 9 -11 am ET.  Drop in on any Tuesday and stay for a short time or two hours.  A CommLab Fellow will be available to provide feedback on your writing.  We will be meeting virtually on Zoom.
URL:https://coe.northeastern.edu/event/graduate-student-writing-commlab-drop-in-writing-hours-2/2025-09-16/
LOCATION:https://northeastern.zoom.us/j/95748947707?pwd=ajJMUYNZ9I0u8hoe5z5dyuPpBQWenI.1
END:VEVENT
BEGIN:VEVENT
DTSTART;TZID=America/New_York:20250911T150000
DTEND;TZID=America/New_York:20250911T160000
DTSTAMP:20260422T215248
CREATED:20250529T202208Z
LAST-MODIFIED:20250908T134305Z
UID:51041-1757602800-1757606400@coe.northeastern.edu
SUMMARY:Graduate Student Fellowship Writing Club
DESCRIPTION:Join the COE CommLab\, NETSI\, and the College of Science sponsored weekly graduate student fellowship writing club for support in writing your fellowship application!  The fellowship writing club meets virtually on Thursdays from 3-4 pm from September – October.  We will offer you an opportunity to ask questions to faculty\, staff and students who have reviewed\, mentored or applied and received fellowships.  We will provide fellowship writing tips and guidance as well as offer writing and draft review sessions.  Join this drop-in workshop through Zoom.
URL:https://coe.northeastern.edu/event/graduate-student-fellowship-writing-club-2/2025-09-11/
END:VEVENT
BEGIN:VEVENT
DTSTART;TZID=America/New_York:20250910T133000
DTEND;TZID=America/New_York:20250910T143000
DTSTAMP:20260422T215248
CREATED:20250908T134401Z
LAST-MODIFIED:20251124T145249Z
UID:53313-1757511000-1757514600@coe.northeastern.edu
SUMMARY:Scientific Oral Communication : CommLab Drop-In Workshops
DESCRIPTION:The NU CommLab is hosting a weekly hybrid Scientific Oral Communication Drop-in practice for graduate students. Drop-in virtually or in-person any week to practice for your upcoming oral exams\, proposals\, thesis\, dissertation or talks. Receive and implement feedback on your verbal and non-verbal public speaking skills. Drop-in any Wednesday from 1:30-2:30 pm in 306 Egan or on Zoom. Note on September 10 and October 8 the workshop will be in 334 Curry Student Center.
URL:https://coe.northeastern.edu/event/scientific-oral-communication-commlab-drop-in-workshops-2/2025-09-10/
LOCATION:https://coe.northeastern.edu/event/scientific-oral-communication-commlab-drop-in-workshops-2/2025-09-10/
END:VEVENT
END:VCALENDAR