BEGIN:VCALENDAR
VERSION:2.0
PRODID:-//Northeastern University College of Engineering - ECPv6.15.20//NONSGML v1.0//EN
CALSCALE:GREGORIAN
METHOD:PUBLISH
X-WR-CALNAME:Northeastern University College of Engineering
X-ORIGINAL-URL:https://coe.northeastern.edu
X-WR-CALDESC:Events for Northeastern University College of Engineering
REFRESH-INTERVAL;VALUE=DURATION:PT1H
X-Robots-Tag:noindex
X-PUBLISHED-TTL:PT1H
BEGIN:VTIMEZONE
TZID:America/New_York
BEGIN:DAYLIGHT
TZOFFSETFROM:-0500
TZOFFSETTO:-0400
TZNAME:EDT
DTSTART:20230312T070000
END:DAYLIGHT
BEGIN:STANDARD
TZOFFSETFROM:-0400
TZOFFSETTO:-0500
TZNAME:EST
DTSTART:20231105T060000
END:STANDARD
BEGIN:DAYLIGHT
TZOFFSETFROM:-0500
TZOFFSETTO:-0400
TZNAME:EDT
DTSTART:20240310T070000
END:DAYLIGHT
BEGIN:STANDARD
TZOFFSETFROM:-0400
TZOFFSETTO:-0500
TZNAME:EST
DTSTART:20241103T060000
END:STANDARD
BEGIN:DAYLIGHT
TZOFFSETFROM:-0500
TZOFFSETTO:-0400
TZNAME:EDT
DTSTART:20250309T070000
END:DAYLIGHT
BEGIN:STANDARD
TZOFFSETFROM:-0400
TZOFFSETTO:-0500
TZNAME:EST
DTSTART:20251102T060000
END:STANDARD
END:VTIMEZONE
BEGIN:VEVENT
DTSTART;TZID=America/New_York:20241107T170000
DTEND;TZID=America/New_York:20241107T183000
DTSTAMP:20260424T164218
CREATED:20241106T145459Z
LAST-MODIFIED:20241106T145723Z
UID:47701-1730998800-1731004200@coe.northeastern.edu
SUMMARY:Reflections of the Outcomes of the 2024 Elections
DESCRIPTION:Campaign experts Costas Panagopoulos\, Distinguished Professor of Political Science at Northeastern University and Arnon Mishkin\, Decision Desk Director at Fox News\, discuss the results on the November 2024 elections and the implications for American politics. \nSponsoring Organization: Department of Political Science
URL:https://coe.northeastern.edu/event/reflections-of-the-outcomes-of-the-2024-elections/
LOCATION:320 Shillman\, 360 Huntington Ave\, 320 Shillman\, Boston\, MA\, 02115\, United States
END:VEVENT
BEGIN:VEVENT
DTSTART;TZID=America/New_York:20241024T170000
DTEND;TZID=America/New_York:20241024T183000
DTSTAMP:20260424T164218
CREATED:20241008T172622Z
LAST-MODIFIED:20241008T172622Z
UID:46856-1729789200-1729794600@coe.northeastern.edu
SUMMARY:PATHFINDER Welcome Event
DESCRIPTION:Join us for this introductory event to learn more about the College of Engineering Neurodiversity Initiative. The COE Neurodiversity Initiative offers students who self-identify resources in belonging on campus\, social and emotional support\, and co-op skills. \nWHO SHOULD ATTEND \n\nCOE students who self-identify as neurodiverse\, including\, but not limited to\, students who are autistic\, ADHD\, dyslexic\n\nWHY THEY SHOULD ATTEND \n\nTo learn more about the Neurodiversity Initiative and our services with our student coaches\, meet the NI team\, and establish community.\n\nBENEFITS OF NEURODIVERSITY INITIATIVE SUPPORT \n\nHeightened acceptance and diminished stigmas of concealed disabilities\nEarly identification and support for students for co-op\nStrengthened sense of belonging\nElevated participation in co-op\nGreater diversity and improved operational agility for employers\nEnhanced employment prospects\, economic independence\, and autonomy after graduation\nDissemination of neurodiversity best practices for broader adoption\nIncreased retention of neurodivergent students\nEstablishment of a common understanding for creating sustainable and mutually beneficial employment matches\nThere is no diagnosis or fee required\n\nEVENT DETAILS\nDate: Thursday\, October 24\nTime: 5:00 to 6:30 PM\nPlace: Shillman 320 \nPizza and other refreshments will be provided. \nLEARN MORE neurodiversityinitiative@northeastern.edu \nLink to Register: Pathfinders (smartsheet.com)
URL:https://coe.northeastern.edu/event/pathfinder-welcome-event/
LOCATION:320 Shillman\, 360 Huntington Ave\, 320 Shillman\, Boston\, MA\, 02115\, United States
END:VEVENT
END:VCALENDAR