BEGIN:VCALENDAR
VERSION:2.0
PRODID:-//Northeastern University College of Engineering - ECPv6.15.18//NONSGML v1.0//EN
CALSCALE:GREGORIAN
METHOD:PUBLISH
X-WR-CALNAME:Northeastern University College of Engineering
X-ORIGINAL-URL:https://coe.northeastern.edu
X-WR-CALDESC:Events for Northeastern University College of Engineering
REFRESH-INTERVAL;VALUE=DURATION:PT1H
X-Robots-Tag:noindex
X-PUBLISHED-TTL:PT1H
BEGIN:VTIMEZONE
TZID:America/New_York
BEGIN:DAYLIGHT
TZOFFSETFROM:-0500
TZOFFSETTO:-0400
TZNAME:EDT
DTSTART:20220313T070000
END:DAYLIGHT
BEGIN:STANDARD
TZOFFSETFROM:-0400
TZOFFSETTO:-0500
TZNAME:EST
DTSTART:20221106T060000
END:STANDARD
BEGIN:DAYLIGHT
TZOFFSETFROM:-0500
TZOFFSETTO:-0400
TZNAME:EDT
DTSTART:20230312T070000
END:DAYLIGHT
BEGIN:STANDARD
TZOFFSETFROM:-0400
TZOFFSETTO:-0500
TZNAME:EST
DTSTART:20231105T060000
END:STANDARD
BEGIN:DAYLIGHT
TZOFFSETFROM:-0500
TZOFFSETTO:-0400
TZNAME:EDT
DTSTART:20240310T070000
END:DAYLIGHT
BEGIN:STANDARD
TZOFFSETFROM:-0400
TZOFFSETTO:-0500
TZNAME:EST
DTSTART:20241103T060000
END:STANDARD
BEGIN:DAYLIGHT
TZOFFSETFROM:-0500
TZOFFSETTO:-0400
TZNAME:EDT
DTSTART:20250309T070000
END:DAYLIGHT
BEGIN:STANDARD
TZOFFSETFROM:-0400
TZOFFSETTO:-0500
TZNAME:EST
DTSTART:20251102T060000
END:STANDARD
END:VTIMEZONE
BEGIN:VEVENT
DTSTART;TZID=America/New_York:20240429T110000
DTEND;TZID=America/New_York:20240429T130000
DTSTAMP:20260420T202915
CREATED:20240129T143802Z
LAST-MODIFIED:20240321T134835Z
UID:41744-1714388400-1714395600@coe.northeastern.edu
SUMMARY:CommLab Writing Hours
DESCRIPTION:Graduate students\, are you looking for a place for focused research writing time?  Join the CommLab for writing hours on Mondays from 11 am-1 pm ET.  Drop in any Monday and stay for a short time or the whole two hours.  CommLab Fellows will be available to provide feedback on your writing.  We will be meeting in 335 Curry Student Center.
URL:https://coe.northeastern.edu/event/commlab-writing-hours-2/2024-04-29/
LOCATION:335 CSC\, 360 Huntington Ave\, CSC\, Boston\, MA\, 02115\, United States
GEO:42.339110916473;-71.087682620746
X-APPLE-STRUCTURED-LOCATION;VALUE=URI;X-ADDRESS=335 CSC 360 Huntington Ave CSC Boston MA 02115 United States;X-APPLE-RADIUS=500;X-TITLE=360 Huntington Ave\, CSC:geo:-71.087682620746,42.339110916473
END:VEVENT
BEGIN:VEVENT
DTSTART;TZID=America/New_York:20240422T110000
DTEND;TZID=America/New_York:20240422T130000
DTSTAMP:20260420T202915
CREATED:20240129T143802Z
LAST-MODIFIED:20240321T134835Z
UID:41743-1713783600-1713790800@coe.northeastern.edu
SUMMARY:CommLab Writing Hours
DESCRIPTION:Graduate students\, are you looking for a place for focused research writing time?  Join the CommLab for writing hours on Mondays from 11 am-1 pm ET.  Drop in any Monday and stay for a short time or the whole two hours.  CommLab Fellows will be available to provide feedback on your writing.  We will be meeting in 335 Curry Student Center.
URL:https://coe.northeastern.edu/event/commlab-writing-hours-2/2024-04-22/
LOCATION:335 CSC\, 360 Huntington Ave\, CSC\, Boston\, MA\, 02115\, United States
GEO:42.339110916473;-71.087682620746
X-APPLE-STRUCTURED-LOCATION;VALUE=URI;X-ADDRESS=335 CSC 360 Huntington Ave CSC Boston MA 02115 United States;X-APPLE-RADIUS=500;X-TITLE=360 Huntington Ave\, CSC:geo:-71.087682620746,42.339110916473
END:VEVENT
BEGIN:VEVENT
DTSTART;TZID=America/New_York:20240129T110000
DTEND;TZID=America/New_York:20240129T130000
DTSTAMP:20260420T202915
CREATED:20240129T143802Z
LAST-MODIFIED:20240321T135106Z
UID:41730-1706526000-1706533200@coe.northeastern.edu
SUMMARY:CommLab Writing Hours
DESCRIPTION:Graduate students\, are you looking for a place for focused research writing time?  Join the CommLab for writing hours on Mondays from 11 am-1 pm ET.  Drop in any Monday and stay for a short time or the whole two hours.  CommLab Fellows will be available to provide feedback on your writing.  We will be meeting in 335 Curry Student Center.
URL:https://coe.northeastern.edu/event/commlab-writing-hours-2/2024-01-29/
LOCATION:335 CSC\, 360 Huntington Ave\, CSC\, Boston\, MA\, 02115\, United States
GEO:42.339110916473;-71.087682620746
X-APPLE-STRUCTURED-LOCATION;VALUE=URI;X-ADDRESS=335 CSC 360 Huntington Ave CSC Boston MA 02115 United States;X-APPLE-RADIUS=500;X-TITLE=360 Huntington Ave\, CSC:geo:-71.087682620746,42.339110916473
END:VEVENT
BEGIN:VEVENT
DTSTART;TZID=America/New_York:20230518T160000
DTEND;TZID=America/New_York:20230518T170000
DTSTAMP:20260420T202915
CREATED:20230515T134515Z
LAST-MODIFIED:20230515T134515Z
UID:37002-1684425600-1684429200@coe.northeastern.edu
SUMMARY:Designing a Research Poster:  A CommLab Series
DESCRIPTION:Join the CommLab to work on your research poster.  Whether you are designing\, editing or delivering a poster\, this series will help you through whichever stage you are in.  May 18th will focus on design\, May 25 and June 1 will focus on editing and June 8 will focus on presenting.  This series will be hybrid.  Join us in 335 Curry Student Center or on Zoom.
URL:https://coe.northeastern.edu/event/designing-a-research-poster-a-commlab-series/2023-05-18/
LOCATION:335 CSC\, 360 Huntington Ave\, CSC\, Boston\, MA\, 02115\, United States
GEO:42.339110916473;-71.087682620746
X-APPLE-STRUCTURED-LOCATION;VALUE=URI;X-ADDRESS=335 CSC 360 Huntington Ave CSC Boston MA 02115 United States;X-APPLE-RADIUS=500;X-TITLE=360 Huntington Ave\, CSC:geo:-71.087682620746,42.339110916473
END:VEVENT
END:VCALENDAR